{"text_format":"1","workbook":"xlsx","n_sheets":10,"sheets":["Hulp bij invullen","Ref.datum & disciplines","Algemene inl.","Solo","Duo","Ensemble (klein team)","Team","Groep","G-line","Overzicht deelnames"],"not_rendered":{"charts":0,"images":7,"macros":1,"external_links":0,"defined_names":4,"comments":0,"pivot_tables":0},"unopened":[],"bounds":{"document_bytes":16777216,"sheet_cells":100000,"rows_first":2000,"rows_last":500,"rows_between":2000,"halvings":0,"cell_chars":16384,"cell_head_chars":4096},"cells_cut":0,"cells_raw":0,"read":"whole","date_system":"1900"}

{"sheet":"Hulp bij invullen","index":0,"n_rows":17,"n_cols":1,"rows_kept":17,"cut":false,"hidden":false,"merged":[]}
["HULP BIJ INVULLEN"]
["HOE WERK JE MET EEN KEUZEMENU? Klik in het vakje dat je wil invullen, zodat er naast het vakje een pijltje verschijnt. Klik op dit pijltje en kies de juiste gegevens uit het keuzemenu."]
["A. TABBLAD ALGEMEEN"]
["HEEL BELANGRIJK!!! Vul het tabblad \"Algemene inl.\" volledig en juist in"]
["A1. GEGEVENS WEDSTRIJD - Kies de juiste wedstrijd in het keuzemenu → eerste grijze balk (\"Duid hier de wedstrijd aan\"). Andere gegevens zoals plaats en datum worden automatisch ingevuld. "]
["A2. VOORNAAM + ACHTERNAAM - Vul steeds eerst de voornaam in, gevolgd door de achternaam. Typ niet alles in hoofdletters, enkel de eerste letter."]
["A3. GEBOORTEDATUM - Vul de juiste geboortedatum zoals voorbeeld: 17/05/2000 (met schuine streepjes tussen zonder spaties). De leeftijd en leeftijdscategorie worden dan in de disciplines automatisch berekend."]
["B. TABBLADEN SOLO, DUO, …"]
["B1. DISCIPLINE - Klik in het vakje \"discipline\" en kies de juiste discipline uit het keuzemenu. LET OP: bij solo dance twirl en solo accessoires wordt er een verschil gemaakt tussen meisjes en jongens - kies in deze disciplines voor \"girl\" of \"boy\""]
["B2. VOORNAAM + ACHTERNAAM - Klik in het vakje \"voornaam + achternaam\" en kies de juiste naam uit het keuzemenu."]
["B3. MEERDERE DEELNAMES DAN TABELLEN - Heb je meer deelnames dan er invultabellen zijn, stuur dan een bericht naar VLAMO voor hulp. Maak zeker zelf geen extra tabbladen aan."]
["C. OVERZICHT ALLE DEELNAMES"]
["C1. CONTROLE - Controleer of alle deelnames ingegeven werden. Ga naar tabblad \"Overzicht alle deelnames\", Klik op \"creëer overzicht alle deelnames\". Wacht tot het scherm \"lijst deelnames samengesteld\" verschijnt en klik op OK. Als deze lijst klopt, heb je alles juist ingevuld in de afzonderlijke tabbladen. LET OP: WIJZIG NIETS IN DEZE LIJST, maar maak indien nodig enkel aanpassingen op de afzonderlijke tabbladen en creëer het overzicht opnieuw."]
["D. VARIA"]
["D1. WITREGELS - Laat geen witregels in de tabellen."]
["D2. VERGRENDELING CELLEN - Vul enkel de lichtgrijze vakken in, andere vakken zijn vergrendeld en kunnen niet ingevuld of gewijzigd worden."]
["D3. FOUTMELDING - Indien je een foutmelding krijgt, neem dan contact op met VLAMO"]

{"sheet":"Ref.datum & disciplines","index":1,"n_rows":129,"n_cols":6,"rows_kept":129,"cut":false,"hidden":true,"merged":[[8,2,8,10]]}
["REFERENTIEDATUM LEEFTIJD"]
["31/12/2022"]
[]
["DISCIPLINES SOLO","DISCIPLINES SOLO G-LINE"]
["Solo 1 baton","Solo dance twirl G-line A"]
["Solo 2 baton","Solo dance twirl G-line B"]
["Solo 3 baton","Solo acc G-line A"]
["Solo dance twirl/rhythmic girl","Solo acc G-line B"]
["Solo dance twirl/rhythmic boy",null,"-> opgelet: om een verschil te kunnen maken bij de leeftijden voor dance tussen boy/girl moet in cel A9 steeds de categorie voor de boys blijven staan!!!"]
["Super X strut"]
["Solo accessoires girl"]
["Solo accessoires boy"]
["DISCIPLINES DUO","DISCIPLINES DUO G-LINE"]
["Duo twirling","Duo dance twirl G-line A"]
["Duo dance twirl","Duo dance twirl G-line B"]
["Duo accessoires","Duo accessoires G-line A"]
[null,"Duo accessoires G-line B"]
[]
["DISCIPLINES ENSEMBLE (3-4 deeln.)"]
["Ensemble dance twirl"]
[]
["DISCIPLINES TEAM (5-9 deeln.)","DISCIPLINES TEAM G-LINE (3-9 deeln.)"]
["Team dance twirl","Team dance twirl G-line A"]
["Team twirling","Team dance twirl G-line B"]
["Team accessoires","Team accessoires G-line A"]
["Baton flag team","Team accessoires G-line B"]
[]
["DISCIPLINES CORPS (vanaf 10 deeln.)","DISCIPLINES CORPS G-LINE (vanaf 10 deeln.)"]
["Twirling corps","Twirling corps G-line"]
["Pompon corps","Pompon corps G-line"]
["Accessoires corps","Accessoires corps G-line"]
["Exhibition corps"]
["Parade corps"]
["CATEGORIEEN DANCE BOYS"]
["jaren","cat"]
[]
[4,"preteen boy"]
[5,"preteen boy"]
[6,"preteen boy"]
[7,"preteen boy"]
[8,"preteen boy"]
[9,"preteen boy"]
[10,"preteen boy"]
[11,"preteen boy"]
[12,"junior boy"]
[13,"junior boy"]
[14,"junior boy"]
[15,"junior boy"]
[16,"junior boy"]
[17,"junior boy"]
[18,"senior boy"]
[19,"senior boy"]
[20,"senior boy"]
[21,"senior boy"]
[22,"senior boy"]
[23,"senior boy"]
[24,"senior boy"]
[25,"senior boy"]
[26,"senior boy"]
[27,"senior boy"]
[28,"senior boy"]
[29,"senior boy"]
[30,"senior boy"]
[31,"senior boy"]
[32,"senior boy"]
[33,"senior boy"]
[34,"senior boy"]
[35,"senior boy"]
[]
["CATEGORIEEN SOLO-DUO-TEAM-GROEP"]
["jaren-solo","cat-solo"]
[]
[4,"juvenile"]
[5,"juvenile"]
[6,"juvenile"]
[7,"juvenile"]
[8,"juvenile"]
[9,"juvenile"]
[10,"preteen"]
[11,"preteen"]
[12,"jeugd"]
[13,"jeugd"]
[14,"jeugd"]
[15,"junior"]
[16,"junior"]
[17,"junior"]
[18,"senior"]
[19,"senior"]
[20,"senior"]
[21,"senior"]
[22,"adult"]
[null,"adult"]
[24,"adult"]
[25,"adult"]
[26,"adult"]
[27,"adult"]
[28,"adult"]
[29,"adult"]
[30,"adult"]
[31,"adult"]
[32,"adult"]
[33,"adult"]
[34,"adult"]
[35,"adult"]
[]
[]
["WEDSTRIJDEN IN ALFABETISCHE VOLGORDE!!!!!"]
["Selecteer wedstrijd","Plaats-Datum","organisatie","adres1","adres2","Titel inschrijvingsformulier"]
["Duid hier de wedstrijd aan"]
["Eurowisseltrofee","Houthalen/Balen - 19-20/02/2022","VLAMO","Charles de Kerchovelaan 17","9000 Gent","VLAMO majo/twirl"]
["Finale","Leuven -  13/03/2022","VLAMO","Charles de Kerchovelaan 17","9000 Gent","VLAMO majo/twirl"]
["PK Antwerpen","Herentals -  28/11/2021","VLAMO Antwerpen","Boerenkrijglaan 61","2260 Westerlo","VLAMO majo/twirl"]
["PK Limburg","Houthalen - 13-14/11/2021","VLAMO Limburg","Grote Baan 106/2","3530 Houthalen","VLAMO majo/twirl"]
["PK Vlaams-Brabant","Diest - 20/11/2021","VLAMO Vlaams-Brabant","Leuvensesteenweg 283","3370 Boutersem","VLAMO majo/twirl"]
["PK West-/Oost-Vlaanderen","Brugge - 24/10/2021","VLAMO West-/Oost-Vlaanderen","Conservatoriumplein 1","8500 Kortrijk","VLAMO majo/twirl"]
["Vrije wedstrijd De Zonnebloempjes","Lommel - 2021","De Zonnebloempjes Gelderhorsten","dezonnebloempjes@gmail.com"," ","Gelderhorsten"]
["Vrije wedstrijd Heibloem","Meeuwen - 12/09/2021","De Heibloem Meeuwen","Leliestraat 8","3670 Oudsbergen","Meeuwen"]
["Vrije wedstrijd The Twirlstars","Lanaken","The Twirlstars Lanaken","Steegstraat 33","3620 Lanaken","Lanaken"]
[]
[]
[]
[]
[]
[]
["Titel formulier","Logo"]
["VLAMO majo/twirl"]
["Gelderhorsten"]
["Lanaken"]
["Meeuwen"]

{"sheet":"Algemene inl.","index":2,"n_rows":68,"n_cols":7,"rows_kept":68,"cut":false,"hidden":false,"merged":[[14,1,14,3],[19,2,19,3],[18,1,18,3],[17,1,17,3],[16,1,16,3],[15,1,15,3],[12,1,12,3],[13,1,13,3],[6,0,6,3],[8,12,8,17],[9,0,9,3],[7,13,7,18],[4,13,6,18],[5,0,5,3],[7,0,7,3],[8,0,8,3]]}
[null,null,null,{"$f":"_xlfn.IFNA(G1,\" \")","v":0},null,{"$f":"_xlfn.IFNA(VLOOKUP(G7,Tabel_wedstrijden[],3),\" \")","v":0},{"$f":"IF(A8=\"Andere vrije wedstrijd\", A9,_xlfn.IFNA(F1,\" \"))","v":0}]
[null,null,null,{"$f":"_xlfn.IFNA(G2,\" \")","v":0},null,null,{"$f":"_xlfn.IFNA(VLOOKUP(G7,Tabel_wedstrijden[],4),\" \")","v":0}]
[null,null,null,0,null,null,{"$f":"_xlfn.IFNA(VLOOKUP(G7,Tabel_wedstrijden[],5),\" \")","v":0}]
[]
[]
[{"$f":"\"Inschrijvingsformulier \" & IF(G6=0,\"\",G6)","v":"Inschrijvingsformulier "},null,null,null,null,null,{"$f":"_xlfn.IFNA(VLOOKUP(G7,Tabel_wedstrijden[],6),\" \")","v":0}]
[null,null,null,null,null,null,"Duid hier de wedstrijd aan"]
[]
[{"$f":"IF(G7=\"Andere vrije wedstrijd\", IF(M9=0,\" \",M9),_xlfn.IFNA(VLOOKUP(G7,Tabel_wedstrijden[],2),\" \"))","v":0}]
[]
["GEGEVENS VERENIGING"]
[]
["Naam + locatie"]
["Lidnummer"]
["Straat + nr."]
["Postcode + plaats"]
["Contactpersoon"]
["E-mail"]
["Tel./GSM"]
["Gegevens leden"]
[]
["Voornaam + achternaam","Geboortedatum","M/V","Postcode + woonplaats",null,"sorted"]
[null,null,null,null,null,{"$f":"COUNTIF($A$23:$A$63,\"<=\"&A23)","v":0},{"$f":"IF(F23>0,INDEX($A$23:$A$63,MATCH(ROWS($F$23:F23),$F$23:$F$63,0)),\" \")","v":" "}]
[null,null,null,null,null,{"$f":"COUNTIF($A$23:$A$63,\"<=\"&A24)","v":0},{"$f":"IF(F24>0,INDEX($A$23:$A$63,MATCH(ROWS($F$23:F24),$F$23:$F$63,0)),\" \")","v":" "}]
[null,null,null,null,null,0,{"$f":"IF(F25>0,INDEX($A$23:$A$63,MATCH(ROWS($F$23:F25),$F$23:$F$63,0)),\" \")","v":" "}]
[null,null,null,null,null,0,{"$f":"IF(F26>0,INDEX($A$23:$A$63,MATCH(ROWS($F$23:F26),$F$23:$F$63,0)),\" \")","v":" "}]
[null,null,null,null,null,0,{"$f":"IF(F27>0,INDEX($A$23:$A$63,MATCH(ROWS($F$23:F27),$F$23:$F$63,0)),\" \")","v":" "}]
[null,null,null,null,null,0,{"$f":"IF(F28>0,INDEX($A$23:$A$63,MATCH(ROWS($F$23:F28),$F$23:$F$63,0)),\" \")","v":" "}]
[null,null,null,null,null,0,{"$f":"IF(F29>0,INDEX($A$23:$A$63,MATCH(ROWS($F$23:F29),$F$23:$F$63,0)),\" \")","v":" "}]
[null,null,null,null,null,0,{"$f":"IF(F30>0,INDEX($A$23:$A$63,MATCH(ROWS($F$23:F30),$F$23:$F$63,0)),\" \")","v":" "}]
[null,null,null,null,null,0,{"$f":"IF(F31>0,INDEX($A$23:$A$63,MATCH(ROWS($F$23:F31),$F$23:$F$63,0)),\" \")","v":" "}]
[null,null,null,null,null,0,{"$f":"IF(F32>0,INDEX($A$23:$A$63,MATCH(ROWS($F$23:F32),$F$23:$F$63,0)),\" \")","v":" "}]
[null,null,null,null,null,0,{"$f":"IF(F33>0,INDEX($A$23:$A$63,MATCH(ROWS($F$23:F33),$F$23:$F$63,0)),\" \")","v":" "}]
[null,null,null,null,null,0,{"$f":"IF(F34>0,INDEX($A$23:$A$63,MATCH(ROWS($F$23:F34),$F$23:$F$63,0)),\" \")","v":" "}]
[null,null,null,null,null,0,{"$f":"IF(F35>0,INDEX($A$23:$A$63,MATCH(ROWS($F$23:F35),$F$23:$F$63,0)),\" \")","v":" "}]
[null,null,null,null,null,0,{"$f":"IF(F36>0,INDEX($A$23:$A$63,MATCH(ROWS($F$23:F36),$F$23:$F$63,0)),\" \")","v":" "}]
[null,null,null,null,null,0,{"$f":"IF(F37>0,INDEX($A$23:$A$63,MATCH(ROWS($F$23:F37),$F$23:$F$63,0)),\" \")","v":" "}]
[null,null,null,null,null,0,{"$f":"IF(F38>0,INDEX($A$23:$A$63,MATCH(ROWS($F$23:F38),$F$23:$F$63,0)),\" \")","v":" "}]
[null,null,null,null,null,0,{"$f":"IF(F39>0,INDEX($A$23:$A$63,MATCH(ROWS($F$23:F39),$F$23:$F$63,0)),\" \")","v":" "}]
[null,null,null,null,null,0,{"$f":"IF(F40>0,INDEX($A$23:$A$63,MATCH(ROWS($F$23:F40),$F$23:$F$63,0)),\" \")","v":" "}]
[null,null,null,null,null,0,{"$f":"IF(F41>0,INDEX($A$23:$A$63,MATCH(ROWS($F$23:F41),$F$23:$F$63,0)),\" \")","v":" "}]
[null,null,null,null,null,0,{"$f":"IF(F42>0,INDEX($A$23:$A$63,MATCH(ROWS($F$23:F42),$F$23:$F$63,0)),\" \")","v":" "}]
[null,null,null,null,null,0,{"$f":"IF(F43>0,INDEX($A$23:$A$63,MATCH(ROWS($F$23:F43),$F$23:$F$63,0)),\" \")","v":" "}]
[null,null,null,null,null,0,{"$f":"IF(F44>0,INDEX($A$23:$A$63,MATCH(ROWS($F$23:F44),$F$23:$F$63,0)),\" \")","v":" "}]
[null,null,null,null,null,{"$f":"COUNTIF($A$23:$A$63,\"<=\"&A45)","v":0},{"$f":"IF(F45>0,INDEX($A$23:$A$63,MATCH(ROWS($F$23:F45),$F$23:$F$63,0)),\" \")","v":" "}]
[null,null,null,null,null,0,{"$f":"IF(F46>0,INDEX($A$23:$A$63,MATCH(ROWS($F$23:F46),$F$23:$F$63,0)),\" \")","v":" "}]
[null,null,null,null,null,0,{"$f":"IF(F47>0,INDEX($A$23:$A$63,MATCH(ROWS($F$23:F47),$F$23:$F$63,0)),\" \")","v":" "}]
[null,null,null,null,null,0,{"$f":"IF(F48>0,INDEX($A$23:$A$63,MATCH(ROWS($F$23:F48),$F$23:$F$63,0)),\" \")","v":" "}]
[null,null,null,null,null,0,{"$f":"IF(F49>0,INDEX($A$23:$A$63,MATCH(ROWS($F$23:F49),$F$23:$F$63,0)),\" \")","v":" "}]
[null,null,null,null,null,0,{"$f":"IF(F50>0,INDEX($A$23:$A$63,MATCH(ROWS($F$23:F50),$F$23:$F$63,0)),\" \")","v":" "}]
[null,null,null,null,null,0,{"$f":"IF(F51>0,INDEX($A$23:$A$63,MATCH(ROWS($F$23:F51),$F$23:$F$63,0)),\" \")","v":" "}]
[null,null,null,null,null,0,{"$f":"IF(F52>0,INDEX($A$23:$A$63,MATCH(ROWS($F$23:F52),$F$23:$F$63,0)),\" \")","v":" "}]
[null,null,null,null,null,0,{"$f":"IF(F53>0,INDEX($A$23:$A$63,MATCH(ROWS($F$23:F53),$F$23:$F$63,0)),\" \")","v":" "}]
[null,null,null,null,null,0,{"$f":"IF(F54>0,INDEX($A$23:$A$63,MATCH(ROWS($F$23:F54),$F$23:$F$63,0)),\" \")","v":" "}]
[null,null,null,null,null,0,{"$f":"IF(F55>0,INDEX($A$23:$A$63,MATCH(ROWS($F$23:F55),$F$23:$F$63,0)),\" \")","v":" "}]
[null,null,null,null,null,0,{"$f":"IF(F56>0,INDEX($A$23:$A$63,MATCH(ROWS($F$23:F56),$F$23:$F$63,0)),\" \")","v":" "}]
[null,null,null,null,null,0,{"$f":"IF(F57>0,INDEX($A$23:$A$63,MATCH(ROWS($F$23:F57),$F$23:$F$63,0)),\" \")","v":" "}]
[null,null,null,null,null,0,{"$f":"IF(F58>0,INDEX($A$23:$A$63,MATCH(ROWS($F$23:F58),$F$23:$F$63,0)),\" \")","v":" "}]
[null,null,null,null,null,0,{"$f":"IF(F59>0,INDEX($A$23:$A$63,MATCH(ROWS($F$23:F59),$F$23:$F$63,0)),\" \")","v":" "}]
[null,null,null,null,null,0,{"$f":"IF(F60>0,INDEX($A$23:$A$63,MATCH(ROWS($F$23:F60),$F$23:$F$63,0)),\" \")","v":" "}]
[null,null,null,null,null,0,{"$f":"IF(F61>0,INDEX($A$23:$A$63,MATCH(ROWS($F$23:F61),$F$23:$F$63,0)),\" \")","v":" "}]
[null,null,null,null,null,0,{"$f":"IF(F62>0,INDEX($A$23:$A$63,MATCH(ROWS($F$23:F62),$F$23:$F$63,0)),\" \")","v":" "}]
[null,null,null,null,null,0,{"$f":"IF(F63>0,INDEX($A$23:$A$63,MATCH(ROWS($F$23:F63),$F$23:$F$63,0)),\" \")","v":" "}]
[null,null,null,null,null,null,{"$f":"IF(F64>0,INDEX($A$23:$A$76,MATCH(ROWS($F$23:F64),$F$23:$F$76,0)),\" \")","v":" "}]
[null,null,null,null,null,null,{"$f":"IF(F65>0,INDEX($A$23:$A$76,MATCH(ROWS($F$23:F65),$F$23:$F$76,0)),\" \")","v":" "}]
[null,null,null,null,null,null,{"$f":"IF(F66>0,INDEX($A$23:$A$76,MATCH(ROWS($F$23:F66),$F$23:$F$76,0)),\" \")","v":" "}]
[null,null,null,null,null,null,{"$f":"IF(F67>0,INDEX($A$23:$A$76,MATCH(ROWS($F$23:F67),$F$23:$F$76,0)),\" \")","v":" "}]
[null,null,null,null,null,null,{"$f":"IF(F68>0,INDEX($A$23:$A$76,MATCH(ROWS($F$23:F68),$F$23:$F$76,0)),\" \")","v":" "}]

{"sheet":"Solo","index":3,"n_rows":56,"n_cols":16,"rows_kept":56,"cut":false,"hidden":false,"merged":[]}
[null,null,null,null,{"$f":"'Algemene inl.'!A6","v":"Inschrijvingsformulier "}]
[null,null,null,null,{"$f":"'Algemene inl.'!G7","v":"Duid hier de wedstrijd aan"}]
[null,null,null,null,{"$f":"'Algemene inl.'!A9","v":0}]
[]
[null,null,null,null,null,null,null,null,null,"nodig om geboortedatum op te halen!!!",null,null,null,null,"nodig om categorie te bepalen"]
["SOLO",null,null,null,{"$f":"IF(ISBLANK('Algemene inl.'!$B$13),\"\",'Algemene inl.'!$B$13)","v":""},null,null,null,null,null,null,null,null,null,{"$f":"'Ref.datum & disciplines'!A9","v":"Solo dance twirl/rhythmic boy"},{"$f":"'Ref.datum & disciplines'!A12","v":"Solo accessoires boy"}]
[]
["Discipline","Voornaam + achternaam","Geboorte-datum","Leeftijd","Categorie"]
[null,null,{"$f":"IF(ISBLANK(B9),\" \",INDEX('Algemene inl.'!$B$23:$B$98,J9))","v":" "},{"$f":"IF(ISBLANK(B9),\"\",DATEDIF(C9,'Ref.datum & disciplines'!$A$2,\"y\"))","v":""},{"$f":"IF(ISBLANK(B9),\" \",IF(A9=$O$6,VLOOKUP(D9,Tabel2[],2),IF(A9=$P$6,VLOOKUP(D9,Tabel2[],2),VLOOKUP(D9,Tabel3[],2))))","v":" "},{"$f":"IF(ISBLANK(B9),\"\",\"X\")","v":""},{"$f":"COUNTA('Algemene inl.'!A23:A96)","v":0},null,null,{"$f":"IF(ISBLANK(B9),\"\",MATCH(B9,'Algemene inl.'!$A$23:$A$98,0))","v":""}]
[null,null,{"$f":"IF(ISBLANK(B10),\" \",INDEX('Algemene inl.'!$B$23:$B$98,J10))","v":" "},{"$f":"IF(ISBLANK(B10),\"\",DATEDIF(C10,'Ref.datum & disciplines'!$A$2,\"y\"))","v":""},{"$f":"IF(ISBLANK(B10),\" \",IF(A10=$O$6,VLOOKUP(D10,Tabel2[],2),IF(A10=$P$6,VLOOKUP(D10,Tabel2[],2),VLOOKUP(D10,Tabel3[],2))))","v":" "},{"$f":"IF(ISBLANK(B10),\"\",\"X\")","v":""},null,null,null,{"$f":"IF(ISBLANK(B10),\"\",MATCH(B10,'Algemene inl.'!$A$23:$A$63,0))","v":""}]
[null,null,{"$f":"IF(ISBLANK(B11),\" \",INDEX('Algemene inl.'!$B$23:$B$98,J11))","v":" "},{"$f":"IF(ISBLANK(B11),\"\",DATEDIF(C11,'Ref.datum & disciplines'!$A$2,\"y\"))","v":""},{"$f":"IF(ISBLANK(B11),\" \",IF(A11=$O$6,VLOOKUP(D11,Tabel2[],2),IF(A11=$P$6,VLOOKUP(D11,Tabel2[],2),VLOOKUP(D11,Tabel3[],2))))","v":" "},"",null,null,null,{"$f":"IF(ISBLANK(B11),\"\",MATCH(B11,'Algemene inl.'!$A$23:$A$98,0))","v":""}]
[null,null,{"$f":"IF(ISBLANK(B12),\" \",INDEX('Algemene inl.'!$B$23:$B$98,J12))","v":" "},{"$f":"IF(ISBLANK(B12),\"\",DATEDIF(C12,'Ref.datum & disciplines'!$A$2,\"y\"))","v":""},{"$f":"IF(ISBLANK(B12),\" \",IF(A12=$O$6,VLOOKUP(D12,Tabel2[],2),IF(A12=$P$6,VLOOKUP(D12,Tabel2[],2),VLOOKUP(D12,Tabel3[],2))))","v":" "},"",null,null,null,{"$f":"IF(ISBLANK(B12),\"\",MATCH(B12,'Algemene inl.'!$A$23:$A$98,0))","v":""}]
[null,null,{"$f":"IF(ISBLANK(B13),\" \",INDEX('Algemene inl.'!$B$23:$B$98,J13))","v":" "},{"$f":"IF(ISBLANK(B13),\"\",DATEDIF(C13,'Ref.datum & disciplines'!$A$2,\"y\"))","v":""},{"$f":"IF(ISBLANK(B13),\" \",IF(A13=$O$6,VLOOKUP(D13,Tabel2[],2),IF(A13=$P$6,VLOOKUP(D13,Tabel2[],2),VLOOKUP(D13,Tabel3[],2))))","v":" "},"",null,null,null,{"$f":"IF(ISBLANK(B13),\"\",MATCH(B13,'Algemene inl.'!$A$23:$A$98,0))","v":""}]
[null,null,{"$f":"IF(ISBLANK(B14),\" \",INDEX('Algemene inl.'!$B$23:$B$98,J14))","v":" "},{"$f":"IF(ISBLANK(B14),\"\",DATEDIF(C14,'Ref.datum & disciplines'!$A$2,\"y\"))","v":""},{"$f":"IF(ISBLANK(B14),\" \",IF(A14=$O$6,VLOOKUP(D14,Tabel2[],2),IF(A14=$P$6,VLOOKUP(D14,Tabel2[],2),VLOOKUP(D14,Tabel3[],2))))","v":" "},"",null,null,null,{"$f":"IF(ISBLANK(B14),\"\",MATCH(B14,'Algemene inl.'!$A$23:$A$98,0))","v":""}]
[null,null,{"$f":"IF(ISBLANK(B15),\" \",INDEX('Algemene inl.'!$B$23:$B$98,J15))","v":" "},{"$f":"IF(ISBLANK(B15),\"\",DATEDIF(C15,'Ref.datum & disciplines'!$A$2,\"y\"))","v":""},{"$f":"IF(ISBLANK(B15),\" \",IF(A15=$O$6,VLOOKUP(D15,Tabel2[],2),IF(A15=$P$6,VLOOKUP(D15,Tabel2[],2),VLOOKUP(D15,Tabel3[],2))))","v":" "},"",null,null,null,{"$f":"IF(ISBLANK(B15),\"\",MATCH(B15,'Algemene inl.'!$A$23:$A$98,0))","v":""}]
[null,null,{"$f":"IF(ISBLANK(B16),\" \",INDEX('Algemene inl.'!$B$23:$B$98,J16))","v":" "},{"$f":"IF(ISBLANK(B16),\"\",DATEDIF(C16,'Ref.datum & disciplines'!$A$2,\"y\"))","v":""},{"$f":"IF(ISBLANK(B16),\" \",IF(A16=$O$6,VLOOKUP(D16,Tabel2[],2),IF(A16=$P$6,VLOOKUP(D16,Tabel2[],2),VLOOKUP(D16,Tabel3[],2))))","v":" "},{"$f":"IF(ISBLANK(B16),\"\",\"X\")","v":""},null,null,null,{"$f":"IF(ISBLANK(B16),\"\",MATCH(B16,'Algemene inl.'!$A$23:$A$98,0))","v":""}]
[null,null,{"$f":"IF(ISBLANK(B17),\" \",INDEX('Algemene inl.'!$B$23:$B$98,J17))","v":" "},{"$f":"IF(ISBLANK(B17),\"\",DATEDIF(C17,'Ref.datum & disciplines'!$A$2,\"y\"))","v":""},{"$f":"IF(ISBLANK(B17),\" \",IF(A17=$O$6,VLOOKUP(D17,Tabel2[],2),IF(A17=$P$6,VLOOKUP(D17,Tabel2[],2),VLOOKUP(D17,Tabel3[],2))))","v":" "},"",null,null,null,{"$f":"IF(ISBLANK(B17),\"\",MATCH(B17,'Algemene inl.'!$A$23:$A$98,0))","v":""}]
[null,null,{"$f":"IF(ISBLANK(B18),\" \",INDEX('Algemene inl.'!$B$23:$B$98,J18))","v":" "},{"$f":"IF(ISBLANK(B18),\"\",DATEDIF(C18,'Ref.datum & disciplines'!$A$2,\"y\"))","v":""},{"$f":"IF(ISBLANK(B18),\" \",IF(A18=$O$6,VLOOKUP(D18,Tabel2[],2),IF(A18=$P$6,VLOOKUP(D18,Tabel2[],2),VLOOKUP(D18,Tabel3[],2))))","v":" "},"",null,null,null,{"$f":"IF(ISBLANK(B18),\"\",MATCH(B18,'Algemene inl.'!$A$23:$A$98,0))","v":""}]
[null,null,{"$f":"IF(ISBLANK(B19),\" \",INDEX('Algemene inl.'!$B$23:$B$98,J19))","v":" "},{"$f":"IF(ISBLANK(B19),\"\",DATEDIF(C19,'Ref.datum & disciplines'!$A$2,\"y\"))","v":""},{"$f":"IF(ISBLANK(B19),\" \",IF(A19=$O$6,VLOOKUP(D19,Tabel2[],2),IF(A19=$P$6,VLOOKUP(D19,Tabel2[],2),VLOOKUP(D19,Tabel3[],2))))","v":" "},"",null,null,null,{"$f":"IF(ISBLANK(B19),\"\",MATCH(B19,'Algemene inl.'!$A$23:$A$98,0))","v":""}]
[null,null,{"$f":"IF(ISBLANK(B20),\" \",INDEX('Algemene inl.'!$B$23:$B$98,J20))","v":" "},{"$f":"IF(ISBLANK(B20),\"\",DATEDIF(C20,'Ref.datum & disciplines'!$A$2,\"y\"))","v":""},{"$f":"IF(ISBLANK(B20),\" \",IF(A20=$O$6,VLOOKUP(D20,Tabel2[],2),IF(A20=$P$6,VLOOKUP(D20,Tabel2[],2),VLOOKUP(D20,Tabel3[],2))))","v":" "},"",null,null,null,{"$f":"IF(ISBLANK(B20),\"\",MATCH(B20,'Algemene inl.'!$A$23:$A$98,0))","v":""}]
[null,null,{"$f":"IF(ISBLANK(B21),\" \",INDEX('Algemene inl.'!$B$23:$B$98,J21))","v":" "},{"$f":"IF(ISBLANK(B21),\"\",DATEDIF(C21,'Ref.datum & disciplines'!$A$2,\"y\"))","v":""},{"$f":"IF(ISBLANK(B21),\" \",IF(A21=$O$6,VLOOKUP(D21,Tabel2[],2),IF(A21=$P$6,VLOOKUP(D21,Tabel2[],2),VLOOKUP(D21,Tabel3[],2))))","v":" "},"",null,null,null,{"$f":"IF(ISBLANK(B21),\"\",MATCH(B21,'Algemene inl.'!$A$23:$A$98,0))","v":""}]
[null,null,{"$f":"IF(ISBLANK(B22),\" \",INDEX('Algemene inl.'!$B$23:$B$98,J22))","v":" "},{"$f":"IF(ISBLANK(B22),\"\",DATEDIF(C22,'Ref.datum & disciplines'!$A$2,\"y\"))","v":""},{"$f":"IF(ISBLANK(B22),\" \",IF(A22=$O$6,VLOOKUP(D22,Tabel2[],2),IF(A22=$P$6,VLOOKUP(D22,Tabel2[],2),VLOOKUP(D22,Tabel3[],2))))","v":" "},"",null,null,null,{"$f":"IF(ISBLANK(B22),\"\",MATCH(B22,'Algemene inl.'!$A$23:$A$98,0))","v":""}]
[null,null,{"$f":"IF(ISBLANK(B23),\" \",INDEX('Algemene inl.'!$B$23:$B$98,J23))","v":" "},{"$f":"IF(ISBLANK(B23),\"\",DATEDIF(C23,'Ref.datum & disciplines'!$A$2,\"y\"))","v":""},{"$f":"IF(ISBLANK(B23),\" \",IF(A23=$O$6,VLOOKUP(D23,Tabel2[],2),IF(A23=$P$6,VLOOKUP(D23,Tabel2[],2),VLOOKUP(D23,Tabel3[],2))))","v":" "},"",null,null,null,{"$f":"IF(ISBLANK(B23),\"\",MATCH(B23,'Algemene inl.'!$A$23:$A$98,0))","v":""}]
[null,null,{"$f":"IF(ISBLANK(B24),\" \",INDEX('Algemene inl.'!$B$23:$B$98,J24))","v":" "},{"$f":"IF(ISBLANK(B24),\"\",DATEDIF(C24,'Ref.datum & disciplines'!$A$2,\"y\"))","v":""},{"$f":"IF(ISBLANK(B24),\" \",IF(A24=$O$6,VLOOKUP(D24,Tabel2[],2),IF(A24=$P$6,VLOOKUP(D24,Tabel2[],2),VLOOKUP(D24,Tabel3[],2))))","v":" "},"",null,null,null,{"$f":"IF(ISBLANK(B24),\"\",MATCH(B24,'Algemene inl.'!$A$23:$A$98,0))","v":""}]
[null,null,{"$f":"IF(ISBLANK(B25),\" \",INDEX('Algemene inl.'!$B$23:$B$98,J25))","v":" "},{"$f":"IF(ISBLANK(B25),\"\",DATEDIF(C25,'Ref.datum & disciplines'!$A$2,\"y\"))","v":""},{"$f":"IF(ISBLANK(B25),\" \",IF(A25=$O$6,VLOOKUP(D25,Tabel2[],2),IF(A25=$P$6,VLOOKUP(D25,Tabel2[],2),VLOOKUP(D25,Tabel3[],2))))","v":" "},"",null,null,null,{"$f":"IF(ISBLANK(B25),\"\",MATCH(B25,'Algemene inl.'!$A$23:$A$98,0))","v":""}]
[null,null,{"$f":"IF(ISBLANK(B26),\" \",INDEX('Algemene inl.'!$B$23:$B$98,J26))","v":" "},{"$f":"IF(ISBLANK(B26),\"\",DATEDIF(C26,'Ref.datum & disciplines'!$A$2,\"y\"))","v":""},{"$f":"IF(ISBLANK(B26),\" \",IF(A26=$O$6,VLOOKUP(D26,Tabel2[],2),IF(A26=$P$6,VLOOKUP(D26,Tabel2[],2),VLOOKUP(D26,Tabel3[],2))))","v":" "},"",null,null,null,{"$f":"IF(ISBLANK(B26),\"\",MATCH(B26,'Algemene inl.'!$A$23:$A$98,0))","v":""}]
[null,null,{"$f":"IF(ISBLANK(B27),\" \",INDEX('Algemene inl.'!$B$23:$B$98,J27))","v":" "},{"$f":"IF(ISBLANK(B27),\"\",DATEDIF(C27,'Ref.datum & disciplines'!$A$2,\"y\"))","v":""},{"$f":"IF(ISBLANK(B27),\" \",IF(A27=$O$6,VLOOKUP(D27,Tabel2[],2),IF(A27=$P$6,VLOOKUP(D27,Tabel2[],2),VLOOKUP(D27,Tabel3[],2))))","v":" "},{"$f":"IF(ISBLANK(B27),\"\",\"X\")","v":""},null,null,null,{"$f":"IF(ISBLANK(B27),\"\",MATCH(B27,'Algemene inl.'!$A$23:$A$98,0))","v":""}]
[null,null,{"$f":"IF(ISBLANK(B28),\" \",INDEX('Algemene inl.'!$B$23:$B$98,J28))","v":" "},{"$f":"IF(ISBLANK(B28),\"\",DATEDIF(C28,'Ref.datum & disciplines'!$A$2,\"y\"))","v":""},{"$f":"IF(ISBLANK(B28),\" \",IF(A28=$O$6,VLOOKUP(D28,Tabel2[],2),IF(A28=$P$6,VLOOKUP(D28,Tabel2[],2),VLOOKUP(D28,Tabel3[],2))))","v":" "},"",null,null,null,{"$f":"IF(ISBLANK(B28),\"\",MATCH(B28,'Algemene inl.'!$A$23:$A$98,0))","v":""}]
[null,null,{"$f":"IF(ISBLANK(B29),\" \",INDEX('Algemene inl.'!$B$23:$B$98,J29))","v":" "},{"$f":"IF(ISBLANK(B29),\"\",DATEDIF(C29,'Ref.datum & disciplines'!$A$2,\"y\"))","v":""},{"$f":"IF(ISBLANK(B29),\" \",IF(A29=$O$6,VLOOKUP(D29,Tabel2[],2),IF(A29=$P$6,VLOOKUP(D29,Tabel2[],2),VLOOKUP(D29,Tabel3[],2))))","v":" "},"",null,null,null,{"$f":"IF(ISBLANK(B29),\"\",MATCH(B29,'Algemene inl.'!$A$23:$A$98,0))","v":""}]
[null,null,{"$f":"IF(ISBLANK(B30),\" \",INDEX('Algemene inl.'!$B$23:$B$98,J30))","v":" "},{"$f":"IF(ISBLANK(B30),\"\",DATEDIF(C30,'Ref.datum & disciplines'!$A$2,\"y\"))","v":""},{"$f":"IF(ISBLANK(B30),\" \",IF(A30=$O$6,VLOOKUP(D30,Tabel2[],2),IF(A30=$P$6,VLOOKUP(D30,Tabel2[],2),VLOOKUP(D30,Tabel3[],2))))","v":" "},"",null,null,null,{"$f":"IF(ISBLANK(B30),\"\",MATCH(B30,'Algemene inl.'!$A$23:$A$98,0))","v":""}]
[null,null,{"$f":"IF(ISBLANK(B31),\" \",INDEX('Algemene inl.'!$B$23:$B$98,J31))","v":" "},{"$f":"IF(ISBLANK(B31),\"\",DATEDIF(C31,'Ref.datum & disciplines'!$A$2,\"y\"))","v":""},{"$f":"IF(ISBLANK(B31),\" \",IF(A31=$O$6,VLOOKUP(D31,Tabel2[],2),IF(A31=$P$6,VLOOKUP(D31,Tabel2[],2),VLOOKUP(D31,Tabel3[],2))))","v":" "},"",null,null,null,{"$f":"IF(ISBLANK(B31),\"\",MATCH(B31,'Algemene inl.'!$A$23:$A$98,0))","v":""}]
[null,null,{"$f":"IF(ISBLANK(B32),\" \",INDEX('Algemene inl.'!$B$23:$B$98,J32))","v":" "},{"$f":"IF(ISBLANK(B32),\"\",DATEDIF(C32,'Ref.datum & disciplines'!$A$2,\"y\"))","v":""},{"$f":"IF(ISBLANK(B32),\" \",IF(A32=$O$6,VLOOKUP(D32,Tabel2[],2),IF(A32=$P$6,VLOOKUP(D32,Tabel2[],2),VLOOKUP(D32,Tabel3[],2))))","v":" "},"",null,null,null,{"$f":"IF(ISBLANK(B32),\"\",MATCH(B32,'Algemene inl.'!$A$23:$A$98,0))","v":""}]
[null,null,{"$f":"IF(ISBLANK(B33),\" \",INDEX('Algemene inl.'!$B$23:$B$98,J33))","v":" "},{"$f":"IF(ISBLANK(B33),\"\",DATEDIF(C33,'Ref.datum & disciplines'!$A$2,\"y\"))","v":""},{"$f":"IF(ISBLANK(B33),\" \",IF(A33=$O$6,VLOOKUP(D33,Tabel2[],2),IF(A33=$P$6,VLOOKUP(D33,Tabel2[],2),VLOOKUP(D33,Tabel3[],2))))","v":" "},{"$f":"IF(ISBLANK(B33),\"\",\"X\")","v":""},null,null,null,{"$f":"IF(ISBLANK(B33),\"\",MATCH(B33,'Algemene inl.'!$A$23:$A$98,0))","v":""}]
[null,null,{"$f":"IF(ISBLANK(B34),\" \",INDEX('Algemene inl.'!$B$23:$B$98,J34))","v":" "},{"$f":"IF(ISBLANK(B34),\"\",DATEDIF(C34,'Ref.datum & disciplines'!$A$2,\"y\"))","v":""},{"$f":"IF(ISBLANK(B34),\" \",IF(A34=$O$6,VLOOKUP(D34,Tabel2[],2),IF(A34=$P$6,VLOOKUP(D34,Tabel2[],2),VLOOKUP(D34,Tabel3[],2))))","v":" "},{"$f":"IF(ISBLANK(B34),\"\",\"X\")","v":""},null,null,null,{"$f":"IF(ISBLANK(B34),\"\",MATCH(B34,'Algemene inl.'!$A$23:$A$98,0))","v":""}]
[null,null,{"$f":"IF(ISBLANK(B35),\" \",INDEX('Algemene inl.'!$B$23:$B$98,J35))","v":" "},{"$f":"IF(ISBLANK(B35),\"\",DATEDIF(C35,'Ref.datum & disciplines'!$A$2,\"y\"))","v":""},{"$f":"IF(ISBLANK(B35),\" \",IF(A35=$O$6,VLOOKUP(D35,Tabel2[],2),IF(A35=$P$6,VLOOKUP(D35,Tabel2[],2),VLOOKUP(D35,Tabel3[],2))))","v":" "},"",null,null,null,{"$f":"IF(ISBLANK(B35),\"\",MATCH(B35,'Algemene inl.'!$A$23:$A$98,0))","v":""}]
[null,null,{"$f":"IF(ISBLANK(B36),\" \",INDEX('Algemene inl.'!$B$23:$B$98,J36))","v":" "},{"$f":"IF(ISBLANK(B36),\"\",DATEDIF(C36,'Ref.datum & disciplines'!$A$2,\"y\"))","v":""},{"$f":"IF(ISBLANK(B36),\" \",IF(A36=$O$6,VLOOKUP(D36,Tabel2[],2),IF(A36=$P$6,VLOOKUP(D36,Tabel2[],2),VLOOKUP(D36,Tabel3[],2))))","v":" "},"",null,null,null,{"$f":"IF(ISBLANK(B36),\"\",MATCH(B36,'Algemene inl.'!$A$23:$A$98,0))","v":""}]
[null,null,{"$f":"IF(ISBLANK(B37),\" \",INDEX('Algemene inl.'!$B$23:$B$98,J37))","v":" "},{"$f":"IF(ISBLANK(B37),\"\",DATEDIF(C37,'Ref.datum & disciplines'!$A$2,\"y\"))","v":""},{"$f":"IF(ISBLANK(B37),\" \",IF(A37=$O$6,VLOOKUP(D37,Tabel2[],2),IF(A37=$P$6,VLOOKUP(D37,Tabel2[],2),VLOOKUP(D37,Tabel3[],2))))","v":" "},{"$f":"IF(ISBLANK(B37),\"\",\"X\")","v":""},null,null,null,{"$f":"IF(ISBLANK(B37),\"\",MATCH(B37,'Algemene inl.'!$A$23:$A$98,0))","v":""}]
[null,null,{"$f":"IF(ISBLANK(B38),\" \",INDEX('Algemene inl.'!$B$23:$B$98,J38))","v":" "},{"$f":"IF(ISBLANK(B38),\"\",DATEDIF(C38,'Ref.datum & disciplines'!$A$2,\"y\"))","v":""},{"$f":"IF(ISBLANK(B38),\" \",IF(A38=$O$6,VLOOKUP(D38,Tabel2[],2),IF(A38=$P$6,VLOOKUP(D38,Tabel2[],2),VLOOKUP(D38,Tabel3[],2))))","v":" "},"",null,null,null,{"$f":"IF(ISBLANK(B38),\"\",MATCH(B38,'Algemene inl.'!$A$23:$A$98,0))","v":""}]
[null,null,{"$f":"IF(ISBLANK(B39),\" \",INDEX('Algemene inl.'!$B$23:$B$98,J39))","v":" "},{"$f":"IF(ISBLANK(B39),\"\",DATEDIF(C39,'Ref.datum & disciplines'!$A$2,\"y\"))","v":""},{"$f":"IF(ISBLANK(B39),\" \",IF(A39=$O$6,VLOOKUP(D39,Tabel2[],2),IF(A39=$P$6,VLOOKUP(D39,Tabel2[],2),VLOOKUP(D39,Tabel3[],2))))","v":" "},"",null,null,null,{"$f":"IF(ISBLANK(B39),\"\",MATCH(B39,'Algemene inl.'!$A$23:$A$98,0))","v":""}]
[null,null,{"$f":"IF(ISBLANK(B40),\" \",INDEX('Algemene inl.'!$B$23:$B$98,J40))","v":" "},{"$f":"IF(ISBLANK(B40),\"\",DATEDIF(C40,'Ref.datum & disciplines'!$A$2,\"y\"))","v":""},{"$f":"IF(ISBLANK(B40),\" \",IF(A40=$O$6,VLOOKUP(D40,Tabel2[],2),IF(A40=$P$6,VLOOKUP(D40,Tabel2[],2),VLOOKUP(D40,Tabel3[],2))))","v":" "},"",null,null,null,{"$f":"IF(ISBLANK(B40),\"\",MATCH(B40,'Algemene inl.'!$A$23:$A$98,0))","v":""}]
[null,null,{"$f":"IF(ISBLANK(B41),\" \",INDEX('Algemene inl.'!$B$23:$B$98,J41))","v":" "},{"$f":"IF(ISBLANK(B41),\"\",DATEDIF(C41,'Ref.datum & disciplines'!$A$2,\"y\"))","v":""},{"$f":"IF(ISBLANK(B41),\" \",IF(A41=$O$6,VLOOKUP(D41,Tabel2[],2),IF(A41=$P$6,VLOOKUP(D41,Tabel2[],2),VLOOKUP(D41,Tabel3[],2))))","v":" "},"",null,null,null,{"$f":"IF(ISBLANK(B41),\"\",MATCH(B41,'Algemene inl.'!$A$23:$A$98,0))","v":""}]
[null,null,{"$f":"IF(ISBLANK(B42),\" \",INDEX('Algemene inl.'!$B$23:$B$98,J42))","v":" "},{"$f":"IF(ISBLANK(B42),\"\",DATEDIF(C42,'Ref.datum & disciplines'!$A$2,\"y\"))","v":""},{"$f":"IF(ISBLANK(B42),\" \",IF(A42=$O$6,VLOOKUP(D42,Tabel2[],2),IF(A42=$P$6,VLOOKUP(D42,Tabel2[],2),VLOOKUP(D42,Tabel3[],2))))","v":" "},"",null,null,null,{"$f":"IF(ISBLANK(B42),\"\",MATCH(B42,'Algemene inl.'!$A$23:$A$98,0))","v":""}]
[null,null,{"$f":"IF(ISBLANK(B43),\" \",INDEX('Algemene inl.'!$B$23:$B$98,J43))","v":" "},{"$f":"IF(ISBLANK(B43),\"\",DATEDIF(C43,'Ref.datum & disciplines'!$A$2,\"y\"))","v":""},{"$f":"IF(ISBLANK(B43),\" \",IF(A43=$O$6,VLOOKUP(D43,Tabel2[],2),IF(A43=$P$6,VLOOKUP(D43,Tabel2[],2),VLOOKUP(D43,Tabel3[],2))))","v":" "},"",null,null,null,{"$f":"IF(ISBLANK(B43),\"\",MATCH(B43,'Algemene inl.'!$A$23:$A$98,0))","v":""}]
[null,null,{"$f":"IF(ISBLANK(B44),\" \",INDEX('Algemene inl.'!$B$23:$B$98,J44))","v":" "},{"$f":"IF(ISBLANK(B44),\"\",DATEDIF(C44,'Ref.datum & disciplines'!$A$2,\"y\"))","v":""},{"$f":"IF(ISBLANK(B44),\" \",IF(A44=$O$6,VLOOKUP(D44,Tabel2[],2),IF(A44=$P$6,VLOOKUP(D44,Tabel2[],2),VLOOKUP(D44,Tabel3[],2))))","v":" "},"",null,null,null,{"$f":"IF(ISBLANK(B44),\"\",MATCH(B44,'Algemene inl.'!$A$23:$A$98,0))","v":""}]
[null,null,{"$f":"IF(ISBLANK(B45),\" \",INDEX('Algemene inl.'!$B$23:$B$98,J45))","v":" "},{"$f":"IF(ISBLANK(B45),\"\",DATEDIF(C45,'Ref.datum & disciplines'!$A$2,\"y\"))","v":""},{"$f":"IF(ISBLANK(B45),\" \",IF(A45=$O$6,VLOOKUP(D45,Tabel2[],2),IF(A45=$P$6,VLOOKUP(D45,Tabel2[],2),VLOOKUP(D45,Tabel3[],2))))","v":" "},"",null,null,null,{"$f":"IF(ISBLANK(B45),\"\",MATCH(B45,'Algemene inl.'!$A$23:$A$98,0))","v":""}]
[null,null,{"$f":"IF(ISBLANK(B46),\" \",INDEX('Algemene inl.'!$B$23:$B$98,J46))","v":" "},{"$f":"IF(ISBLANK(B46),\"\",DATEDIF(C46,'Ref.datum & disciplines'!$A$2,\"y\"))","v":""},{"$f":"IF(ISBLANK(B46),\" \",IF(A46=$O$6,VLOOKUP(D46,Tabel2[],2),IF(A46=$P$6,VLOOKUP(D46,Tabel2[],2),VLOOKUP(D46,Tabel3[],2))))","v":" "},"",null,null,null,{"$f":"IF(ISBLANK(B46),\"\",MATCH(B46,'Algemene inl.'!$A$23:$A$98,0))","v":""}]
[null,null,{"$f":"IF(ISBLANK(B47),\" \",INDEX('Algemene inl.'!$B$23:$B$98,J47))","v":" "},{"$f":"IF(ISBLANK(B47),\"\",DATEDIF(C47,'Ref.datum & disciplines'!$A$2,\"y\"))","v":""},{"$f":"IF(ISBLANK(B47),\" \",IF(A47=$O$6,VLOOKUP(D47,Tabel2[],2),IF(A47=$P$6,VLOOKUP(D47,Tabel2[],2),VLOOKUP(D47,Tabel3[],2))))","v":" "},"",null,null,null,{"$f":"IF(ISBLANK(B47),\"\",MATCH(B47,'Algemene inl.'!$A$23:$A$98,0))","v":""}]
[null,null,{"$f":"IF(ISBLANK(B48),\" \",INDEX('Algemene inl.'!$B$23:$B$98,J48))","v":" "},{"$f":"IF(ISBLANK(B48),\"\",DATEDIF(C48,'Ref.datum & disciplines'!$A$2,\"y\"))","v":""},{"$f":"IF(ISBLANK(B48),\" \",IF(A48=$O$6,VLOOKUP(D48,Tabel2[],2),IF(A48=$P$6,VLOOKUP(D48,Tabel2[],2),VLOOKUP(D48,Tabel3[],2))))","v":" "},"",null,null,null,{"$f":"IF(ISBLANK(B48),\"\",MATCH(B48,'Algemene inl.'!$A$23:$A$98,0))","v":""}]
[null,null,{"$f":"IF(ISBLANK(B49),\" \",INDEX('Algemene inl.'!$B$23:$B$98,J49))","v":" "},{"$f":"IF(ISBLANK(B49),\"\",DATEDIF(C49,'Ref.datum & disciplines'!$A$2,\"y\"))","v":""},{"$f":"IF(ISBLANK(B49),\" \",IF(A49=$O$6,VLOOKUP(D49,Tabel2[],2),IF(A49=$P$6,VLOOKUP(D49,Tabel2[],2),VLOOKUP(D49,Tabel3[],2))))","v":" "},"",null,null,null,{"$f":"IF(ISBLANK(B49),\"\",MATCH(B49,'Algemene inl.'!$A$23:$A$98,0))","v":""}]
[null,null,{"$f":"IF(ISBLANK(B50),\" \",INDEX('Algemene inl.'!$B$23:$B$98,J50))","v":" "},{"$f":"IF(ISBLANK(B50),\"\",DATEDIF(C50,'Ref.datum & disciplines'!$A$2,\"y\"))","v":""},{"$f":"IF(ISBLANK(B50),\" \",IF(A50=$O$6,VLOOKUP(D50,Tabel2[],2),IF(A50=$P$6,VLOOKUP(D50,Tabel2[],2),VLOOKUP(D50,Tabel3[],2))))","v":" "},"",null,null,null,{"$f":"IF(ISBLANK(B50),\"\",MATCH(B50,'Algemene inl.'!$A$23:$A$98,0))","v":""}]
[null,null,{"$f":"IF(ISBLANK(B51),\" \",INDEX('Algemene inl.'!$B$23:$B$98,J51))","v":" "},{"$f":"IF(ISBLANK(B51),\"\",DATEDIF(C51,'Ref.datum & disciplines'!$A$2,\"y\"))","v":""},{"$f":"IF(ISBLANK(B51),\" \",IF(A51=$O$6,VLOOKUP(D51,Tabel2[],2),IF(A51=$P$6,VLOOKUP(D51,Tabel2[],2),VLOOKUP(D51,Tabel3[],2))))","v":" "},"",null,null,null,{"$f":"IF(ISBLANK(B51),\"\",MATCH(B51,'Algemene inl.'!$A$23:$A$98,0))","v":""}]
[null,null,{"$f":"IF(ISBLANK(B52),\" \",INDEX('Algemene inl.'!$B$23:$B$98,J52))","v":" "},{"$f":"IF(ISBLANK(B52),\"\",DATEDIF(C52,'Ref.datum & disciplines'!$A$2,\"y\"))","v":""},{"$f":"IF(ISBLANK(B52),\" \",IF(A52=$O$6,VLOOKUP(D52,Tabel2[],2),IF(A52=$P$6,VLOOKUP(D52,Tabel2[],2),VLOOKUP(D52,Tabel3[],2))))","v":" "},"",null,null,null,{"$f":"IF(ISBLANK(B52),\"\",MATCH(B52,'Algemene inl.'!$A$23:$A$98,0))","v":""}]
[null,null,{"$f":"IF(ISBLANK(B53),\" \",INDEX('Algemene inl.'!$B$23:$B$98,J53))","v":" "},{"$f":"IF(ISBLANK(B53),\"\",DATEDIF(C53,'Ref.datum & disciplines'!$A$2,\"y\"))","v":""},{"$f":"IF(ISBLANK(B53),\" \",IF(A53=$O$6,VLOOKUP(D53,Tabel2[],2),IF(A53=$P$6,VLOOKUP(D53,Tabel2[],2),VLOOKUP(D53,Tabel3[],2))))","v":" "},"",null,null,null,{"$f":"IF(ISBLANK(B53),\"\",MATCH(B53,'Algemene inl.'!$A$23:$A$98,0))","v":""}]
[null,null,{"$f":"IF(ISBLANK(B54),\" \",INDEX('Algemene inl.'!$B$23:$B$98,J54))","v":" "},{"$f":"IF(ISBLANK(B54),\"\",DATEDIF(C54,'Ref.datum & disciplines'!$A$2,\"y\"))","v":""},{"$f":"IF(ISBLANK(B54),\" \",IF(A54=$O$6,VLOOKUP(D54,Tabel2[],2),IF(A54=$P$6,VLOOKUP(D54,Tabel2[],2),VLOOKUP(D54,Tabel3[],2))))","v":" "},"",null,null,null,{"$f":"IF(ISBLANK(B54),\"\",MATCH(B54,'Algemene inl.'!$A$23:$A$98,0))","v":""}]
[null,null,{"$f":"IF(ISBLANK(B55),\" \",INDEX('Algemene inl.'!$B$23:$B$98,J55))","v":" "},{"$f":"IF(ISBLANK(B55),\"\",DATEDIF(C55,'Ref.datum & disciplines'!$A$2,\"y\"))","v":""},{"$f":"IF(ISBLANK(B55),\" \",IF(A55=$O$6,VLOOKUP(D55,Tabel2[],2),IF(A55=$P$6,VLOOKUP(D55,Tabel2[],2),VLOOKUP(D55,Tabel3[],2))))","v":" "},"",null,null,null,{"$f":"IF(ISBLANK(B55),\"\",MATCH(B55,'Algemene inl.'!$A$23:$A$98,0))","v":""}]
[null,null,{"$f":"IF(ISBLANK(B56),\" \",INDEX('Algemene inl.'!$B$23:$B$98,J56))","v":" "},{"$f":"IF(ISBLANK(B56),\"\",DATEDIF(C56,'Ref.datum & disciplines'!$A$2,\"y\"))","v":""},{"$f":"IF(ISBLANK(B56),\" \",IF(A56=$O$6,VLOOKUP(D56,Tabel2[],2),IF(A56=$P$6,VLOOKUP(D56,Tabel2[],2),VLOOKUP(D56,Tabel3[],2))))","v":" "},"",null,null,null,{"$f":"IF(ISBLANK(B56),\"\",MATCH(B56,'Algemene inl.'!$A$23:$A$98,0))","v":""}]

{"sheet":"Duo","index":4,"n_rows":57,"n_cols":12,"rows_kept":57,"cut":false,"hidden":false,"merged":[[8,0,9,0],[10,0,11,0],[12,0,13,0],[14,0,15,0],[28,4,29,4],[8,4,9,4],[10,4,11,4],[12,4,13,4],[14,4,15,4],[16,4,17,4],[54,0,55,0],[32,0,33,0],[40,0,41,0],[42,0,43,0],[44,0,45,0],[46,0,47,0],[48,0,49,0],[50,0,51,0],[52,0,53,0],[30,0,31,0],[18,4,19,4],[20,4,21,4],[22,4,23,4],[24,4,25,4],[26,4,27,4],[54,4,55,4],[32,4,33,4],[34,4,35,4],[36,4,37,4],[38,4,39,4],[40,4,41,4],[42,4,43,4],[44,4,45,4],[46,4,47,4],[48,4,49,4],[50,4,51,4],[52,4,53,4],[52,11,53,11],[54,11,55,11],[38,11,39,11],[40,11,41,11],[42,11,43,11],[44,11,45,11],[46,11,47,11],[18,11,19,11],[30,4,31,4],[36,11,37,11],[48,11,49,11],[50,11,51,11],[28,11,29,11],[30,11,31,11],[32,11,33,11],[34,11,35,11],[20,11,21,11],[22,11,23,11],[24,11,25,11],[26,11,27,11],[8,11,9,11],[10,11,11,11],[12,11,13,11],[14,11,15,11],[16,11,17,11]]}
[null,null,null,null,{"$f":"'Algemene inl.'!A6","v":"Inschrijvingsformulier "}]
[null,null,null,null,{"$f":"'Algemene inl.'!G7","v":"Duid hier de wedstrijd aan"}]
[null,null,null,null,{"$f":"'Algemene inl.'!A9","v":0}]
[]
[null,null,null,null,null,null,null,null,null,"nodig om geboortedatum op te halen!!!"]
["DUO",null,null,null,{"$f":"IF(ISBLANK('Algemene inl.'!$B$13),\"\",'Algemene inl.'!$B$13)","v":""}]
[]
["Discipline","Voornaam + achternaam","Geboorte-datum","Leeftijd","Categorie",null,null,null,null,null,null,"Gem."]
[null,null,{"$f":"IF(ISBLANK(B9),\" \",INDEX('Algemene inl.'!$B$23:$B$98,J9))","v":" "},{"$f":"IF(ISBLANK(B9),\"\",DATEDIF(C9,'Ref.datum & disciplines'!$A$2,\"y\"))","v":""},{"$f":"IF(ISBLANK(B9),\" \",VLOOKUP(L9,Tabel3[],2))","v":" "},{"$f":"IF(ISBLANK(B9),\"\",\"X\")","v":""},null,null,null,{"$f":"IF(ISBLANK(B9),\"\",MATCH(B9,'Algemene inl.'!$A$23:$A$98,0))","v":""},null,{"$f":"IF(ISBLANK(B9),\" \",(D9+D10)/2)","v":" "}]
[null,null,{"$f":"IF(ISBLANK(B10),\" \",INDEX('Algemene inl.'!$B$23:$B$98,J10))","v":" "},{"$f":"IF(ISBLANK(B10),\"\",DATEDIF(C10,'Ref.datum & disciplines'!$A$2,\"y\"))","v":""},null,null,null,null,null,{"$f":"IF(ISBLANK(B10),\"\",MATCH(B10,'Algemene inl.'!$A$23:$A$98,0))","v":""}]
[null,null,{"$f":"IF(ISBLANK(B11),\" \",INDEX('Algemene inl.'!$B$23:$B$98,J11))","v":" "},{"$f":"IF(ISBLANK(B11),\"\",DATEDIF(C11,'Ref.datum & disciplines'!$A$2,\"y\"))","v":""},{"$f":"IF(ISBLANK(B11),\" \",VLOOKUP(L11,Tabel3[],2))","v":" "},{"$f":"IF(ISBLANK(B11),\"\",\"X\")","v":""},null,null,null,{"$f":"IF(ISBLANK(B11),\"\",MATCH(B11,'Algemene inl.'!$A$23:$A$98,0))","v":""},null,{"$f":"IF(ISBLANK(B11),\" \",(D11+D12)/2)","v":" "}]
[null,null,{"$f":"IF(ISBLANK(B12),\" \",INDEX('Algemene inl.'!$B$23:$B$98,J12))","v":" "},{"$f":"IF(ISBLANK(B12),\"\",DATEDIF(C12,'Ref.datum & disciplines'!$A$2,\"y\"))","v":""},null,null,null,null,null,{"$f":"IF(ISBLANK(B12),\"\",MATCH(B12,'Algemene inl.'!$A$23:$A$98,0))","v":""}]
[null,null,{"$f":"IF(ISBLANK(B13),\" \",INDEX('Algemene inl.'!$B$23:$B$98,J13))","v":" "},{"$f":"IF(ISBLANK(B13),\"\",DATEDIF(C13,'Ref.datum & disciplines'!$A$2,\"y\"))","v":""},{"$f":"IF(ISBLANK(B13),\" \",VLOOKUP(L13,Tabel3[],2))","v":" "},{"$f":"IF(ISBLANK(B13),\"\",\"X\")","v":""},null,null,null,{"$f":"IF(ISBLANK(B13),\"\",MATCH(B13,'Algemene inl.'!$A$23:$A$98,0))","v":""},null,{"$f":"IF(ISBLANK(B13),\" \",(D13+D14)/2)","v":" "}]
[null,null,{"$f":"IF(ISBLANK(B14),\" \",INDEX('Algemene inl.'!$B$23:$B$98,J14))","v":" "},{"$f":"IF(ISBLANK(B14),\"\",DATEDIF(C14,'Ref.datum & disciplines'!$A$2,\"y\"))","v":""},null,null,null,null,null,{"$f":"IF(ISBLANK(B14),\"\",MATCH(B14,'Algemene inl.'!$A$23:$A$98,0))","v":""}]
[null,null,{"$f":"IF(ISBLANK(B15),\" \",INDEX('Algemene inl.'!$B$23:$B$98,J15))","v":" "},{"$f":"IF(ISBLANK(B15),\"\",DATEDIF(C15,'Ref.datum & disciplines'!$A$2,\"y\"))","v":""},{"$f":"IF(ISBLANK(B15),\" \",VLOOKUP(L15,Tabel3[],2))","v":" "},{"$f":"IF(ISBLANK(B15),\"\",\"X\")","v":""},null,null,null,{"$f":"IF(ISBLANK(B15),\"\",MATCH(B15,'Algemene inl.'!$A$23:$A$98,0))","v":""},null,{"$f":"IF(ISBLANK(B15),\" \",(D15+D16)/2)","v":" "}]
[null,null,{"$f":"IF(ISBLANK(B16),\" \",INDEX('Algemene inl.'!$B$23:$B$98,J16))","v":" "},{"$f":"IF(ISBLANK(B16),\"\",DATEDIF(C16,'Ref.datum & disciplines'!$A$2,\"y\"))","v":""},null,null,null,null,null,{"$f":"IF(ISBLANK(B16),\"\",MATCH(B16,'Algemene inl.'!$A$23:$A$98,0))","v":""}]
[null,null,{"$f":"IF(ISBLANK(B17),\" \",INDEX('Algemene inl.'!$B$23:$B$98,J17))","v":" "},{"$f":"IF(ISBLANK(B17),\"\",DATEDIF(C17,'Ref.datum & disciplines'!$A$2,\"y\"))","v":""},{"$f":"IF(ISBLANK(B17),\" \",VLOOKUP(L17,Tabel3[],2))","v":" "},{"$f":"IF(ISBLANK(B17),\"\",\"X\")","v":""},null,null,null,{"$f":"IF(ISBLANK(B17),\"\",MATCH(B17,'Algemene inl.'!$A$23:$A$98,0))","v":""},null,{"$f":"IF(ISBLANK(B17),\" \",(D17+D18)/2)","v":" "}]
[null,null,{"$f":"IF(ISBLANK(B18),\" \",INDEX('Algemene inl.'!$B$23:$B$98,J18))","v":" "},{"$f":"IF(ISBLANK(B18),\"\",DATEDIF(C18,'Ref.datum & disciplines'!$A$2,\"y\"))","v":""},null,null,null,null,null,{"$f":"IF(ISBLANK(B18),\"\",MATCH(B18,'Algemene inl.'!$A$23:$A$98,0))","v":""}]
[null,null,{"$f":"IF(ISBLANK(B19),\" \",INDEX('Algemene inl.'!$B$23:$B$98,J19))","v":" "},{"$f":"IF(ISBLANK(B19),\"\",DATEDIF(C19,'Ref.datum & disciplines'!$A$2,\"y\"))","v":""},{"$f":"IF(ISBLANK(B19),\" \",VLOOKUP(L19,Tabel3[],2))","v":" "},{"$f":"IF(ISBLANK(B19),\"\",\"X\")","v":""},null,null,null,{"$f":"IF(ISBLANK(B19),\"\",MATCH(B19,'Algemene inl.'!$A$23:$A$98,0))","v":""},null,{"$f":"IF(ISBLANK(B19),\" \",(D19+D20)/2)","v":" "}]
[null,null,{"$f":"IF(ISBLANK(B20),\" \",INDEX('Algemene inl.'!$B$23:$B$98,J20))","v":" "},{"$f":"IF(ISBLANK(B20),\"\",DATEDIF(C20,'Ref.datum & disciplines'!$A$2,\"y\"))","v":""},null,null,null,null,null,{"$f":"IF(ISBLANK(B20),\"\",MATCH(B20,'Algemene inl.'!$A$23:$A$98,0))","v":""}]
[null,null,{"$f":"IF(ISBLANK(B21),\" \",INDEX('Algemene inl.'!$B$23:$B$98,J21))","v":" "},{"$f":"IF(ISBLANK(B21),\"\",DATEDIF(C21,'Ref.datum & disciplines'!$A$2,\"y\"))","v":""},{"$f":"IF(ISBLANK(B21),\" \",VLOOKUP(L21,Tabel3[],2))","v":" "},{"$f":"IF(ISBLANK(B21),\"\",\"X\")","v":""},null,null,null,{"$f":"IF(ISBLANK(B21),\"\",MATCH(B21,'Algemene inl.'!$A$23:$A$98,0))","v":""},null,{"$f":"IF(ISBLANK(B21),\" \",(D21+D22)/2)","v":" "}]
[null,null,{"$f":"IF(ISBLANK(B22),\" \",INDEX('Algemene inl.'!$B$23:$B$98,J22))","v":" "},{"$f":"IF(ISBLANK(B22),\"\",DATEDIF(C22,'Ref.datum & disciplines'!$A$2,\"y\"))","v":""},null,null,null,null,null,{"$f":"IF(ISBLANK(B22),\"\",MATCH(B22,'Algemene inl.'!$A$23:$A$98,0))","v":""}]
[null,null,{"$f":"IF(ISBLANK(B23),\" \",INDEX('Algemene inl.'!$B$23:$B$98,J23))","v":" "},{"$f":"IF(ISBLANK(B23),\"\",DATEDIF(C23,'Ref.datum & disciplines'!$A$2,\"y\"))","v":""},{"$f":"IF(ISBLANK(B23),\" \",VLOOKUP(L23,Tabel3[],2))","v":" "},{"$f":"IF(ISBLANK(B23),\"\",\"X\")","v":""},null,null,null,{"$f":"IF(ISBLANK(B23),\"\",MATCH(B23,'Algemene inl.'!$A$23:$A$98,0))","v":""},null,{"$f":"IF(ISBLANK(B23),\" \",(D23+D24)/2)","v":" "}]
[null,null,{"$f":"IF(ISBLANK(B24),\" \",INDEX('Algemene inl.'!$B$23:$B$98,J24))","v":" "},{"$f":"IF(ISBLANK(B24),\"\",DATEDIF(C24,'Ref.datum & disciplines'!$A$2,\"y\"))","v":""},null,null,null,null,null,{"$f":"IF(ISBLANK(B24),\"\",MATCH(B24,'Algemene inl.'!$A$23:$A$98,0))","v":""}]
[null,null,{"$f":"IF(ISBLANK(B25),\" \",INDEX('Algemene inl.'!$B$23:$B$98,J25))","v":" "},{"$f":"IF(ISBLANK(B25),\"\",DATEDIF(C25,'Ref.datum & disciplines'!$A$2,\"y\"))","v":""},{"$f":"IF(ISBLANK(B25),\" \",VLOOKUP(L25,Tabel3[],2))","v":" "},{"$f":"IF(ISBLANK(B25),\"\",\"X\")","v":""},null,null,null,{"$f":"IF(ISBLANK(B25),\"\",MATCH(B25,'Algemene inl.'!$A$23:$A$98,0))","v":""},null,{"$f":"IF(ISBLANK(B25),\" \",(D25+D26)/2)","v":" "}]
[null,null,{"$f":"IF(ISBLANK(B26),\" \",INDEX('Algemene inl.'!$B$23:$B$98,J26))","v":" "},{"$f":"IF(ISBLANK(B26),\"\",DATEDIF(C26,'Ref.datum & disciplines'!$A$2,\"y\"))","v":""},null,null,null,null,null,{"$f":"IF(ISBLANK(B26),\"\",MATCH(B26,'Algemene inl.'!$A$23:$A$98,0))","v":""}]
[null,null,{"$f":"IF(ISBLANK(B27),\" \",INDEX('Algemene inl.'!$B$23:$B$98,J27))","v":" "},{"$f":"IF(ISBLANK(B27),\"\",DATEDIF(C27,'Ref.datum & disciplines'!$A$2,\"y\"))","v":""},{"$f":"IF(ISBLANK(B27),\" \",VLOOKUP(L27,Tabel3[],2))","v":" "},{"$f":"IF(ISBLANK(B27),\"\",\"X\")","v":""},null,null,null,{"$f":"IF(ISBLANK(B27),\"\",MATCH(B27,'Algemene inl.'!$A$23:$A$98,0))","v":""},null,{"$f":"IF(ISBLANK(B27),\" \",(D27+D28)/2)","v":" "}]
[null,null,{"$f":"IF(ISBLANK(B28),\" \",INDEX('Algemene inl.'!$B$23:$B$98,J28))","v":" "},{"$f":"IF(ISBLANK(B28),\"\",DATEDIF(C28,'Ref.datum & disciplines'!$A$2,\"y\"))","v":""},null,null,null,null,null,{"$f":"IF(ISBLANK(B28),\"\",MATCH(B28,'Algemene inl.'!$A$23:$A$98,0))","v":""}]
[null,null,{"$f":"IF(ISBLANK(B29),\" \",INDEX('Algemene inl.'!$B$23:$B$98,J29))","v":" "},{"$f":"IF(ISBLANK(B29),\"\",DATEDIF(C29,'Ref.datum & disciplines'!$A$2,\"y\"))","v":""},{"$f":"IF(ISBLANK(B29),\" \",VLOOKUP(L29,Tabel3[],2))","v":" "},{"$f":"IF(ISBLANK(B29),\"\",\"X\")","v":""},null,null,null,{"$f":"IF(ISBLANK(B29),\"\",MATCH(B29,'Algemene inl.'!$A$23:$A$98,0))","v":""},null,{"$f":"IF(ISBLANK(B29),\" \",(D29+D30)/2)","v":" "}]
[null,null,{"$f":"IF(ISBLANK(B30),\" \",INDEX('Algemene inl.'!$B$23:$B$98,J30))","v":" "},{"$f":"IF(ISBLANK(B30),\"\",DATEDIF(C30,'Ref.datum & disciplines'!$A$2,\"y\"))","v":""},null,null,null,null,null,{"$f":"IF(ISBLANK(B30),\"\",MATCH(B30,'Algemene inl.'!$A$23:$A$98,0))","v":""}]
[null,null,{"$f":"IF(ISBLANK(B31),\" \",INDEX('Algemene inl.'!$B$23:$B$98,J31))","v":" "},{"$f":"IF(ISBLANK(B31),\"\",DATEDIF(C31,'Ref.datum & disciplines'!$A$2,\"y\"))","v":""},{"$f":"IF(ISBLANK(B31),\" \",VLOOKUP(L31,Tabel3[],2))","v":" "},{"$f":"IF(ISBLANK(B31),\"\",\"X\")","v":""},null,null,null,{"$f":"IF(ISBLANK(B31),\"\",MATCH(B31,'Algemene inl.'!$A$23:$A$98,0))","v":""},null,{"$f":"IF(ISBLANK(B31),\" \",(D31+D32)/2)","v":" "}]
[null,null,{"$f":"IF(ISBLANK(B32),\" \",INDEX('Algemene inl.'!$B$23:$B$98,J32))","v":" "},{"$f":"IF(ISBLANK(B32),\"\",DATEDIF(C32,'Ref.datum & disciplines'!$A$2,\"y\"))","v":""},null,null,null,null,null,{"$f":"IF(ISBLANK(B32),\"\",MATCH(B32,'Algemene inl.'!$A$23:$A$98,0))","v":""}]
[null,null,{"$f":"IF(ISBLANK(B33),\" \",INDEX('Algemene inl.'!$B$23:$B$98,J33))","v":" "},{"$f":"IF(ISBLANK(B33),\"\",DATEDIF(C33,'Ref.datum & disciplines'!$A$2,\"y\"))","v":""},{"$f":"IF(ISBLANK(B33),\" \",VLOOKUP(L33,Tabel3[],2))","v":" "},{"$f":"IF(ISBLANK(B33),\"\",\"X\")","v":""},null,null,null,{"$f":"IF(ISBLANK(B33),\"\",MATCH(B33,'Algemene inl.'!$A$23:$A$98,0))","v":""},null,{"$f":"IF(ISBLANK(B33),\" \",(D33+D34)/2)","v":" "}]
[null,null,{"$f":"IF(ISBLANK(B34),\" \",INDEX('Algemene inl.'!$B$23:$B$98,J34))","v":" "},{"$f":"IF(ISBLANK(B34),\"\",DATEDIF(C34,'Ref.datum & disciplines'!$A$2,\"y\"))","v":""},null,null,null,null,null,{"$f":"IF(ISBLANK(B34),\"\",MATCH(B34,'Algemene inl.'!$A$23:$A$98,0))","v":""}]
[null,null,{"$f":"IF(ISBLANK(B35),\" \",INDEX('Algemene inl.'!$B$23:$B$98,J35))","v":" "},{"$f":"IF(ISBLANK(B35),\"\",DATEDIF(C35,'Ref.datum & disciplines'!$A$2,\"y\"))","v":""},{"$f":"IF(ISBLANK(B35),\" \",VLOOKUP(L35,Tabel3[],2))","v":" "},{"$f":"IF(ISBLANK(B35),\"\",\"X\")","v":""},null,null,null,{"$f":"IF(ISBLANK(B35),\"\",MATCH(B35,'Algemene inl.'!$A$23:$A$98,0))","v":""},null,{"$f":"IF(ISBLANK(B35),\" \",(D35+D36)/2)","v":" "}]
[null,null,{"$f":"IF(ISBLANK(B36),\" \",INDEX('Algemene inl.'!$B$23:$B$98,J36))","v":" "},{"$f":"IF(ISBLANK(B36),\"\",DATEDIF(C36,'Ref.datum & disciplines'!$A$2,\"y\"))","v":""},null,null,null,null,null,{"$f":"IF(ISBLANK(B36),\"\",MATCH(B36,'Algemene inl.'!$A$23:$A$98,0))","v":""}]
[null,null,{"$f":"IF(ISBLANK(B37),\" \",INDEX('Algemene inl.'!$B$23:$B$98,J37))","v":" "},{"$f":"IF(ISBLANK(B37),\"\",DATEDIF(C37,'Ref.datum & disciplines'!$A$2,\"y\"))","v":""},{"$f":"IF(ISBLANK(B37),\" \",VLOOKUP(L37,Tabel3[],2))","v":" "},{"$f":"IF(ISBLANK(B37),\"\",\"X\")","v":""},null,null,null,{"$f":"IF(ISBLANK(B37),\"\",MATCH(B37,'Algemene inl.'!$A$23:$A$98,0))","v":""},null,{"$f":"IF(ISBLANK(B37),\" \",(D37+D38)/2)","v":" "}]
[null,null,{"$f":"IF(ISBLANK(B38),\" \",INDEX('Algemene inl.'!$B$23:$B$98,J38))","v":" "},{"$f":"IF(ISBLANK(B38),\"\",DATEDIF(C38,'Ref.datum & disciplines'!$A$2,\"y\"))","v":""},null,null,null,null,null,{"$f":"IF(ISBLANK(B38),\"\",MATCH(B38,'Algemene inl.'!$A$23:$A$98,0))","v":""}]
[null,null,{"$f":"IF(ISBLANK(B39),\" \",INDEX('Algemene inl.'!$B$23:$B$98,J39))","v":" "},{"$f":"IF(ISBLANK(B39),\"\",DATEDIF(C39,'Ref.datum & disciplines'!$A$2,\"y\"))","v":""},{"$f":"IF(ISBLANK(B39),\" \",VLOOKUP(L39,Tabel3[],2))","v":" "},{"$f":"IF(ISBLANK(B39),\"\",\"X\")","v":""},null,null,null,{"$f":"IF(ISBLANK(B39),\"\",MATCH(B39,'Algemene inl.'!$A$23:$A$98,0))","v":""},null,{"$f":"IF(ISBLANK(B39),\" \",(D39+D40)/2)","v":" "}]
[null,null,{"$f":"IF(ISBLANK(B40),\" \",INDEX('Algemene inl.'!$B$23:$B$98,J40))","v":" "},{"$f":"IF(ISBLANK(B40),\"\",DATEDIF(C40,'Ref.datum & disciplines'!$A$2,\"y\"))","v":""},null,null,null,null,null,{"$f":"IF(ISBLANK(B40),\"\",MATCH(B40,'Algemene inl.'!$A$23:$A$98,0))","v":""}]
[null,null,{"$f":"IF(ISBLANK(B41),\" \",INDEX('Algemene inl.'!$B$23:$B$98,J41))","v":" "},{"$f":"IF(ISBLANK(B41),\"\",DATEDIF(C41,'Ref.datum & disciplines'!$A$2,\"y\"))","v":""},{"$f":"IF(ISBLANK(B41),\" \",VLOOKUP(L41,Tabel3[],2))","v":" "},{"$f":"IF(ISBLANK(B41),\"\",\"X\")","v":""},null,null,null,{"$f":"IF(ISBLANK(B41),\"\",MATCH(B41,'Algemene inl.'!$A$23:$A$98,0))","v":""},null,{"$f":"IF(ISBLANK(B41),\" \",(D41+D42)/2)","v":" "}]
[null,null,{"$f":"IF(ISBLANK(B42),\" \",INDEX('Algemene inl.'!$B$23:$B$98,J42))","v":" "},{"$f":"IF(ISBLANK(B42),\"\",DATEDIF(C42,'Ref.datum & disciplines'!$A$2,\"y\"))","v":""},null,null,null,null,null,{"$f":"IF(ISBLANK(B42),\"\",MATCH(B42,'Algemene inl.'!$A$23:$A$98,0))","v":""}]
[null,null,{"$f":"IF(ISBLANK(B43),\" \",INDEX('Algemene inl.'!$B$23:$B$98,J43))","v":" "},{"$f":"IF(ISBLANK(B43),\"\",DATEDIF(C43,'Ref.datum & disciplines'!$A$2,\"y\"))","v":""},{"$f":"IF(ISBLANK(B43),\" \",VLOOKUP(L43,Tabel3[],2))","v":" "},{"$f":"IF(ISBLANK(B43),\"\",\"X\")","v":""},null,null,null,{"$f":"IF(ISBLANK(B43),\"\",MATCH(B43,'Algemene inl.'!$A$23:$A$98,0))","v":""},null,{"$f":"IF(ISBLANK(B43),\" \",(D43+D44)/2)","v":" "}]
[null,null,{"$f":"IF(ISBLANK(B44),\" \",INDEX('Algemene inl.'!$B$23:$B$98,J44))","v":" "},{"$f":"IF(ISBLANK(B44),\"\",DATEDIF(C44,'Ref.datum & disciplines'!$A$2,\"y\"))","v":""},null,null,null,null,null,{"$f":"IF(ISBLANK(B44),\"\",MATCH(B44,'Algemene inl.'!$A$23:$A$98,0))","v":""}]
[null,null,{"$f":"IF(ISBLANK(B45),\" \",INDEX('Algemene inl.'!$B$23:$B$98,J45))","v":" "},{"$f":"IF(ISBLANK(B45),\"\",DATEDIF(C45,'Ref.datum & disciplines'!$A$2,\"y\"))","v":""},{"$f":"IF(ISBLANK(B45),\" \",VLOOKUP(L45,Tabel3[],2))","v":" "},{"$f":"IF(ISBLANK(B45),\"\",\"X\")","v":""},null,null,null,{"$f":"IF(ISBLANK(B45),\"\",MATCH(B45,'Algemene inl.'!$A$23:$A$98,0))","v":""},null,{"$f":"IF(ISBLANK(B45),\" \",(D45+D46)/2)","v":" "}]
[null,null,{"$f":"IF(ISBLANK(B46),\" \",INDEX('Algemene inl.'!$B$23:$B$98,J46))","v":" "},{"$f":"IF(ISBLANK(B46),\"\",DATEDIF(C46,'Ref.datum & disciplines'!$A$2,\"y\"))","v":""},null,null,null,null,null,{"$f":"IF(ISBLANK(B46),\"\",MATCH(B46,'Algemene inl.'!$A$23:$A$98,0))","v":""}]
[null,null,{"$f":"IF(ISBLANK(B47),\" \",INDEX('Algemene inl.'!$B$23:$B$98,J47))","v":" "},{"$f":"IF(ISBLANK(B47),\"\",DATEDIF(C47,'Ref.datum & disciplines'!$A$2,\"y\"))","v":""},{"$f":"IF(ISBLANK(B47),\" \",VLOOKUP(L47,Tabel3[],2))","v":" "},{"$f":"IF(ISBLANK(B47),\"\",\"X\")","v":""},null,null,null,{"$f":"IF(ISBLANK(B47),\"\",MATCH(B47,'Algemene inl.'!$A$23:$A$98,0))","v":""},null,{"$f":"IF(ISBLANK(B47),\" \",(D47+D48)/2)","v":" "}]
[null,null,{"$f":"IF(ISBLANK(B48),\" \",INDEX('Algemene inl.'!$B$23:$B$98,J48))","v":" "},{"$f":"IF(ISBLANK(B48),\"\",DATEDIF(C48,'Ref.datum & disciplines'!$A$2,\"y\"))","v":""},null,null,null,null,null,{"$f":"IF(ISBLANK(B48),\"\",MATCH(B48,'Algemene inl.'!$A$23:$A$98,0))","v":""}]
[null,null,{"$f":"IF(ISBLANK(B49),\" \",INDEX('Algemene inl.'!$B$23:$B$98,J49))","v":" "},{"$f":"IF(ISBLANK(B49),\"\",DATEDIF(C49,'Ref.datum & disciplines'!$A$2,\"y\"))","v":""},{"$f":"IF(ISBLANK(B49),\" \",VLOOKUP(L49,Tabel3[],2))","v":" "},{"$f":"IF(ISBLANK(B49),\"\",\"X\")","v":""},null,null,null,{"$f":"IF(ISBLANK(B49),\"\",MATCH(B49,'Algemene inl.'!$A$23:$A$98,0))","v":""},null,{"$f":"IF(ISBLANK(B49),\" \",(D49+D50)/2)","v":" "}]
[null,null,{"$f":"IF(ISBLANK(B50),\" \",INDEX('Algemene inl.'!$B$23:$B$98,J50))","v":" "},{"$f":"IF(ISBLANK(B50),\"\",DATEDIF(C50,'Ref.datum & disciplines'!$A$2,\"y\"))","v":""},null,null,null,null,null,{"$f":"IF(ISBLANK(B50),\"\",MATCH(B50,'Algemene inl.'!$A$23:$A$98,0))","v":""}]
[null,null,{"$f":"IF(ISBLANK(B51),\" \",INDEX('Algemene inl.'!$B$23:$B$98,J51))","v":" "},{"$f":"IF(ISBLANK(B51),\"\",DATEDIF(C51,'Ref.datum & disciplines'!$A$2,\"y\"))","v":""},{"$f":"IF(ISBLANK(B51),\" \",VLOOKUP(L51,Tabel3[],2))","v":" "},{"$f":"IF(ISBLANK(B51),\"\",\"X\")","v":""},null,null,null,{"$f":"IF(ISBLANK(B51),\"\",MATCH(B51,'Algemene inl.'!$A$23:$A$98,0))","v":""},null,{"$f":"IF(ISBLANK(B51),\" \",(D51+D52)/2)","v":" "}]
[null,null,{"$f":"IF(ISBLANK(B52),\" \",INDEX('Algemene inl.'!$B$23:$B$98,J52))","v":" "},{"$f":"IF(ISBLANK(B52),\"\",DATEDIF(C52,'Ref.datum & disciplines'!$A$2,\"y\"))","v":""},null,null,null,null,null,{"$f":"IF(ISBLANK(B52),\"\",MATCH(B52,'Algemene inl.'!$A$23:$A$98,0))","v":""}]
[null,null,{"$f":"IF(ISBLANK(B53),\" \",INDEX('Algemene inl.'!$B$23:$B$98,J53))","v":" "},{"$f":"IF(ISBLANK(B53),\"\",DATEDIF(C53,'Ref.datum & disciplines'!$A$2,\"y\"))","v":""},{"$f":"IF(ISBLANK(B53),\" \",VLOOKUP(L53,Tabel3[],2))","v":" "},{"$f":"IF(ISBLANK(B53),\"\",\"X\")","v":""},null,null,null,{"$f":"IF(ISBLANK(B53),\"\",MATCH(B53,'Algemene inl.'!$A$23:$A$98,0))","v":""},null,{"$f":"IF(ISBLANK(B53),\" \",(D53+D54)/2)","v":" "}]
[null,null,{"$f":"IF(ISBLANK(B54),\" \",INDEX('Algemene inl.'!$B$23:$B$98,J54))","v":" "},{"$f":"IF(ISBLANK(B54),\"\",DATEDIF(C54,'Ref.datum & disciplines'!$A$2,\"y\"))","v":""},null,null,null,null,null,{"$f":"IF(ISBLANK(B54),\"\",MATCH(B54,'Algemene inl.'!$A$23:$A$98,0))","v":""}]
[null,null,{"$f":"IF(ISBLANK(B55),\" \",INDEX('Algemene inl.'!$B$23:$B$98,J55))","v":" "},{"$f":"IF(ISBLANK(B55),\"\",DATEDIF(C55,'Ref.datum & disciplines'!$A$2,\"y\"))","v":""},{"$f":"IF(ISBLANK(B55),\" \",VLOOKUP(L55,Tabel3[],2))","v":" "},{"$f":"IF(ISBLANK(B55),\"\",\"X\")","v":""},null,null,null,{"$f":"IF(ISBLANK(B55),\"\",MATCH(B55,'Algemene inl.'!$A$23:$A$98,0))","v":""},null,{"$f":"IF(ISBLANK(B55),\" \",(D55+D56)/2)","v":" "}]
[null,null,{"$f":"IF(ISBLANK(B56),\" \",INDEX('Algemene inl.'!$B$23:$B$98,J56))","v":" "},{"$f":"IF(ISBLANK(B56),\"\",DATEDIF(C56,'Ref.datum & disciplines'!$A$2,\"y\"))","v":""},null,null,null,null,null,{"$f":"IF(ISBLANK(B56),\"\",MATCH(B56,'Algemene inl.'!$A$23:$A$98,0))","v":""}]
[null,null,null,null,null,null,null,null,null,{"$f":"IF(ISBLANK(B57),\"\",MATCH(B57,'Algemene inl.'!$A$23:$A$98,0))","v":""}]

{"sheet":"Ensemble (klein team)","index":5,"n_rows":259,"n_cols":12,"rows_kept":259,"cut":false,"hidden":false,"merged":[[32,0,35,0],[32,4,36,4],[40,0,43,0],[40,4,44,4],[8,0,11,0],[16,0,19,0],[16,4,20,4],[24,0,27,0],[24,4,28,4],[8,4,12,4],[72,0,75,0],[72,4,76,4],[80,0,83,0],[80,4,84,4],[48,0,51,0],[48,4,52,4],[56,0,59,0],[56,4,60,4],[64,0,67,0],[64,4,68,4]]}
[null,null,null,null,{"$f":"'Algemene inl.'!A6","v":"Inschrijvingsformulier "}]
[null,null,null,null,{"$f":"'Algemene inl.'!G7","v":"Duid hier de wedstrijd aan"}]
[null,null,null,null,{"$f":"'Algemene inl.'!A9","v":0}]
[]
[null,null,null,null,null,null,null,null,null,"nodig om geboortedatum op te halen!!!"]
["ENSEMBLE (3-4 deelnemers)",null,null,null,{"$f":"IF(ISBLANK('Algemene inl.'!$B$13),\"\",'Algemene inl.'!$B$13)","v":""}]
[]
["Discipline","Voornaam + achternaam","Geboorte-datum","Leeftijd","Categorie",null,null,null,null,null,null,"Gem."]
[null,null,{"$f":"IF(ISBLANK(B9),\" \",INDEX('Algemene inl.'!$B$23:$B$98,J9))","v":" "},{"$f":"IF(ISBLANK(B9),\"\",DATEDIF(C9,'Ref.datum & disciplines'!$A$2,\"y\"))","v":""},{"$f":"IF(ISBLANK(B9),\" \",VLOOKUP(D14,Tabel3[],2))","v":" "},{"$f":"IF(ISBLANK(B9),\"\",\"X\")","v":""},null,null,null,{"$f":"IF(ISBLANK(B9),\"\",MATCH(B9,'Algemene inl.'!$A$23:$A$98,0))","v":""}]
[null,null,{"$f":"IF(ISBLANK(B10),\" \",INDEX('Algemene inl.'!$B$23:$B$98,J10))","v":" "},{"$f":"IF(ISBLANK(B10),\"\",DATEDIF(C10,'Ref.datum & disciplines'!$A$2,\"y\"))","v":""},null,null,null,null,null,{"$f":"IF(ISBLANK(B10),\"\",MATCH(B10,'Algemene inl.'!$A$23:$A$98,0))","v":""}]
[null,null,{"$f":"IF(ISBLANK(B11),\" \",INDEX('Algemene inl.'!$B$23:$B$98,J11))","v":" "},{"$f":"IF(ISBLANK(B11),\"\",DATEDIF(C11,'Ref.datum & disciplines'!$A$2,\"y\"))","v":""},null,null,null,null,null,{"$f":"IF(ISBLANK(B11),\"\",MATCH(B11,'Algemene inl.'!$A$23:$A$98,0))","v":""}]
[null,null,{"$f":"IF(ISBLANK(B12),\" \",INDEX('Algemene inl.'!$B$23:$B$98,J12))","v":" "},{"$f":"IF(ISBLANK(B12),\"\",DATEDIF(C12,'Ref.datum & disciplines'!$A$2,\"y\"))","v":""},null,null,null,null,null,{"$f":"IF(ISBLANK(B12),\"\",MATCH(B12,'Algemene inl.'!$A$23:$A$98,0))","v":""}]
["Reserve",null,{"$f":"IF(ISBLANK(B13),\" \",INDEX('Algemene inl.'!$B$23:$B$98,J13))","v":" "},{"$f":"IF(ISBLANK(B13),\"\",DATEDIF(C13,'Ref.datum & disciplines'!$A$2,\"y\"))","v":""},null,null,null,null,null,{"$f":"IF(ISBLANK(B13),\"\",MATCH(B13,'Algemene inl.'!$A$23:$A$98,0))","v":""}]
[null,null,"Gemiddelde leeftijd =",{"$f":"IF(ISBLANK(B9),\" \",AVERAGE(D9:D12))","v":" "},null,null,null,null,null,{"$f":"IF(ISBLANK(B14),\"\",MATCH(B14,'Algemene inl.'!$A$23:$A$98,0))","v":""}]
[null,null,null,null,null,null,null,null,null,{"$f":"IF(ISBLANK(B15),\"\",MATCH(B15,'Algemene inl.'!$A$23:$A$98,0))","v":""}]
["Discipline","Voornaam + achternaam","Geboorte-datum","Leeftijd","Categorie",null,null,null,null,null,null,"Gem."]
[null,null,{"$f":"IF(ISBLANK(B17),\" \",INDEX('Algemene inl.'!$B$23:$B$98,J17))","v":" "},{"$f":"IF(ISBLANK(B17),\"\",DATEDIF(C17,'Ref.datum & disciplines'!$A$2,\"y\"))","v":""},{"$f":"IF(ISBLANK(B17),\" \",VLOOKUP(D22,Tabel3[],2))","v":" "},{"$f":"IF(ISBLANK(B17),\"\",\"X\")","v":""},null,null,null,{"$f":"IF(ISBLANK(B17),\"\",MATCH(B17,'Algemene inl.'!$A$23:$A$98,0))","v":""}]
[null,null,{"$f":"IF(ISBLANK(B18),\" \",INDEX('Algemene inl.'!$B$23:$B$98,J18))","v":" "},{"$f":"IF(ISBLANK(B18),\"\",DATEDIF(C18,'Ref.datum & disciplines'!$A$2,\"y\"))","v":""},null,null,null,null,null,{"$f":"IF(ISBLANK(B18),\"\",MATCH(B18,'Algemene inl.'!$A$23:$A$98,0))","v":""}]
[null,null,{"$f":"IF(ISBLANK(B19),\" \",INDEX('Algemene inl.'!$B$23:$B$98,J19))","v":" "},{"$f":"IF(ISBLANK(B19),\"\",DATEDIF(C19,'Ref.datum & disciplines'!$A$2,\"y\"))","v":""},null,null,null,null,null,{"$f":"IF(ISBLANK(B19),\"\",MATCH(B19,'Algemene inl.'!$A$23:$A$98,0))","v":""}]
[null,null,{"$f":"IF(ISBLANK(B20),\" \",INDEX('Algemene inl.'!$B$23:$B$98,J20))","v":" "},{"$f":"IF(ISBLANK(B20),\"\",DATEDIF(C20,'Ref.datum & disciplines'!$A$2,\"y\"))","v":""},null,null,null,null,null,{"$f":"IF(ISBLANK(B20),\"\",MATCH(B20,'Algemene inl.'!$A$23:$A$98,0))","v":""}]
["Reserve",null,{"$f":"IF(ISBLANK(B21),\" \",INDEX('Algemene inl.'!$B$23:$B$98,J21))","v":" "},{"$f":"IF(ISBLANK(B21),\"\",DATEDIF(C21,'Ref.datum & disciplines'!$A$2,\"y\"))","v":""},null,null,null,null,null,{"$f":"IF(ISBLANK(B21),\"\",MATCH(B21,'Algemene inl.'!$A$23:$A$98,0))","v":""}]
[null,null,"Gemiddelde leeftijd =",{"$f":"IF(ISBLANK(B17),\" \",AVERAGE(D17:D20))","v":" "},null,null,null,null,null,{"$f":"IF(ISBLANK(B22),\"\",MATCH(B22,'Algemene inl.'!$A$23:$A$98,0))","v":""}]
[null,null,null,null,null,null,null,null,null,{"$f":"IF(ISBLANK(B23),\"\",MATCH(B23,'Algemene inl.'!$A$23:$A$98,0))","v":""}]
["Discipline","Voornaam + achternaam","Geboorte-datum","Leeftijd","Categorie",null,null,null,null,null,null,"Gem."]
[null,null,{"$f":"IF(ISBLANK(B25),\" \",INDEX('Algemene inl.'!$B$23:$B$98,J25))","v":" "},{"$f":"IF(ISBLANK(B25),\"\",DATEDIF(C25,'Ref.datum & disciplines'!$A$2,\"y\"))","v":""},{"$f":"IF(ISBLANK(B25),\" \",VLOOKUP(D30,Tabel3[],2))","v":" "},{"$f":"IF(ISBLANK(B25),\"\",\"X\")","v":""},null,null,null,{"$f":"IF(ISBLANK(B25),\"\",MATCH(B25,'Algemene inl.'!$A$23:$A$98,0))","v":""}]
[null,null,{"$f":"IF(ISBLANK(B26),\" \",INDEX('Algemene inl.'!$B$23:$B$98,J26))","v":" "},{"$f":"IF(ISBLANK(B26),\"\",DATEDIF(C26,'Ref.datum & disciplines'!$A$2,\"y\"))","v":""},null,null,null,null,null,{"$f":"IF(ISBLANK(B26),\"\",MATCH(B26,'Algemene inl.'!$A$23:$A$98,0))","v":""}]
[null,null,{"$f":"IF(ISBLANK(B27),\" \",INDEX('Algemene inl.'!$B$23:$B$98,J27))","v":" "},{"$f":"IF(ISBLANK(B27),\"\",DATEDIF(C27,'Ref.datum & disciplines'!$A$2,\"y\"))","v":""},null,null,null,null,null,{"$f":"IF(ISBLANK(B27),\"\",MATCH(B27,'Algemene inl.'!$A$23:$A$98,0))","v":""}]
[null,null,{"$f":"IF(ISBLANK(B28),\" \",INDEX('Algemene inl.'!$B$23:$B$98,J28))","v":" "},{"$f":"IF(ISBLANK(B28),\"\",DATEDIF(C28,'Ref.datum & disciplines'!$A$2,\"y\"))","v":""},null,null,null,null,null,{"$f":"IF(ISBLANK(B28),\"\",MATCH(B28,'Algemene inl.'!$A$23:$A$98,0))","v":""}]
["Reserve",null,{"$f":"IF(ISBLANK(B29),\" \",INDEX('Algemene inl.'!$B$23:$B$98,J29))","v":" "},{"$f":"IF(ISBLANK(B29),\"\",DATEDIF(C29,'Ref.datum & disciplines'!$A$2,\"y\"))","v":""},null,null,null,null,null,{"$f":"IF(ISBLANK(B29),\"\",MATCH(B29,'Algemene inl.'!$A$23:$A$98,0))","v":""}]
[null,null,"Gemiddelde leeftijd =",{"$f":"IF(ISBLANK(B25),\" \",AVERAGE(D25:D28))","v":" "},null,null,null,null,null,{"$f":"IF(ISBLANK(B30),\"\",MATCH(B30,'Algemene inl.'!$A$23:$A$98,0))","v":""}]
[null,null,null,null,null,null,null,null,null,{"$f":"IF(ISBLANK(B31),\"\",MATCH(B31,'Algemene inl.'!$A$23:$A$98,0))","v":""}]
["Discipline","Voornaam + achternaam","Geboorte-datum","Leeftijd","Categorie",null,null,null,null,null,null,"Gem."]
[null,null,{"$f":"IF(ISBLANK(B33),\" \",INDEX('Algemene inl.'!$B$23:$B$98,J33))","v":" "},{"$f":"IF(ISBLANK(B33),\"\",DATEDIF(C33,'Ref.datum & disciplines'!$A$2,\"y\"))","v":""},{"$f":"IF(ISBLANK(B33),\" \",VLOOKUP(D38,Tabel3[],2))","v":" "},{"$f":"IF(ISBLANK(B33),\"\",\"X\")","v":""},null,null,null,{"$f":"IF(ISBLANK(B33),\"\",MATCH(B33,'Algemene inl.'!$A$23:$A$98,0))","v":""}]
[null,null,{"$f":"IF(ISBLANK(B34),\" \",INDEX('Algemene inl.'!$B$23:$B$98,J34))","v":" "},{"$f":"IF(ISBLANK(B34),\"\",DATEDIF(C34,'Ref.datum & disciplines'!$A$2,\"y\"))","v":""},null,null,null,null,null,{"$f":"IF(ISBLANK(B34),\"\",MATCH(B34,'Algemene inl.'!$A$23:$A$98,0))","v":""}]
[null,null,{"$f":"IF(ISBLANK(B35),\" \",INDEX('Algemene inl.'!$B$23:$B$98,J35))","v":" "},{"$f":"IF(ISBLANK(B35),\"\",DATEDIF(C35,'Ref.datum & disciplines'!$A$2,\"y\"))","v":""},null,null,null,null,null,{"$f":"IF(ISBLANK(B35),\"\",MATCH(B35,'Algemene inl.'!$A$23:$A$98,0))","v":""}]
[null,null,{"$f":"IF(ISBLANK(B36),\" \",INDEX('Algemene inl.'!$B$23:$B$98,J36))","v":" "},{"$f":"IF(ISBLANK(B36),\"\",DATEDIF(C36,'Ref.datum & disciplines'!$A$2,\"y\"))","v":""},null,null,null,null,null,{"$f":"IF(ISBLANK(B36),\"\",MATCH(B36,'Algemene inl.'!$A$23:$A$98,0))","v":""}]
["Reserve",null,{"$f":"IF(ISBLANK(B37),\" \",INDEX('Algemene inl.'!$B$23:$B$98,J37))","v":" "},{"$f":"IF(ISBLANK(B37),\"\",DATEDIF(C37,'Ref.datum & disciplines'!$A$2,\"y\"))","v":""},null,null,null,null,null,{"$f":"IF(ISBLANK(B37),\"\",MATCH(B37,'Algemene inl.'!$A$23:$A$98,0))","v":""}]
[null,null,"Gemiddelde leeftijd =",{"$f":"IF(ISBLANK(B33),\" \",AVERAGE(D33:D36))","v":" "},null,null,null,null,null,{"$f":"IF(ISBLANK(B38),\"\",MATCH(B38,'Algemene inl.'!$A$23:$A$98,0))","v":""}]
[null,null,null,null,null,null,null,null,null,{"$f":"IF(ISBLANK(B39),\"\",MATCH(B39,'Algemene inl.'!$A$23:$A$98,0))","v":""}]
["Discipline","Voornaam + achternaam","Geboorte-datum","Leeftijd","Categorie",null,null,null,null,null,null,"Gem."]
[null,null,{"$f":"IF(ISBLANK(B41),\" \",INDEX('Algemene inl.'!$B$23:$B$98,J41))","v":" "},{"$f":"IF(ISBLANK(B41),\"\",DATEDIF(C41,'Ref.datum & disciplines'!$A$2,\"y\"))","v":""},{"$f":"IF(ISBLANK(B41),\" \",VLOOKUP(D46,Tabel3[],2))","v":" "},{"$f":"IF(ISBLANK(B41),\"\",\"X\")","v":""},null,null,null,{"$f":"IF(ISBLANK(B41),\"\",MATCH(B41,'Algemene inl.'!$A$23:$A$98,0))","v":""}]
[null,null,{"$f":"IF(ISBLANK(B42),\" \",INDEX('Algemene inl.'!$B$23:$B$98,J42))","v":" "},{"$f":"IF(ISBLANK(B42),\"\",DATEDIF(C42,'Ref.datum & disciplines'!$A$2,\"y\"))","v":""},null,null,null,null,null,{"$f":"IF(ISBLANK(B42),\"\",MATCH(B42,'Algemene inl.'!$A$23:$A$98,0))","v":""}]
[null,null,{"$f":"IF(ISBLANK(B43),\" \",INDEX('Algemene inl.'!$B$23:$B$98,J43))","v":" "},{"$f":"IF(ISBLANK(B43),\"\",DATEDIF(C43,'Ref.datum & disciplines'!$A$2,\"y\"))","v":""},null,null,null,null,null,{"$f":"IF(ISBLANK(B43),\"\",MATCH(B43,'Algemene inl.'!$A$23:$A$98,0))","v":""}]
[null,null,{"$f":"IF(ISBLANK(B44),\" \",INDEX('Algemene inl.'!$B$23:$B$98,J44))","v":" "},{"$f":"IF(ISBLANK(B44),\"\",DATEDIF(C44,'Ref.datum & disciplines'!$A$2,\"y\"))","v":""},null,null,null,null,null,{"$f":"IF(ISBLANK(B44),\"\",MATCH(B44,'Algemene inl.'!$A$23:$A$98,0))","v":""}]
["Reserve",null,{"$f":"IF(ISBLANK(B45),\" \",INDEX('Algemene inl.'!$B$23:$B$98,J45))","v":" "},{"$f":"IF(ISBLANK(B45),\"\",DATEDIF(C45,'Ref.datum & disciplines'!$A$2,\"y\"))","v":""},null,null,null,null,null,{"$f":"IF(ISBLANK(B45),\"\",MATCH(B45,'Algemene inl.'!$A$23:$A$98,0))","v":""}]
[null,null,"Gemiddelde leeftijd =",{"$f":"IF(ISBLANK(B41),\" \",AVERAGE(D41:D44))","v":" "},null,null,null,null,null,{"$f":"IF(ISBLANK(B46),\"\",MATCH(B46,'Algemene inl.'!$A$23:$A$98,0))","v":""}]
[null,null,null,null,null,null,null,null,null,{"$f":"IF(ISBLANK(B47),\"\",MATCH(B47,'Algemene inl.'!$A$23:$A$98,0))","v":""}]
["Discipline","Voornaam + achternaam","Geboorte-datum","Leeftijd","Categorie",null,null,null,null,null,null,"Gem."]
[null,null,{"$f":"IF(ISBLANK(B49),\" \",INDEX('Algemene inl.'!$B$23:$B$98,J49))","v":" "},{"$f":"IF(ISBLANK(B49),\"\",DATEDIF(C49,'Ref.datum & disciplines'!$A$2,\"y\"))","v":""},{"$f":"IF(ISBLANK(B49),\" \",VLOOKUP(D54,Tabel3[],2))","v":" "},{"$f":"IF(ISBLANK(B49),\"\",\"X\")","v":""},null,null,null,{"$f":"IF(ISBLANK(B49),\"\",MATCH(B49,'Algemene inl.'!$A$23:$A$98,0))","v":""}]
[null,null,{"$f":"IF(ISBLANK(B50),\" \",INDEX('Algemene inl.'!$B$23:$B$98,J50))","v":" "},{"$f":"IF(ISBLANK(B50),\"\",DATEDIF(C50,'Ref.datum & disciplines'!$A$2,\"y\"))","v":""},null,null,null,null,null,{"$f":"IF(ISBLANK(B50),\"\",MATCH(B50,'Algemene inl.'!$A$23:$A$98,0))","v":""}]
[null,null,{"$f":"IF(ISBLANK(B51),\" \",INDEX('Algemene inl.'!$B$23:$B$98,J51))","v":" "},{"$f":"IF(ISBLANK(B51),\"\",DATEDIF(C51,'Ref.datum & disciplines'!$A$2,\"y\"))","v":""},null,null,null,null,null,{"$f":"IF(ISBLANK(B51),\"\",MATCH(B51,'Algemene inl.'!$A$23:$A$98,0))","v":""}]
[null,null,{"$f":"IF(ISBLANK(B52),\" \",INDEX('Algemene inl.'!$B$23:$B$98,J52))","v":" "},{"$f":"IF(ISBLANK(B52),\"\",DATEDIF(C52,'Ref.datum & disciplines'!$A$2,\"y\"))","v":""},null,null,null,null,null,{"$f":"IF(ISBLANK(B52),\"\",MATCH(B52,'Algemene inl.'!$A$23:$A$98,0))","v":""}]
["Reserve",null,{"$f":"IF(ISBLANK(B53),\" \",INDEX('Algemene inl.'!$B$23:$B$98,J53))","v":" "},{"$f":"IF(ISBLANK(B53),\"\",DATEDIF(C53,'Ref.datum & disciplines'!$A$2,\"y\"))","v":""},null,null,null,null,null,{"$f":"IF(ISBLANK(B53),\"\",MATCH(B53,'Algemene inl.'!$A$23:$A$98,0))","v":""}]
[null,null,"Gemiddelde leeftijd =",{"$f":"IF(ISBLANK(B49),\" \",AVERAGE(D49:D52))","v":" "},null,null,null,null,null,{"$f":"IF(ISBLANK(B54),\"\",MATCH(B54,'Algemene inl.'!$A$23:$A$98,0))","v":""}]
[null,null,null,null,null,null,null,null,null,{"$f":"IF(ISBLANK(B55),\"\",MATCH(B55,'Algemene inl.'!$A$23:$A$98,0))","v":""}]
["Discipline","Voornaam + achternaam","Geboorte-datum","Leeftijd","Categorie",null,null,null,null,null,null,"Gem."]
[null,null,{"$f":"IF(ISBLANK(B57),\" \",INDEX('Algemene inl.'!$B$23:$B$98,J57))","v":" "},{"$f":"IF(ISBLANK(B57),\"\",DATEDIF(C57,'Ref.datum & disciplines'!$A$2,\"y\"))","v":""},{"$f":"IF(ISBLANK(B57),\" \",VLOOKUP(D62,Tabel3[],2))","v":" "},{"$f":"IF(ISBLANK(B57),\"\",\"X\")","v":""},null,null,null,{"$f":"IF(ISBLANK(B57),\"\",MATCH(B57,'Algemene inl.'!$A$23:$A$98,0))","v":""}]
[null,null,{"$f":"IF(ISBLANK(B58),\" \",INDEX('Algemene inl.'!$B$23:$B$98,J58))","v":" "},{"$f":"IF(ISBLANK(B58),\"\",DATEDIF(C58,'Ref.datum & disciplines'!$A$2,\"y\"))","v":""},null,null,null,null,null,{"$f":"IF(ISBLANK(B58),\"\",MATCH(B58,'Algemene inl.'!$A$23:$A$98,0))","v":""}]
[null,null,{"$f":"IF(ISBLANK(B59),\" \",INDEX('Algemene inl.'!$B$23:$B$98,J59))","v":" "},{"$f":"IF(ISBLANK(B59),\"\",DATEDIF(C59,'Ref.datum & disciplines'!$A$2,\"y\"))","v":""},null,null,null,null,null,{"$f":"IF(ISBLANK(B59),\"\",MATCH(B59,'Algemene inl.'!$A$23:$A$98,0))","v":""}]
[null,null,{"$f":"IF(ISBLANK(B60),\" \",INDEX('Algemene inl.'!$B$23:$B$98,J60))","v":" "},{"$f":"IF(ISBLANK(B60),\"\",DATEDIF(C60,'Ref.datum & disciplines'!$A$2,\"y\"))","v":""},null,null,null,null,null,{"$f":"IF(ISBLANK(B60),\"\",MATCH(B60,'Algemene inl.'!$A$23:$A$98,0))","v":""}]
["Reserve",null,{"$f":"IF(ISBLANK(B61),\" \",INDEX('Algemene inl.'!$B$23:$B$98,J61))","v":" "},{"$f":"IF(ISBLANK(B61),\"\",DATEDIF(C61,'Ref.datum & disciplines'!$A$2,\"y\"))","v":""},null,null,null,null,null,{"$f":"IF(ISBLANK(B61),\"\",MATCH(B61,'Algemene inl.'!$A$23:$A$98,0))","v":""}]
[null,null,"Gemiddelde leeftijd =",{"$f":"IF(ISBLANK(B57),\" \",AVERAGE(D57:D60))","v":" "},null,null,null,null,null,{"$f":"IF(ISBLANK(B62),\"\",MATCH(B62,'Algemene inl.'!$A$23:$A$98,0))","v":""}]
[null,null,null,null,null,null,null,null,null,{"$f":"IF(ISBLANK(B63),\"\",MATCH(B63,'Algemene inl.'!$A$23:$A$98,0))","v":""}]
["Discipline","Voornaam + achternaam","Geboorte-datum","Leeftijd","Categorie",null,null,null,null,{"$f":"IF(ISBLANK(B64),\"\",MATCH(B64,'Algemene inl.'!$A$23:$A$98,0))","v":{"$error":"#N/A"}}]
[null,null,{"$f":"IF(ISBLANK(B65),\" \",INDEX('Algemene inl.'!$B$23:$B$98,J65))","v":" "},{"$f":"IF(ISBLANK(B65),\"\",DATEDIF(C65,'Ref.datum & disciplines'!$A$2,\"y\"))","v":""},{"$f":"IF(ISBLANK(B65),\" \",VLOOKUP(D70,Tabel3[],2))","v":" "},{"$f":"IF(ISBLANK(B65),\"\",\"X\")","v":""},null,null,null,{"$f":"IF(ISBLANK(B65),\"\",MATCH(B65,'Algemene inl.'!$A$23:$A$98,0))","v":""}]
[null,null,{"$f":"IF(ISBLANK(B66),\" \",INDEX('Algemene inl.'!$B$23:$B$98,J66))","v":" "},{"$f":"IF(ISBLANK(B66),\"\",DATEDIF(C66,'Ref.datum & disciplines'!$A$2,\"y\"))","v":""},null,null,null,null,null,{"$f":"IF(ISBLANK(B66),\"\",MATCH(B66,'Algemene inl.'!$A$23:$A$98,0))","v":""}]
[null,null,{"$f":"IF(ISBLANK(B67),\" \",INDEX('Algemene inl.'!$B$23:$B$98,J67))","v":" "},{"$f":"IF(ISBLANK(B67),\"\",DATEDIF(C67,'Ref.datum & disciplines'!$A$2,\"y\"))","v":""},null,null,null,null,null,{"$f":"IF(ISBLANK(B67),\"\",MATCH(B67,'Algemene inl.'!$A$23:$A$98,0))","v":""}]
[null,null,{"$f":"IF(ISBLANK(B68),\" \",INDEX('Algemene inl.'!$B$23:$B$98,J68))","v":" "},{"$f":"IF(ISBLANK(B68),\"\",DATEDIF(C68,'Ref.datum & disciplines'!$A$2,\"y\"))","v":""},null,null,null,null,null,{"$f":"IF(ISBLANK(B68),\"\",MATCH(B68,'Algemene inl.'!$A$23:$A$98,0))","v":""}]
["Reserve",null,{"$f":"IF(ISBLANK(B69),\" \",INDEX('Algemene inl.'!$B$23:$B$98,J69))","v":" "},{"$f":"IF(ISBLANK(B69),\"\",DATEDIF(C69,'Ref.datum & disciplines'!$A$2,\"y\"))","v":""},null,null,null,null,null,{"$f":"IF(ISBLANK(B69),\"\",MATCH(B69,'Algemene inl.'!$A$23:$A$98,0))","v":""}]
[null,null,"Gemiddelde leeftijd =",{"$f":"IF(ISBLANK(B65),\" \",AVERAGE(D65:D68))","v":" "},null,null,null,null,null,{"$f":"IF(ISBLANK(B70),\"\",MATCH(B70,'Algemene inl.'!$A$23:$A$98,0))","v":""}]
[null,null,null,null,null,null,null,null,null,{"$f":"IF(ISBLANK(B71),\"\",MATCH(B71,'Algemene inl.'!$A$23:$A$98,0))","v":""}]
["Discipline","Voornaam + achternaam","Geboorte-datum","Leeftijd","Categorie",null,null,null,null,null,null,"Gem."]
[null,null,{"$f":"IF(ISBLANK(B73),\" \",INDEX('Algemene inl.'!$B$23:$B$57,J73))","v":" "},{"$f":"IF(ISBLANK(B73),\"\",DATEDIF(C73,'Ref.datum & disciplines'!$A$2,\"y\"))","v":""},{"$f":"IF(ISBLANK(B73),\" \",VLOOKUP(D78,Tabel3[],2))","v":" "},{"$f":"IF(ISBLANK(B73),\"\",\"X\")","v":""},null,null,null,{"$f":"IF(ISBLANK(B73),\"\",MATCH(B73,'Algemene inl.'!$A$23:$A$98,0))","v":""}]
[null,null,{"$f":"IF(ISBLANK(B74),\" \",INDEX('Algemene inl.'!$B$23:$B$57,J74))","v":" "},{"$f":"IF(ISBLANK(B74),\"\",DATEDIF(C74,'Ref.datum & disciplines'!$A$2,\"y\"))","v":""},null,null,null,null,null,{"$f":"IF(ISBLANK(B74),\"\",MATCH(B74,'Algemene inl.'!$A$23:$A$98,0))","v":""}]
[null,null,{"$f":"IF(ISBLANK(B75),\" \",INDEX('Algemene inl.'!$B$23:$B$57,J75))","v":" "},{"$f":"IF(ISBLANK(B75),\"\",DATEDIF(C75,'Ref.datum & disciplines'!$A$2,\"y\"))","v":""},null,null,null,null,null,{"$f":"IF(ISBLANK(B75),\"\",MATCH(B75,'Algemene inl.'!$A$23:$A$98,0))","v":""}]
[null,null,{"$f":"IF(ISBLANK(B76),\" \",INDEX('Algemene inl.'!$B$23:$B$57,J76))","v":" "},{"$f":"IF(ISBLANK(B76),\"\",DATEDIF(C76,'Ref.datum & disciplines'!$A$2,\"y\"))","v":""},null,null,null,null,null,{"$f":"IF(ISBLANK(B76),\"\",MATCH(B76,'Algemene inl.'!$A$23:$A$98,0))","v":""}]
["Reserve",null,{"$f":"IF(ISBLANK(B77),\" \",INDEX('Algemene inl.'!$B$23:$B$57,J77))","v":" "},{"$f":"IF(ISBLANK(B77),\"\",DATEDIF(C77,'Ref.datum & disciplines'!$A$2,\"y\"))","v":""},null,null,null,null,null,{"$f":"IF(ISBLANK(B77),\"\",MATCH(B77,'Algemene inl.'!$A$23:$A$98,0))","v":""}]
[null,null,"Gemiddelde leeftijd =",{"$f":"IF(ISBLANK(B73),\" \",AVERAGE(D73:D76))","v":" "},null,null,null,null,null,{"$f":"IF(ISBLANK(B78),\"\",MATCH(B78,'Algemene inl.'!$A$23:$A$98,0))","v":""}]
[null,null,null,null,null,null,null,null,null,{"$f":"IF(ISBLANK(B79),\"\",MATCH(B79,'Algemene inl.'!$A$23:$A$98,0))","v":""}]
["Discipline","Voornaam + achternaam","Geboorte-datum","Leeftijd","Categorie",null,null,null,null,{"$f":"IF(ISBLANK(B80),\"\",MATCH(B80,'Algemene inl.'!$A$23:$A$98,0))","v":{"$error":"#N/A"}}]
[null,null,{"$f":"IF(ISBLANK(B81),\" \",INDEX('Algemene inl.'!$B$23:$B$98,J81))","v":" "},{"$f":"IF(ISBLANK(B81),\"\",DATEDIF(C81,'Ref.datum & disciplines'!$A$2,\"y\"))","v":""},{"$f":"IF(ISBLANK(B81),\" \",VLOOKUP(D86,Tabel3[],2))","v":" "},{"$f":"IF(ISBLANK(B81),\"\",\"X\")","v":""},null,null,null,{"$f":"IF(ISBLANK(B81),\"\",MATCH(B81,'Algemene inl.'!$A$23:$A$98,0))","v":""}]
[null,null,{"$f":"IF(ISBLANK(B82),\" \",INDEX('Algemene inl.'!$B$23:$B$98,J82))","v":" "},{"$f":"IF(ISBLANK(B82),\"\",DATEDIF(C82,'Ref.datum & disciplines'!$A$2,\"y\"))","v":""},null,null,null,null,null,{"$f":"IF(ISBLANK(B82),\"\",MATCH(B82,'Algemene inl.'!$A$23:$A$98,0))","v":""}]
[null,null,{"$f":"IF(ISBLANK(B83),\" \",INDEX('Algemene inl.'!$B$23:$B$98,J83))","v":" "},{"$f":"IF(ISBLANK(B83),\"\",DATEDIF(C83,'Ref.datum & disciplines'!$A$2,\"y\"))","v":""},null,null,null,null,null,{"$f":"IF(ISBLANK(B83),\"\",MATCH(B83,'Algemene inl.'!$A$23:$A$98,0))","v":""}]
[null,null,{"$f":"IF(ISBLANK(B84),\" \",INDEX('Algemene inl.'!$B$23:$B$98,J84))","v":" "},{"$f":"IF(ISBLANK(B84),\"\",DATEDIF(C84,'Ref.datum & disciplines'!$A$2,\"y\"))","v":""},null,null,null,null,null,{"$f":"IF(ISBLANK(B84),\"\",MATCH(B84,'Algemene inl.'!$A$23:$A$98,0))","v":""}]
["Reserve",null,{"$f":"IF(ISBLANK(B85),\" \",INDEX('Algemene inl.'!$B$23:$B$98,J85))","v":" "},{"$f":"IF(ISBLANK(B85),\"\",DATEDIF(C85,'Ref.datum & disciplines'!$A$2,\"y\"))","v":""},null,null,null,null,null,{"$f":"IF(ISBLANK(B85),\"\",MATCH(B85,'Algemene inl.'!$A$23:$A$98,0))","v":""}]
[null,null,"Gemiddelde leeftijd =",{"$f":"IF(ISBLANK(B81),\" \",AVERAGE(D81:D84))","v":" "},null,null,null,null,null,{"$f":"IF(ISBLANK(B86),\"\",MATCH(B86,'Algemene inl.'!$A$23:$A$98,0))","v":""}]
[null,null,null,null,null,null,null,null,null,{"$f":"IF(ISBLANK(B87),\"\",MATCH(B87,'Algemene inl.'!$A$23:$A$98,0))","v":""}]
[null,null,null,null,null,null,null,null,null,{"$f":"IF(ISBLANK(B88),\"\",MATCH(B88,'Algemene inl.'!$A$23:$A$98,0))","v":""}]
[null,null,null,null,null,null,null,null,null,{"$f":"IF(ISBLANK(B89),\"\",MATCH(B89,'Algemene inl.'!$A$23:$A$98,0))","v":""}]
[null,null,null,null,null,null,null,null,null,{"$f":"IF(ISBLANK(B90),\"\",MATCH(B90,'Algemene inl.'!$A$23:$A$98,0))","v":""}]
[null,null,null,null,null,null,null,null,null,{"$f":"IF(ISBLANK(B91),\"\",MATCH(B91,'Algemene inl.'!$A$23:$A$98,0))","v":""}]
[null,null,null,null,null,null,null,null,null,{"$f":"IF(ISBLANK(B92),\"\",MATCH(B92,'Algemene inl.'!$A$23:$A$98,0))","v":""}]
[null,null,null,null,null,null,null,null,null,{"$f":"IF(ISBLANK(B93),\"\",MATCH(B93,'Algemene inl.'!$A$23:$A$98,0))","v":""}]
[null,null,null,null,null,null,null,null,null,{"$f":"IF(ISBLANK(B94),\"\",MATCH(B94,'Algemene inl.'!$A$23:$A$98,0))","v":""}]
[null,null,null,null,null,null,null,null,null,{"$f":"IF(ISBLANK(B95),\"\",MATCH(B95,'Algemene inl.'!$A$23:$A$98,0))","v":""}]
[null,null,null,null,null,null,null,null,null,{"$f":"IF(ISBLANK(B96),\"\",MATCH(B96,'Algemene inl.'!$A$23:$A$98,0))","v":""}]
[null,null,null,null,null,null,null,null,null,{"$f":"IF(ISBLANK(B97),\"\",MATCH(B97,'Algemene inl.'!$A$23:$A$98,0))","v":""}]
[null,null,null,null,null,null,null,null,null,{"$f":"IF(ISBLANK(B98),\"\",MATCH(B98,'Algemene inl.'!$A$23:$A$98,0))","v":""}]
[null,null,null,null,null,null,null,null,null,{"$f":"IF(ISBLANK(B99),\"\",MATCH(B99,'Algemene inl.'!$A$23:$A$98,0))","v":""}]
[null,null,null,null,null,null,null,null,null,{"$f":"IF(ISBLANK(B100),\"\",MATCH(B100,'Algemene inl.'!$A$23:$A$98,0))","v":""}]
[null,null,null,null,null,null,null,null,null,{"$f":"IF(ISBLANK(B101),\"\",MATCH(B101,'Algemene inl.'!$A$23:$A$98,0))","v":""}]
[null,null,null,null,null,null,null,null,null,{"$f":"IF(ISBLANK(B102),\"\",MATCH(B102,'Algemene inl.'!$A$23:$A$98,0))","v":""}]
[null,null,null,null,null,null,null,null,null,{"$f":"IF(ISBLANK(B103),\"\",MATCH(B103,'Algemene inl.'!$A$23:$A$98,0))","v":""}]
[null,null,null,null,null,null,null,null,null,{"$f":"IF(ISBLANK(B104),\"\",MATCH(B104,'Algemene inl.'!$A$23:$A$98,0))","v":""}]
[null,null,null,null,null,null,null,null,null,{"$f":"IF(ISBLANK(B105),\"\",MATCH(B105,'Algemene inl.'!$A$23:$A$98,0))","v":""}]
[null,null,null,null,null,null,null,null,null,{"$f":"IF(ISBLANK(B106),\"\",MATCH(B106,'Algemene inl.'!$A$23:$A$98,0))","v":""}]
[null,null,null,null,null,null,null,null,null,{"$f":"IF(ISBLANK(B107),\"\",MATCH(B107,'Algemene inl.'!$A$23:$A$98,0))","v":""}]
[null,null,null,null,null,null,null,null,null,{"$f":"IF(ISBLANK(B108),\"\",MATCH(B108,'Algemene inl.'!$A$23:$A$98,0))","v":""}]
[null,null,null,null,null,null,null,null,null,{"$f":"IF(ISBLANK(B109),\"\",MATCH(B109,'Algemene inl.'!$A$23:$A$98,0))","v":""}]
[null,null,null,null,null,null,null,null,null,{"$f":"IF(ISBLANK(B110),\"\",MATCH(B110,'Algemene inl.'!$A$23:$A$98,0))","v":""}]
[null,null,null,null,null,null,null,null,null,{"$f":"IF(ISBLANK(B111),\"\",MATCH(B111,'Algemene inl.'!$A$23:$A$98,0))","v":""}]
[null,null,null,null,null,null,null,null,null,{"$f":"IF(ISBLANK(B112),\"\",MATCH(B112,'Algemene inl.'!$A$23:$A$98,0))","v":""}]
[null,null,null,null,null,null,null,null,null,{"$f":"IF(ISBLANK(B113),\"\",MATCH(B113,'Algemene inl.'!$A$23:$A$98,0))","v":""}]
[null,null,null,null,null,null,null,null,null,{"$f":"IF(ISBLANK(B114),\"\",MATCH(B114,'Algemene inl.'!$A$23:$A$98,0))","v":""}]
[null,null,null,null,null,null,null,null,null,{"$f":"IF(ISBLANK(B115),\"\",MATCH(B115,'Algemene inl.'!$A$23:$A$98,0))","v":""}]
[null,null,null,null,null,null,null,null,null,{"$f":"IF(ISBLANK(B116),\"\",MATCH(B116,'Algemene inl.'!$A$23:$A$98,0))","v":""}]
[null,null,null,null,null,null,null,null,null,{"$f":"IF(ISBLANK(B117),\"\",MATCH(B117,'Algemene inl.'!$A$23:$A$98,0))","v":""}]
[null,null,null,null,null,null,null,null,null,{"$f":"IF(ISBLANK(B118),\"\",MATCH(B118,'Algemene inl.'!$A$23:$A$98,0))","v":""}]
[null,null,null,null,null,null,null,null,null,{"$f":"IF(ISBLANK(B119),\"\",MATCH(B119,'Algemene inl.'!$A$23:$A$98,0))","v":""}]
[null,null,null,null,null,null,null,null,null,{"$f":"IF(ISBLANK(B120),\"\",MATCH(B120,'Algemene inl.'!$A$23:$A$98,0))","v":""}]
[null,null,null,null,null,null,null,null,null,{"$f":"IF(ISBLANK(B121),\"\",MATCH(B121,'Algemene inl.'!$A$23:$A$98,0))","v":""}]
[null,null,null,null,null,null,null,null,null,{"$f":"IF(ISBLANK(B122),\"\",MATCH(B122,'Algemene inl.'!$A$23:$A$98,0))","v":""}]
[null,null,null,null,null,null,null,null,null,{"$f":"IF(ISBLANK(B123),\"\",MATCH(B123,'Algemene inl.'!$A$23:$A$98,0))","v":""}]
[null,null,null,null,null,null,null,null,null,{"$f":"IF(ISBLANK(B124),\"\",MATCH(B124,'Algemene inl.'!$A$23:$A$98,0))","v":""}]
[null,null,null,null,null,null,null,null,null,{"$f":"IF(ISBLANK(B125),\"\",MATCH(B125,'Algemene inl.'!$A$23:$A$98,0))","v":""}]
[null,null,null,null,null,null,null,null,null,{"$f":"IF(ISBLANK(B126),\"\",MATCH(B126,'Algemene inl.'!$A$23:$A$98,0))","v":""}]
[null,null,null,null,null,null,null,null,null,{"$f":"IF(ISBLANK(B127),\"\",MATCH(B127,'Algemene inl.'!$A$23:$A$98,0))","v":""}]
[null,null,null,null,null,null,null,null,null,{"$f":"IF(ISBLANK(B128),\"\",MATCH(B128,'Algemene inl.'!$A$23:$A$98,0))","v":""}]
[null,null,null,null,null,null,null,null,null,{"$f":"IF(ISBLANK(B129),\"\",MATCH(B129,'Algemene inl.'!$A$23:$A$98,0))","v":""}]
[null,null,null,null,null,null,null,null,null,{"$f":"IF(ISBLANK(B130),\"\",MATCH(B130,'Algemene inl.'!$A$23:$A$98,0))","v":""}]
[null,null,null,null,null,null,null,null,null,{"$f":"IF(ISBLANK(B131),\"\",MATCH(B131,'Algemene inl.'!$A$23:$A$98,0))","v":""}]
[null,null,null,null,null,null,null,null,null,{"$f":"IF(ISBLANK(B132),\"\",MATCH(B132,'Algemene inl.'!$A$23:$A$98,0))","v":""}]
[null,null,null,null,null,null,null,null,null,{"$f":"IF(ISBLANK(B133),\"\",MATCH(B133,'Algemene inl.'!$A$23:$A$98,0))","v":""}]
[null,null,null,null,null,null,null,null,null,{"$f":"IF(ISBLANK(B134),\"\",MATCH(B134,'Algemene inl.'!$A$23:$A$98,0))","v":""}]
[null,null,null,null,null,null,null,null,null,{"$f":"IF(ISBLANK(B135),\"\",MATCH(B135,'Algemene inl.'!$A$23:$A$98,0))","v":""}]
[null,null,null,null,null,null,null,null,null,{"$f":"IF(ISBLANK(B136),\"\",MATCH(B136,'Algemene inl.'!$A$23:$A$98,0))","v":""}]
[null,null,null,null,null,null,null,null,null,{"$f":"IF(ISBLANK(B137),\"\",MATCH(B137,'Algemene inl.'!$A$23:$A$98,0))","v":""}]
[null,null,null,null,null,null,null,null,null,{"$f":"IF(ISBLANK(B138),\"\",MATCH(B138,'Algemene inl.'!$A$23:$A$98,0))","v":""}]
[null,null,null,null,null,null,null,null,null,{"$f":"IF(ISBLANK(B139),\"\",MATCH(B139,'Algemene inl.'!$A$23:$A$98,0))","v":""}]
[null,null,null,null,null,null,null,null,null,{"$f":"IF(ISBLANK(B140),\"\",MATCH(B140,'Algemene inl.'!$A$23:$A$98,0))","v":""}]
[null,null,null,null,null,null,null,null,null,{"$f":"IF(ISBLANK(B141),\"\",MATCH(B141,'Algemene inl.'!$A$23:$A$98,0))","v":""}]
[null,null,null,null,null,null,null,null,null,{"$f":"IF(ISBLANK(B142),\"\",MATCH(B142,'Algemene inl.'!$A$23:$A$98,0))","v":""}]
[null,null,null,null,null,null,null,null,null,{"$f":"IF(ISBLANK(B143),\"\",MATCH(B143,'Algemene inl.'!$A$23:$A$98,0))","v":""}]
[null,null,null,null,null,null,null,null,null,{"$f":"IF(ISBLANK(B144),\"\",MATCH(B144,'Algemene inl.'!$A$23:$A$98,0))","v":""}]
[null,null,null,null,null,null,null,null,null,{"$f":"IF(ISBLANK(B145),\"\",MATCH(B145,'Algemene inl.'!$A$23:$A$98,0))","v":""}]
[null,null,null,null,null,null,null,null,null,{"$f":"IF(ISBLANK(B146),\"\",MATCH(B146,'Algemene inl.'!$A$23:$A$98,0))","v":""}]
[null,null,null,null,null,null,null,null,null,{"$f":"IF(ISBLANK(B147),\"\",MATCH(B147,'Algemene inl.'!$A$23:$A$98,0))","v":""}]
[null,null,null,null,null,null,null,null,null,{"$f":"IF(ISBLANK(B148),\"\",MATCH(B148,'Algemene inl.'!$A$23:$A$98,0))","v":""}]
[null,null,null,null,null,null,null,null,null,{"$f":"IF(ISBLANK(B149),\"\",MATCH(B149,'Algemene inl.'!$A$23:$A$98,0))","v":""}]
[null,null,null,null,null,null,null,null,null,{"$f":"IF(ISBLANK(B150),\"\",MATCH(B150,'Algemene inl.'!$A$23:$A$98,0))","v":""}]
[null,null,null,null,null,null,null,null,null,{"$f":"IF(ISBLANK(B151),\"\",MATCH(B151,'Algemene inl.'!$A$23:$A$98,0))","v":""}]
[null,null,null,null,null,null,null,null,null,{"$f":"IF(ISBLANK(B152),\"\",MATCH(B152,'Algemene inl.'!$A$23:$A$98,0))","v":""}]
[null,null,null,null,null,null,null,null,null,{"$f":"IF(ISBLANK(B153),\"\",MATCH(B153,'Algemene inl.'!$A$23:$A$98,0))","v":""}]
[null,null,null,null,null,null,null,null,null,{"$f":"IF(ISBLANK(B154),\"\",MATCH(B154,'Algemene inl.'!$A$23:$A$98,0))","v":""}]
[null,null,null,null,null,null,null,null,null,{"$f":"IF(ISBLANK(B155),\"\",MATCH(B155,'Algemene inl.'!$A$23:$A$98,0))","v":""}]
[null,null,null,null,null,null,null,null,null,{"$f":"IF(ISBLANK(B156),\"\",MATCH(B156,'Algemene inl.'!$A$23:$A$98,0))","v":""}]
[null,null,null,null,null,null,null,null,null,{"$f":"IF(ISBLANK(B157),\"\",MATCH(B157,'Algemene inl.'!$A$23:$A$98,0))","v":""}]
[null,null,null,null,null,null,null,null,null,{"$f":"IF(ISBLANK(B158),\"\",MATCH(B158,'Algemene inl.'!$A$23:$A$98,0))","v":""}]
[null,null,null,null,null,null,null,null,null,{"$f":"IF(ISBLANK(B159),\"\",MATCH(B159,'Algemene inl.'!$A$23:$A$98,0))","v":""}]
[null,null,null,null,null,null,null,null,null,{"$f":"IF(ISBLANK(B160),\"\",MATCH(B160,'Algemene inl.'!$A$23:$A$98,0))","v":""}]
[null,null,null,null,null,null,null,null,null,{"$f":"IF(ISBLANK(B161),\"\",MATCH(B161,'Algemene inl.'!$A$23:$A$98,0))","v":""}]
[null,null,null,null,null,null,null,null,null,{"$f":"IF(ISBLANK(B162),\"\",MATCH(B162,'Algemene inl.'!$A$23:$A$98,0))","v":""}]
[null,null,null,null,null,null,null,null,null,{"$f":"IF(ISBLANK(B163),\"\",MATCH(B163,'Algemene inl.'!$A$23:$A$98,0))","v":""}]
[null,null,null,null,null,null,null,null,null,{"$f":"IF(ISBLANK(B164),\"\",MATCH(B164,'Algemene inl.'!$A$23:$A$98,0))","v":""}]
[null,null,null,null,null,null,null,null,null,{"$f":"IF(ISBLANK(B165),\"\",MATCH(B165,'Algemene inl.'!$A$23:$A$98,0))","v":""}]
[null,null,null,null,null,null,null,null,null,{"$f":"IF(ISBLANK(B166),\"\",MATCH(B166,'Algemene inl.'!$A$23:$A$98,0))","v":""}]
[null,null,null,null,null,null,null,null,null,{"$f":"IF(ISBLANK(B167),\"\",MATCH(B167,'Algemene inl.'!$A$23:$A$98,0))","v":""}]
[null,null,null,null,null,null,null,null,null,{"$f":"IF(ISBLANK(B168),\"\",MATCH(B168,'Algemene inl.'!$A$23:$A$98,0))","v":""}]
[null,null,null,null,null,null,null,null,null,{"$f":"IF(ISBLANK(B169),\"\",MATCH(B169,'Algemene inl.'!$A$23:$A$98,0))","v":""}]
[null,null,null,null,null,null,null,null,null,{"$f":"IF(ISBLANK(B170),\"\",MATCH(B170,'Algemene inl.'!$A$23:$A$98,0))","v":""}]
[null,null,null,null,null,null,null,null,null,{"$f":"IF(ISBLANK(B171),\"\",MATCH(B171,'Algemene inl.'!$A$23:$A$98,0))","v":""}]
[null,null,null,null,null,null,null,null,null,{"$f":"IF(ISBLANK(B172),\"\",MATCH(B172,'Algemene inl.'!$A$23:$A$98,0))","v":""}]
[null,null,null,null,null,null,null,null,null,{"$f":"IF(ISBLANK(B173),\"\",MATCH(B173,'Algemene inl.'!$A$23:$A$98,0))","v":""}]
[null,null,null,null,null,null,null,null,null,{"$f":"IF(ISBLANK(B174),\"\",MATCH(B174,'Algemene inl.'!$A$23:$A$98,0))","v":""}]
[null,null,null,null,null,null,null,null,null,{"$f":"IF(ISBLANK(B175),\"\",MATCH(B175,'Algemene inl.'!$A$23:$A$98,0))","v":""}]
[null,null,null,null,null,null,null,null,null,{"$f":"IF(ISBLANK(B176),\"\",MATCH(B176,'Algemene inl.'!$A$23:$A$98,0))","v":""}]
[null,null,null,null,null,null,null,null,null,{"$f":"IF(ISBLANK(B177),\"\",MATCH(B177,'Algemene inl.'!$A$23:$A$98,0))","v":""}]
[null,null,null,null,null,null,null,null,null,{"$f":"IF(ISBLANK(B178),\"\",MATCH(B178,'Algemene inl.'!$A$23:$A$98,0))","v":""}]
[null,null,null,null,null,null,null,null,null,{"$f":"IF(ISBLANK(B179),\"\",MATCH(B179,'Algemene inl.'!$A$23:$A$98,0))","v":""}]
[null,null,null,null,null,null,null,null,null,{"$f":"IF(ISBLANK(B180),\"\",MATCH(B180,'Algemene inl.'!$A$23:$A$98,0))","v":""}]
[null,null,null,null,null,null,null,null,null,{"$f":"IF(ISBLANK(B181),\"\",MATCH(B181,'Algemene inl.'!$A$23:$A$98,0))","v":""}]
[null,null,null,null,null,null,null,null,null,{"$f":"IF(ISBLANK(B182),\"\",MATCH(B182,'Algemene inl.'!$A$23:$A$98,0))","v":""}]
[null,null,null,null,null,null,null,null,null,{"$f":"IF(ISBLANK(B183),\"\",MATCH(B183,'Algemene inl.'!$A$23:$A$98,0))","v":""}]
[null,null,null,null,null,null,null,null,null,{"$f":"IF(ISBLANK(B184),\"\",MATCH(B184,'Algemene inl.'!$A$23:$A$98,0))","v":""}]
[null,null,null,null,null,null,null,null,null,{"$f":"IF(ISBLANK(B185),\"\",MATCH(B185,'Algemene inl.'!$A$23:$A$98,0))","v":""}]
[null,null,null,null,null,null,null,null,null,{"$f":"IF(ISBLANK(B186),\"\",MATCH(B186,'Algemene inl.'!$A$23:$A$98,0))","v":""}]
[null,null,null,null,null,null,null,null,null,{"$f":"IF(ISBLANK(B187),\"\",MATCH(B187,'Algemene inl.'!$A$23:$A$98,0))","v":""}]
[null,null,null,null,null,null,null,null,null,{"$f":"IF(ISBLANK(B188),\"\",MATCH(B188,'Algemene inl.'!$A$23:$A$98,0))","v":""}]
[null,null,null,null,null,null,null,null,null,{"$f":"IF(ISBLANK(B189),\"\",MATCH(B189,'Algemene inl.'!$A$23:$A$98,0))","v":""}]
[null,null,null,null,null,null,null,null,null,{"$f":"IF(ISBLANK(B190),\"\",MATCH(B190,'Algemene inl.'!$A$23:$A$98,0))","v":""}]
[null,null,null,null,null,null,null,null,null,{"$f":"IF(ISBLANK(B191),\"\",MATCH(B191,'Algemene inl.'!$A$23:$A$98,0))","v":""}]
[null,null,null,null,null,null,null,null,null,{"$f":"IF(ISBLANK(B192),\"\",MATCH(B192,'Algemene inl.'!$A$23:$A$98,0))","v":""}]
[null,null,null,null,null,null,null,null,null,{"$f":"IF(ISBLANK(B193),\"\",MATCH(B193,'Algemene inl.'!$A$23:$A$98,0))","v":""}]
[null,null,null,null,null,null,null,null,null,{"$f":"IF(ISBLANK(B194),\"\",MATCH(B194,'Algemene inl.'!$A$23:$A$98,0))","v":""}]
[null,null,null,null,null,null,null,null,null,{"$f":"IF(ISBLANK(B195),\"\",MATCH(B195,'Algemene inl.'!$A$23:$A$98,0))","v":""}]
[null,null,null,null,null,null,null,null,null,{"$f":"IF(ISBLANK(B196),\"\",MATCH(B196,'Algemene inl.'!$A$23:$A$98,0))","v":""}]
[null,null,null,null,null,null,null,null,null,{"$f":"IF(ISBLANK(B197),\"\",MATCH(B197,'Algemene inl.'!$A$23:$A$98,0))","v":""}]
[null,null,null,null,null,null,null,null,null,{"$f":"IF(ISBLANK(B198),\"\",MATCH(B198,'Algemene inl.'!$A$23:$A$98,0))","v":""}]
[null,null,null,null,null,null,null,null,null,{"$f":"IF(ISBLANK(B199),\"\",MATCH(B199,'Algemene inl.'!$A$23:$A$98,0))","v":""}]
[null,null,null,null,null,null,null,null,null,{"$f":"IF(ISBLANK(B200),\"\",MATCH(B200,'Algemene inl.'!$A$23:$A$98,0))","v":""}]
[null,null,null,null,null,null,null,null,null,{"$f":"IF(ISBLANK(B201),\"\",MATCH(B201,'Algemene inl.'!$A$23:$A$98,0))","v":""}]
[null,null,null,null,null,null,null,null,null,{"$f":"IF(ISBLANK(B202),\"\",MATCH(B202,'Algemene inl.'!$A$23:$A$98,0))","v":""}]
[null,null,null,null,null,null,null,null,null,{"$f":"IF(ISBLANK(B203),\"\",MATCH(B203,'Algemene inl.'!$A$23:$A$98,0))","v":""}]
[null,null,null,null,null,null,null,null,null,{"$f":"IF(ISBLANK(B204),\"\",MATCH(B204,'Algemene inl.'!$A$23:$A$98,0))","v":""}]
[null,null,null,null,null,null,null,null,null,{"$f":"IF(ISBLANK(B205),\"\",MATCH(B205,'Algemene inl.'!$A$23:$A$98,0))","v":""}]
[null,null,null,null,null,null,null,null,null,{"$f":"IF(ISBLANK(B206),\"\",MATCH(B206,'Algemene inl.'!$A$23:$A$98,0))","v":""}]
[null,null,null,null,null,null,null,null,null,{"$f":"IF(ISBLANK(B207),\"\",MATCH(B207,'Algemene inl.'!$A$23:$A$98,0))","v":""}]
[null,null,null,null,null,null,null,null,null,{"$f":"IF(ISBLANK(B208),\"\",MATCH(B208,'Algemene inl.'!$A$23:$A$98,0))","v":""}]
[null,null,null,null,null,null,null,null,null,{"$f":"IF(ISBLANK(B209),\"\",MATCH(B209,'Algemene inl.'!$A$23:$A$98,0))","v":""}]
[null,null,null,null,null,null,null,null,null,{"$f":"IF(ISBLANK(B210),\"\",MATCH(B210,'Algemene inl.'!$A$23:$A$98,0))","v":""}]
[null,null,null,null,null,null,null,null,null,{"$f":"IF(ISBLANK(B211),\"\",MATCH(B211,'Algemene inl.'!$A$23:$A$98,0))","v":""}]
[null,null,null,null,null,null,null,null,null,{"$f":"IF(ISBLANK(B212),\"\",MATCH(B212,'Algemene inl.'!$A$23:$A$98,0))","v":""}]
[null,null,null,null,null,null,null,null,null,{"$f":"IF(ISBLANK(B213),\"\",MATCH(B213,'Algemene inl.'!$A$23:$A$98,0))","v":""}]
[null,null,null,null,null,null,null,null,null,{"$f":"IF(ISBLANK(B214),\"\",MATCH(B214,'Algemene inl.'!$A$23:$A$98,0))","v":""}]
[null,null,null,null,null,null,null,null,null,{"$f":"IF(ISBLANK(B215),\"\",MATCH(B215,'Algemene inl.'!$A$23:$A$98,0))","v":""}]
[null,null,null,null,null,null,null,null,null,{"$f":"IF(ISBLANK(B216),\"\",MATCH(B216,'Algemene inl.'!$A$23:$A$98,0))","v":""}]
[null,null,null,null,null,null,null,null,null,{"$f":"IF(ISBLANK(B217),\"\",MATCH(B217,'Algemene inl.'!$A$23:$A$98,0))","v":""}]
[null,null,null,null,null,null,null,null,null,{"$f":"IF(ISBLANK(B218),\"\",MATCH(B218,'Algemene inl.'!$A$23:$A$98,0))","v":""}]
[null,null,null,null,null,null,null,null,null,{"$f":"IF(ISBLANK(B219),\"\",MATCH(B219,'Algemene inl.'!$A$23:$A$98,0))","v":""}]
[null,null,null,null,null,null,null,null,null,{"$f":"IF(ISBLANK(B220),\"\",MATCH(B220,'Algemene inl.'!$A$23:$A$98,0))","v":""}]
[null,null,null,null,null,null,null,null,null,{"$f":"IF(ISBLANK(B221),\"\",MATCH(B221,'Algemene inl.'!$A$23:$A$98,0))","v":""}]
[null,null,null,null,null,null,null,null,null,{"$f":"IF(ISBLANK(B222),\"\",MATCH(B222,'Algemene inl.'!$A$23:$A$98,0))","v":""}]
[null,null,null,null,null,null,null,null,null,{"$f":"IF(ISBLANK(B223),\"\",MATCH(B223,'Algemene inl.'!$A$23:$A$98,0))","v":""}]
[null,null,null,null,null,null,null,null,null,{"$f":"IF(ISBLANK(B224),\"\",MATCH(B224,'Algemene inl.'!$A$23:$A$98,0))","v":""}]
[null,null,null,null,null,null,null,null,null,{"$f":"IF(ISBLANK(B225),\"\",MATCH(B225,'Algemene inl.'!$A$23:$A$98,0))","v":""}]
[null,null,null,null,null,null,null,null,null,{"$f":"IF(ISBLANK(B226),\"\",MATCH(B226,'Algemene inl.'!$A$23:$A$98,0))","v":""}]
[null,null,null,null,null,null,null,null,null,{"$f":"IF(ISBLANK(B227),\"\",MATCH(B227,'Algemene inl.'!$A$23:$A$98,0))","v":""}]
[null,null,null,null,null,null,null,null,null,{"$f":"IF(ISBLANK(B228),\"\",MATCH(B228,'Algemene inl.'!$A$23:$A$98,0))","v":""}]
[null,null,null,null,null,null,null,null,null,{"$f":"IF(ISBLANK(B229),\"\",MATCH(B229,'Algemene inl.'!$A$23:$A$98,0))","v":""}]
[null,null,null,null,null,null,null,null,null,{"$f":"IF(ISBLANK(B230),\"\",MATCH(B230,'Algemene inl.'!$A$23:$A$98,0))","v":""}]
[null,null,null,null,null,null,null,null,null,{"$f":"IF(ISBLANK(B231),\"\",MATCH(B231,'Algemene inl.'!$A$23:$A$98,0))","v":""}]
[null,null,null,null,null,null,null,null,null,{"$f":"IF(ISBLANK(B232),\"\",MATCH(B232,'Algemene inl.'!$A$23:$A$98,0))","v":""}]
[null,null,null,null,null,null,null,null,null,{"$f":"IF(ISBLANK(B233),\"\",MATCH(B233,'Algemene inl.'!$A$23:$A$98,0))","v":""}]
[null,null,null,null,null,null,null,null,null,{"$f":"IF(ISBLANK(B234),\"\",MATCH(B234,'Algemene inl.'!$A$23:$A$98,0))","v":""}]
[null,null,null,null,null,null,null,null,null,{"$f":"IF(ISBLANK(B235),\"\",MATCH(B235,'Algemene inl.'!$A$23:$A$98,0))","v":""}]
[null,null,null,null,null,null,null,null,null,{"$f":"IF(ISBLANK(B236),\"\",MATCH(B236,'Algemene inl.'!$A$23:$A$98,0))","v":""}]
[null,null,null,null,null,null,null,null,null,{"$f":"IF(ISBLANK(B237),\"\",MATCH(B237,'Algemene inl.'!$A$23:$A$98,0))","v":""}]
[null,null,null,null,null,null,null,null,null,{"$f":"IF(ISBLANK(B238),\"\",MATCH(B238,'Algemene inl.'!$A$23:$A$98,0))","v":""}]
[null,null,null,null,null,null,null,null,null,{"$f":"IF(ISBLANK(B239),\"\",MATCH(B239,'Algemene inl.'!$A$23:$A$98,0))","v":""}]
[null,null,null,null,null,null,null,null,null,{"$f":"IF(ISBLANK(B240),\"\",MATCH(B240,'Algemene inl.'!$A$23:$A$98,0))","v":""}]
[null,null,null,null,null,null,null,null,null,{"$f":"IF(ISBLANK(B241),\"\",MATCH(B241,'Algemene inl.'!$A$23:$A$98,0))","v":""}]
[null,null,null,null,null,null,null,null,null,{"$f":"IF(ISBLANK(B242),\"\",MATCH(B242,'Algemene inl.'!$A$23:$A$98,0))","v":""}]
[null,null,null,null,null,null,null,null,null,{"$f":"IF(ISBLANK(B243),\"\",MATCH(B243,'Algemene inl.'!$A$23:$A$98,0))","v":""}]
[null,null,null,null,null,null,null,null,null,{"$f":"IF(ISBLANK(B244),\"\",MATCH(B244,'Algemene inl.'!$A$23:$A$98,0))","v":""}]
[null,null,null,null,null,null,null,null,null,{"$f":"IF(ISBLANK(B245),\"\",MATCH(B245,'Algemene inl.'!$A$23:$A$98,0))","v":""}]
[null,null,null,null,null,null,null,null,null,{"$f":"IF(ISBLANK(B246),\"\",MATCH(B246,'Algemene inl.'!$A$23:$A$98,0))","v":""}]
[null,null,null,null,null,null,null,null,null,{"$f":"IF(ISBLANK(B247),\"\",MATCH(B247,'Algemene inl.'!$A$23:$A$98,0))","v":""}]
[null,null,null,null,null,null,null,null,null,{"$f":"IF(ISBLANK(B248),\"\",MATCH(B248,'Algemene inl.'!$A$23:$A$98,0))","v":""}]
[null,null,null,null,null,null,null,null,null,{"$f":"IF(ISBLANK(B249),\"\",MATCH(B249,'Algemene inl.'!$A$23:$A$98,0))","v":""}]
[null,null,null,null,null,null,null,null,null,{"$f":"IF(ISBLANK(B250),\"\",MATCH(B250,'Algemene inl.'!$A$23:$A$98,0))","v":""}]
[null,null,null,null,null,null,null,null,null,{"$f":"IF(ISBLANK(B251),\"\",MATCH(B251,'Algemene inl.'!$A$23:$A$98,0))","v":""}]
[null,null,null,null,null,null,null,null,null,{"$f":"IF(ISBLANK(B252),\"\",MATCH(B252,'Algemene inl.'!$A$23:$A$98,0))","v":""}]
[null,null,null,null,null,null,null,null,null,{"$f":"IF(ISBLANK(B253),\"\",MATCH(B253,'Algemene inl.'!$A$23:$A$98,0))","v":""}]
[null,null,null,null,null,null,null,null,null,{"$f":"IF(ISBLANK(B254),\"\",MATCH(B254,'Algemene inl.'!$A$23:$A$98,0))","v":""}]
[null,null,null,null,null,null,null,null,null,{"$f":"IF(ISBLANK(B255),\"\",MATCH(B255,'Algemene inl.'!$A$23:$A$98,0))","v":""}]
[null,null,null,null,null,null,null,null,null,{"$f":"IF(ISBLANK(B256),\"\",MATCH(B256,'Algemene inl.'!$A$23:$A$98,0))","v":""}]
[null,null,null,null,null,null,null,null,null,{"$f":"IF(ISBLANK(B257),\"\",MATCH(B257,'Algemene inl.'!$A$23:$A$98,0))","v":""}]
[null,null,null,null,null,null,null,null,null,{"$f":"IF(ISBLANK(B258),\"\",MATCH(B258,'Algemene inl.'!$A$23:$A$98,0))","v":""}]
[null,null,null,null,null,null,null,null,null,{"$f":"IF(ISBLANK(B259),\"\",MATCH(B259,'Algemene inl.'!$A$23:$A$98,0))","v":""}]

{"sheet":"Team","index":6,"n_rows":240,"n_cols":10,"rows_kept":240,"cut":false,"hidden":false,"merged":[[106,0,114,0],[106,4,116,4],[50,0,58,0],[50,4,60,4],[64,0,72,0],[64,4,74,4],[78,0,86,0],[78,4,88,4],[22,4,32,4],[8,4,18,4],[92,0,100,0],[92,4,102,4],[8,0,16,0],[22,0,30,0],[36,0,44,0],[36,4,46,4]]}
[null,null,null,null,{"$f":"'Algemene inl.'!A6","v":"Inschrijvingsformulier "}]
[null,null,null,null,{"$f":"'Algemene inl.'!G7","v":"Duid hier de wedstrijd aan"}]
[null,null,null,null,{"$f":"'Algemene inl.'!A9","v":0}]
[]
[null,null,null,null,null,null,null,null,null,"nodig om geboortedatum op te halen!!!"]
["TEAM (5-9 deelnemers)",null,null,null,{"$f":"IF(ISBLANK('Algemene inl.'!$B$13),\"\",'Algemene inl.'!$B$13)","v":""}]
[]
["Discipline","Voornaam + achternaam","Geboorte-datum","Leeftijd","Categorie"]
[null,null,{"$f":"IF(ISBLANK(B9),\" \",INDEX('Algemene inl.'!$B$23:$B$98,J9))","v":" "},{"$f":"IF(ISBLANK(B9),\"\",DATEDIF(C9,'Ref.datum & disciplines'!$A$2,\"y\"))","v":""},{"$f":"IF(ISBLANK(B9),\" \",VLOOKUP(D20,Tabel3[],2))","v":" "},{"$f":"IF(ISBLANK(B9),\"\",\"X\")","v":""},null,null,null,{"$f":"IF(ISBLANK(B9),\"\",MATCH(B9,'Algemene inl.'!$A$23:$A$98,0))","v":""}]
[null,null,{"$f":"IF(ISBLANK(B10),\" \",INDEX('Algemene inl.'!$B$23:$B$98,J10))","v":" "},{"$f":"IF(ISBLANK(B10),\"\",DATEDIF(C10,'Ref.datum & disciplines'!$A$2,\"y\"))","v":""},null,null,null,null,null,{"$f":"IF(ISBLANK(B10),\"\",MATCH(B10,'Algemene inl.'!$A$23:$A$98,0))","v":""}]
[null,null,{"$f":"IF(ISBLANK(B11),\" \",INDEX('Algemene inl.'!$B$23:$B$98,J11))","v":" "},{"$f":"IF(ISBLANK(B11),\"\",DATEDIF(C11,'Ref.datum & disciplines'!$A$2,\"y\"))","v":""},null,null,null,null,null,{"$f":"IF(ISBLANK(B11),\"\",MATCH(B11,'Algemene inl.'!$A$23:$A$98,0))","v":""}]
[null,null,{"$f":"IF(ISBLANK(B12),\" \",INDEX('Algemene inl.'!$B$23:$B$98,J12))","v":" "},{"$f":"IF(ISBLANK(B12),\"\",DATEDIF(C12,'Ref.datum & disciplines'!$A$2,\"y\"))","v":""},null,null,null,null,null,{"$f":"IF(ISBLANK(B12),\"\",MATCH(B12,'Algemene inl.'!$A$23:$A$98,0))","v":""}]
[null,null,{"$f":"IF(ISBLANK(B13),\" \",INDEX('Algemene inl.'!$B$23:$B$98,J13))","v":" "},{"$f":"IF(ISBLANK(B13),\"\",DATEDIF(C13,'Ref.datum & disciplines'!$A$2,\"y\"))","v":""},null,null,null,null,null,{"$f":"IF(ISBLANK(B13),\"\",MATCH(B13,'Algemene inl.'!$A$23:$A$98,0))","v":""}]
[null,null,{"$f":"IF(ISBLANK(B14),\" \",INDEX('Algemene inl.'!$B$23:$B$98,J14))","v":" "},{"$f":"IF(ISBLANK(B14),\"\",DATEDIF(C14,'Ref.datum & disciplines'!$A$2,\"y\"))","v":""},null,null,null,null,null,{"$f":"IF(ISBLANK(B14),\"\",MATCH(B14,'Algemene inl.'!$A$23:$A$98,0))","v":""}]
[null,null,{"$f":"IF(ISBLANK(B15),\" \",INDEX('Algemene inl.'!$B$23:$B$98,J15))","v":" "},{"$f":"IF(ISBLANK(B15),\"\",DATEDIF(C15,'Ref.datum & disciplines'!$A$2,\"y\"))","v":""},null,null,null,null,null,{"$f":"IF(ISBLANK(B15),\"\",MATCH(B15,'Algemene inl.'!$A$23:$A$98,0))","v":""}]
[null,null,{"$f":"IF(ISBLANK(B16),\" \",INDEX('Algemene inl.'!$B$23:$B$98,J16))","v":" "},{"$f":"IF(ISBLANK(B16),\"\",DATEDIF(C16,'Ref.datum & disciplines'!$A$2,\"y\"))","v":""},null,null,null,null,null,{"$f":"IF(ISBLANK(B16),\"\",MATCH(B16,'Algemene inl.'!$A$23:$A$98,0))","v":""}]
[null,null,{"$f":"IF(ISBLANK(B17),\" \",INDEX('Algemene inl.'!$B$23:$B$98,J17))","v":" "},{"$f":"IF(ISBLANK(B17),\"\",DATEDIF(C17,'Ref.datum & disciplines'!$A$2,\"y\"))","v":""},null,null,null,null,null,{"$f":"IF(ISBLANK(B17),\"\",MATCH(B17,'Algemene inl.'!$A$23:$A$98,0))","v":""}]
["Reserve 1",null,{"$f":"IF(ISBLANK(B18),\" \",INDEX('Algemene inl.'!$B$23:$B$98,J18))","v":" "},{"$f":"IF(ISBLANK(B18),\"\",DATEDIF(C18,'Ref.datum & disciplines'!$A$2,\"y\"))","v":""},null,null,null,null,null,{"$f":"IF(ISBLANK(B18),\"\",MATCH(B18,'Algemene inl.'!$A$23:$A$98,0))","v":""}]
["Reserve 2",null,{"$f":"IF(ISBLANK(B19),\" \",INDEX('Algemene inl.'!$B$23:$B$98,J19))","v":" "},{"$f":"IF(ISBLANK(B19),\"\",DATEDIF(C19,'Ref.datum & disciplines'!$A$2,\"y\"))","v":""},null,null,null,null,null,{"$f":"IF(ISBLANK(B19),\"\",MATCH(B19,'Algemene inl.'!$A$23:$A$98,0))","v":""}]
[null,null,"Gemiddelde leeftijd =",{"$f":"IF(ISBLANK(B9),\" \",AVERAGE(D9:D17))","v":" "},null,null,null,null,null,{"$f":"IF(ISBLANK(B20),\"\",MATCH(B20,'Algemene inl.'!$A$23:$A$98,0))","v":""}]
[null,null,null,null,null,null,null,null,null,{"$f":"IF(ISBLANK(B21),\"\",MATCH(B21,'Algemene inl.'!$A$23:$A$98,0))","v":""}]
["Discipline","Voornaam + achternaam","Geboorte-datum","Leeftijd","Categorie",null,null,null,null,{"$f":"IF(ISBLANK(B22),\"\",MATCH(B22,'Algemene inl.'!$A$23:$A$98,0))","v":{"$error":"#N/A"}}]
[null,null,{"$f":"IF(ISBLANK(B23),\" \",INDEX('Algemene inl.'!$B$23:$B$98,J23))","v":" "},{"$f":"IF(ISBLANK(B23),\"\",DATEDIF(C23,'Ref.datum & disciplines'!$A$2,\"y\"))","v":""},{"$f":"IF(ISBLANK(B23),\" \",VLOOKUP(D34,Tabel3[],2))","v":" "},{"$f":"IF(ISBLANK(B23),\"\",\"X\")","v":""},null,null,null,{"$f":"IF(ISBLANK(B23),\"\",MATCH(B23,'Algemene inl.'!$A$23:$A$98,0))","v":""}]
[null,null,{"$f":"IF(ISBLANK(B24),\" \",INDEX('Algemene inl.'!$B$23:$B$98,J24))","v":" "},{"$f":"IF(ISBLANK(B24),\"\",DATEDIF(C24,'Ref.datum & disciplines'!$A$2,\"y\"))","v":""},null,null,null,null,null,{"$f":"IF(ISBLANK(B24),\"\",MATCH(B24,'Algemene inl.'!$A$23:$A$98,0))","v":""}]
[null,null,{"$f":"IF(ISBLANK(B25),\" \",INDEX('Algemene inl.'!$B$23:$B$98,J25))","v":" "},{"$f":"IF(ISBLANK(B25),\"\",DATEDIF(C25,'Ref.datum & disciplines'!$A$2,\"y\"))","v":""},null,null,null,null,null,{"$f":"IF(ISBLANK(B25),\"\",MATCH(B25,'Algemene inl.'!$A$23:$A$98,0))","v":""}]
[null,null,{"$f":"IF(ISBLANK(B26),\" \",INDEX('Algemene inl.'!$B$23:$B$98,J26))","v":" "},{"$f":"IF(ISBLANK(B26),\"\",DATEDIF(C26,'Ref.datum & disciplines'!$A$2,\"y\"))","v":""},null,null,null,null,null,{"$f":"IF(ISBLANK(B26),\"\",MATCH(B26,'Algemene inl.'!$A$23:$A$98,0))","v":""}]
[null,null,{"$f":"IF(ISBLANK(B27),\" \",INDEX('Algemene inl.'!$B$23:$B$98,J27))","v":" "},{"$f":"IF(ISBLANK(B27),\"\",DATEDIF(C27,'Ref.datum & disciplines'!$A$2,\"y\"))","v":""},null,null,null,null,null,{"$f":"IF(ISBLANK(B27),\"\",MATCH(B27,'Algemene inl.'!$A$23:$A$98,0))","v":""}]
[null,null,{"$f":"IF(ISBLANK(B28),\" \",INDEX('Algemene inl.'!$B$23:$B$98,J28))","v":" "},{"$f":"IF(ISBLANK(B28),\"\",DATEDIF(C28,'Ref.datum & disciplines'!$A$2,\"y\"))","v":""},null,null,null,null,null,{"$f":"IF(ISBLANK(B28),\"\",MATCH(B28,'Algemene inl.'!$A$23:$A$98,0))","v":""}]
[null,null,{"$f":"IF(ISBLANK(B29),\" \",INDEX('Algemene inl.'!$B$23:$B$98,J29))","v":" "},{"$f":"IF(ISBLANK(B29),\"\",DATEDIF(C29,'Ref.datum & disciplines'!$A$2,\"y\"))","v":""},null,null,null,null,null,{"$f":"IF(ISBLANK(B29),\"\",MATCH(B29,'Algemene inl.'!$A$23:$A$98,0))","v":""}]
[null,null,{"$f":"IF(ISBLANK(B30),\" \",INDEX('Algemene inl.'!$B$23:$B$98,J30))","v":" "},{"$f":"IF(ISBLANK(B30),\"\",DATEDIF(C30,'Ref.datum & disciplines'!$A$2,\"y\"))","v":""},null,null,null,null,null,{"$f":"IF(ISBLANK(B30),\"\",MATCH(B30,'Algemene inl.'!$A$23:$A$98,0))","v":""}]
[null,null,{"$f":"IF(ISBLANK(B31),\" \",INDEX('Algemene inl.'!$B$23:$B$98,J31))","v":" "},{"$f":"IF(ISBLANK(B31),\"\",DATEDIF(C31,'Ref.datum & disciplines'!$A$2,\"y\"))","v":""},null,null,null,null,null,{"$f":"IF(ISBLANK(B31),\"\",MATCH(B31,'Algemene inl.'!$A$23:$A$98,0))","v":""}]
["Reserve 1",null,{"$f":"IF(ISBLANK(B32),\" \",INDEX('Algemene inl.'!$B$23:$B$98,J32))","v":" "},{"$f":"IF(ISBLANK(B32),\"\",DATEDIF(C32,'Ref.datum & disciplines'!$A$2,\"y\"))","v":""},null,null,null,null,null,{"$f":"IF(ISBLANK(B32),\"\",MATCH(B32,'Algemene inl.'!$A$23:$A$98,0))","v":""}]
["Reserve 2",null,{"$f":"IF(ISBLANK(B33),\" \",INDEX('Algemene inl.'!$B$23:$B$98,J33))","v":" "},{"$f":"IF(ISBLANK(B33),\"\",DATEDIF(C33,'Ref.datum & disciplines'!$A$2,\"y\"))","v":""},null,null,null,null,null,{"$f":"IF(ISBLANK(B33),\"\",MATCH(B33,'Algemene inl.'!$A$23:$A$98,0))","v":""}]
[null,null,"Gemiddelde leeftijd =",{"$f":"IF(ISBLANK(B23),\" \",AVERAGE(D23:D31))","v":" "},null,null,null,null,null,{"$f":"IF(ISBLANK(B34),\"\",MATCH(B34,'Algemene inl.'!$A$23:$A$98,0))","v":""}]
[null,null,null,null,null,null,null,null,null,{"$f":"IF(ISBLANK(B35),\"\",MATCH(B35,'Algemene inl.'!$A$23:$A$98,0))","v":""}]
["Discipline","Voornaam + achternaam","Geboorte-datum","Leeftijd","Categorie",null,null,null,null,{"$f":"IF(ISBLANK(B36),\"\",MATCH(B36,'Algemene inl.'!$A$23:$A$98,0))","v":{"$error":"#N/A"}}]
[null,null,{"$f":"IF(ISBLANK(B37),\" \",INDEX('Algemene inl.'!$B$23:$B$98,J37))","v":" "},{"$f":"IF(ISBLANK(B37),\"\",DATEDIF(C37,'Ref.datum & disciplines'!$A$2,\"y\"))","v":""},{"$f":"IF(ISBLANK(B37),\" \",VLOOKUP(D48,Tabel3[],2))","v":" "},{"$f":"IF(ISBLANK(B37),\"\",\"X\")","v":""},null,null,null,{"$f":"IF(ISBLANK(B37),\"\",MATCH(B37,'Algemene inl.'!$A$23:$A$98,0))","v":""}]
[null,null,{"$f":"IF(ISBLANK(B38),\" \",INDEX('Algemene inl.'!$B$23:$B$98,J38))","v":" "},{"$f":"IF(ISBLANK(B38),\"\",DATEDIF(C38,'Ref.datum & disciplines'!$A$2,\"y\"))","v":""},null,null,null,null,null,{"$f":"IF(ISBLANK(B38),\"\",MATCH(B38,'Algemene inl.'!$A$23:$A$98,0))","v":""}]
[null,null,{"$f":"IF(ISBLANK(B39),\" \",INDEX('Algemene inl.'!$B$23:$B$98,J39))","v":" "},{"$f":"IF(ISBLANK(B39),\"\",DATEDIF(C39,'Ref.datum & disciplines'!$A$2,\"y\"))","v":""},null,null,null,null,null,{"$f":"IF(ISBLANK(B39),\"\",MATCH(B39,'Algemene inl.'!$A$23:$A$98,0))","v":""}]
[null,null,{"$f":"IF(ISBLANK(B40),\" \",INDEX('Algemene inl.'!$B$23:$B$98,J40))","v":" "},{"$f":"IF(ISBLANK(B40),\"\",DATEDIF(C40,'Ref.datum & disciplines'!$A$2,\"y\"))","v":""},null,null,null,null,null,{"$f":"IF(ISBLANK(B40),\"\",MATCH(B40,'Algemene inl.'!$A$23:$A$98,0))","v":""}]
[null,null,{"$f":"IF(ISBLANK(B41),\" \",INDEX('Algemene inl.'!$B$23:$B$98,J41))","v":" "},{"$f":"IF(ISBLANK(B41),\"\",DATEDIF(C41,'Ref.datum & disciplines'!$A$2,\"y\"))","v":""},null,null,null,null,null,{"$f":"IF(ISBLANK(B41),\"\",MATCH(B41,'Algemene inl.'!$A$23:$A$98,0))","v":""}]
[null,null,{"$f":"IF(ISBLANK(B42),\" \",INDEX('Algemene inl.'!$B$23:$B$98,J42))","v":" "},{"$f":"IF(ISBLANK(B42),\"\",DATEDIF(C42,'Ref.datum & disciplines'!$A$2,\"y\"))","v":""},null,null,null,null,null,{"$f":"IF(ISBLANK(B42),\"\",MATCH(B42,'Algemene inl.'!$A$23:$A$98,0))","v":""}]
[null,null,{"$f":"IF(ISBLANK(B43),\" \",INDEX('Algemene inl.'!$B$23:$B$98,J43))","v":" "},{"$f":"IF(ISBLANK(B43),\"\",DATEDIF(C43,'Ref.datum & disciplines'!$A$2,\"y\"))","v":""},null,null,null,null,null,{"$f":"IF(ISBLANK(B43),\"\",MATCH(B43,'Algemene inl.'!$A$23:$A$98,0))","v":""}]
[null,null,{"$f":"IF(ISBLANK(B44),\" \",INDEX('Algemene inl.'!$B$23:$B$98,J44))","v":" "},{"$f":"IF(ISBLANK(B44),\"\",DATEDIF(C44,'Ref.datum & disciplines'!$A$2,\"y\"))","v":""},null,null,null,null,null,{"$f":"IF(ISBLANK(B44),\"\",MATCH(B44,'Algemene inl.'!$A$23:$A$98,0))","v":""}]
[null,null,{"$f":"IF(ISBLANK(B45),\" \",INDEX('Algemene inl.'!$B$23:$B$98,J45))","v":" "},{"$f":"IF(ISBLANK(B45),\"\",DATEDIF(C45,'Ref.datum & disciplines'!$A$2,\"y\"))","v":""},null,null,null,null,null,{"$f":"IF(ISBLANK(B45),\"\",MATCH(B45,'Algemene inl.'!$A$23:$A$98,0))","v":""}]
["Reserve 1",null,{"$f":"IF(ISBLANK(B46),\" \",INDEX('Algemene inl.'!$B$23:$B$98,J46))","v":" "},{"$f":"IF(ISBLANK(B46),\"\",DATEDIF(C46,'Ref.datum & disciplines'!$A$2,\"y\"))","v":""},null,null,null,null,null,{"$f":"IF(ISBLANK(B46),\"\",MATCH(B46,'Algemene inl.'!$A$23:$A$98,0))","v":""}]
["Reserve 2",null,{"$f":"IF(ISBLANK(B47),\" \",INDEX('Algemene inl.'!$B$23:$B$98,J47))","v":" "},{"$f":"IF(ISBLANK(B47),\"\",DATEDIF(C47,'Ref.datum & disciplines'!$A$2,\"y\"))","v":""},null,null,null,null,null,{"$f":"IF(ISBLANK(B47),\"\",MATCH(B47,'Algemene inl.'!$A$23:$A$98,0))","v":""}]
[null,null,"Gemiddelde leeftijd =",{"$f":"IF(ISBLANK(B37),\" \",AVERAGE(D37:D45))","v":" "},null,null,null,null,null,{"$f":"IF(ISBLANK(B48),\"\",MATCH(B48,'Algemene inl.'!$A$23:$A$98,0))","v":""}]
[null,null,null,null,null,null,null,null,null,{"$f":"IF(ISBLANK(B49),\"\",MATCH(B49,'Algemene inl.'!$A$23:$A$98,0))","v":""}]
["Discipline","Voornaam + achternaam","Geboorte-datum","Leeftijd","Categorie",null,null,null,null,{"$f":"IF(ISBLANK(B50),\"\",MATCH(B50,'Algemene inl.'!$A$23:$A$98,0))","v":{"$error":"#N/A"}}]
[null,null,{"$f":"IF(ISBLANK(B51),\" \",INDEX('Algemene inl.'!$B$23:$B$98,J51))","v":" "},{"$f":"IF(ISBLANK(B51),\"\",DATEDIF(C51,'Ref.datum & disciplines'!$A$2,\"y\"))","v":""},{"$f":"IF(ISBLANK(B51),\" \",VLOOKUP(D62,Tabel3[],2))","v":" "},{"$f":"IF(ISBLANK(B51),\"\",\"X\")","v":""},null,null,null,{"$f":"IF(ISBLANK(B51),\"\",MATCH(B51,'Algemene inl.'!$A$23:$A$98,0))","v":""}]
[null,null,{"$f":"IF(ISBLANK(B52),\" \",INDEX('Algemene inl.'!$B$23:$B$98,J52))","v":" "},{"$f":"IF(ISBLANK(B52),\"\",DATEDIF(C52,'Ref.datum & disciplines'!$A$2,\"y\"))","v":""},null,null,null,null,null,{"$f":"IF(ISBLANK(B52),\"\",MATCH(B52,'Algemene inl.'!$A$23:$A$98,0))","v":""}]
[null,null,{"$f":"IF(ISBLANK(B53),\" \",INDEX('Algemene inl.'!$B$23:$B$98,J53))","v":" "},{"$f":"IF(ISBLANK(B53),\"\",DATEDIF(C53,'Ref.datum & disciplines'!$A$2,\"y\"))","v":""},null,null,null,null,null,{"$f":"IF(ISBLANK(B53),\"\",MATCH(B53,'Algemene inl.'!$A$23:$A$98,0))","v":""}]
[null,null,{"$f":"IF(ISBLANK(B54),\" \",INDEX('Algemene inl.'!$B$23:$B$98,J54))","v":" "},{"$f":"IF(ISBLANK(B54),\"\",DATEDIF(C54,'Ref.datum & disciplines'!$A$2,\"y\"))","v":""},null,null,null,null,null,{"$f":"IF(ISBLANK(B54),\"\",MATCH(B54,'Algemene inl.'!$A$23:$A$98,0))","v":""}]
[null,null,{"$f":"IF(ISBLANK(B55),\" \",INDEX('Algemene inl.'!$B$23:$B$98,J55))","v":" "},{"$f":"IF(ISBLANK(B55),\"\",DATEDIF(C55,'Ref.datum & disciplines'!$A$2,\"y\"))","v":""},null,null,null,null,null,{"$f":"IF(ISBLANK(B55),\"\",MATCH(B55,'Algemene inl.'!$A$23:$A$98,0))","v":""}]
[null,null,{"$f":"IF(ISBLANK(B56),\" \",INDEX('Algemene inl.'!$B$23:$B$98,J56))","v":" "},{"$f":"IF(ISBLANK(B56),\"\",DATEDIF(C56,'Ref.datum & disciplines'!$A$2,\"y\"))","v":""},null,null,null,null,null,{"$f":"IF(ISBLANK(B56),\"\",MATCH(B56,'Algemene inl.'!$A$23:$A$98,0))","v":""}]
[null,null,{"$f":"IF(ISBLANK(B57),\" \",INDEX('Algemene inl.'!$B$23:$B$98,J57))","v":" "},{"$f":"IF(ISBLANK(B57),\"\",DATEDIF(C57,'Ref.datum & disciplines'!$A$2,\"y\"))","v":""},null,null,null,null,null,{"$f":"IF(ISBLANK(B57),\"\",MATCH(B57,'Algemene inl.'!$A$23:$A$98,0))","v":""}]
[null,null,{"$f":"IF(ISBLANK(B58),\" \",INDEX('Algemene inl.'!$B$23:$B$98,J58))","v":" "},{"$f":"IF(ISBLANK(B58),\"\",DATEDIF(C58,'Ref.datum & disciplines'!$A$2,\"y\"))","v":""},null,null,null,null,null,{"$f":"IF(ISBLANK(B58),\"\",MATCH(B58,'Algemene inl.'!$A$23:$A$98,0))","v":""}]
[null,null,{"$f":"IF(ISBLANK(B59),\" \",INDEX('Algemene inl.'!$B$23:$B$98,J59))","v":" "},{"$f":"IF(ISBLANK(B59),\"\",DATEDIF(C59,'Ref.datum & disciplines'!$A$2,\"y\"))","v":""},null,null,null,null,null,{"$f":"IF(ISBLANK(B59),\"\",MATCH(B59,'Algemene inl.'!$A$23:$A$98,0))","v":""}]
["Reserve 1",null,{"$f":"IF(ISBLANK(B60),\" \",INDEX('Algemene inl.'!$B$23:$B$98,J60))","v":" "},{"$f":"IF(ISBLANK(B60),\"\",DATEDIF(C60,'Ref.datum & disciplines'!$A$2,\"y\"))","v":""},null,null,null,null,null,{"$f":"IF(ISBLANK(B60),\"\",MATCH(B60,'Algemene inl.'!$A$23:$A$98,0))","v":""}]
["Reserve 2",null,{"$f":"IF(ISBLANK(B61),\" \",INDEX('Algemene inl.'!$B$23:$B$98,J61))","v":" "},{"$f":"IF(ISBLANK(B61),\"\",DATEDIF(C61,'Ref.datum & disciplines'!$A$2,\"y\"))","v":""},null,null,null,null,null,{"$f":"IF(ISBLANK(B61),\"\",MATCH(B61,'Algemene inl.'!$A$23:$A$98,0))","v":""}]
[null,null,"Gemiddelde leeftijd =",{"$f":"IF(ISBLANK(B51),\" \",AVERAGE(D51:D59))","v":" "},null,null,null,null,null,{"$f":"IF(ISBLANK(B62),\"\",MATCH(B62,'Algemene inl.'!$A$23:$A$98,0))","v":""}]
[null,null,null,null,null,null,null,null,null,{"$f":"IF(ISBLANK(B63),\"\",MATCH(B63,'Algemene inl.'!$A$23:$A$98,0))","v":""}]
["Discipline","Voornaam + achternaam","Geboorte-datum","Leeftijd","Categorie",null,null,null,null,{"$f":"IF(ISBLANK(B64),\"\",MATCH(B64,'Algemene inl.'!$A$23:$A$98,0))","v":{"$error":"#N/A"}}]
[null,null,{"$f":"IF(ISBLANK(B65),\" \",INDEX('Algemene inl.'!$B$23:$B$98,J65))","v":" "},{"$f":"IF(ISBLANK(B65),\"\",DATEDIF(C65,'Ref.datum & disciplines'!$A$2,\"y\"))","v":""},{"$f":"IF(ISBLANK(B65),\" \",VLOOKUP(D76,Tabel3[],2))","v":" "},{"$f":"IF(ISBLANK(B65),\"\",\"X\")","v":""},null,null,null,{"$f":"IF(ISBLANK(B65),\"\",MATCH(B65,'Algemene inl.'!$A$23:$A$98,0))","v":""}]
[null,null,{"$f":"IF(ISBLANK(B66),\" \",INDEX('Algemene inl.'!$B$23:$B$98,J66))","v":" "},{"$f":"IF(ISBLANK(B66),\"\",DATEDIF(C66,'Ref.datum & disciplines'!$A$2,\"y\"))","v":""},null,null,null,null,null,{"$f":"IF(ISBLANK(B66),\"\",MATCH(B66,'Algemene inl.'!$A$23:$A$98,0))","v":""}]
[null,null,{"$f":"IF(ISBLANK(B67),\" \",INDEX('Algemene inl.'!$B$23:$B$98,J67))","v":" "},{"$f":"IF(ISBLANK(B67),\"\",DATEDIF(C67,'Ref.datum & disciplines'!$A$2,\"y\"))","v":""},null,null,null,null,null,{"$f":"IF(ISBLANK(B67),\"\",MATCH(B67,'Algemene inl.'!$A$23:$A$98,0))","v":""}]
[null,null,{"$f":"IF(ISBLANK(B68),\" \",INDEX('Algemene inl.'!$B$23:$B$98,J68))","v":" "},{"$f":"IF(ISBLANK(B68),\"\",DATEDIF(C68,'Ref.datum & disciplines'!$A$2,\"y\"))","v":""},null,null,null,null,null,{"$f":"IF(ISBLANK(B68),\"\",MATCH(B68,'Algemene inl.'!$A$23:$A$98,0))","v":""}]
[null,null,{"$f":"IF(ISBLANK(B69),\" \",INDEX('Algemene inl.'!$B$23:$B$98,J69))","v":" "},{"$f":"IF(ISBLANK(B69),\"\",DATEDIF(C69,'Ref.datum & disciplines'!$A$2,\"y\"))","v":""},null,null,null,null,null,{"$f":"IF(ISBLANK(B69),\"\",MATCH(B69,'Algemene inl.'!$A$23:$A$98,0))","v":""}]
[null,null,{"$f":"IF(ISBLANK(B70),\" \",INDEX('Algemene inl.'!$B$23:$B$98,J70))","v":" "},{"$f":"IF(ISBLANK(B70),\"\",DATEDIF(C70,'Ref.datum & disciplines'!$A$2,\"y\"))","v":""},null,null,null,null,null,{"$f":"IF(ISBLANK(B70),\"\",MATCH(B70,'Algemene inl.'!$A$23:$A$98,0))","v":""}]
[null,null,{"$f":"IF(ISBLANK(B71),\" \",INDEX('Algemene inl.'!$B$23:$B$98,J71))","v":" "},{"$f":"IF(ISBLANK(B71),\"\",DATEDIF(C71,'Ref.datum & disciplines'!$A$2,\"y\"))","v":""},null,null,null,null,null,{"$f":"IF(ISBLANK(B71),\"\",MATCH(B71,'Algemene inl.'!$A$23:$A$98,0))","v":""}]
[null,null,{"$f":"IF(ISBLANK(B72),\" \",INDEX('Algemene inl.'!$B$23:$B$98,J72))","v":" "},{"$f":"IF(ISBLANK(B72),\"\",DATEDIF(C72,'Ref.datum & disciplines'!$A$2,\"y\"))","v":""},null,null,null,null,null,{"$f":"IF(ISBLANK(B72),\"\",MATCH(B72,'Algemene inl.'!$A$23:$A$98,0))","v":""}]
[null,null,{"$f":"IF(ISBLANK(B73),\" \",INDEX('Algemene inl.'!$B$23:$B$98,J73))","v":" "},{"$f":"IF(ISBLANK(B73),\"\",DATEDIF(C73,'Ref.datum & disciplines'!$A$2,\"y\"))","v":""},null,null,null,null,null,{"$f":"IF(ISBLANK(B73),\"\",MATCH(B73,'Algemene inl.'!$A$23:$A$98,0))","v":""}]
["Reserve 1",null,{"$f":"IF(ISBLANK(B74),\" \",INDEX('Algemene inl.'!$B$23:$B$98,J74))","v":" "},{"$f":"IF(ISBLANK(B74),\"\",DATEDIF(C74,'Ref.datum & disciplines'!$A$2,\"y\"))","v":""},null,null,null,null,null,{"$f":"IF(ISBLANK(B74),\"\",MATCH(B74,'Algemene inl.'!$A$23:$A$98,0))","v":""}]
["Reserve 2",null,{"$f":"IF(ISBLANK(B75),\" \",INDEX('Algemene inl.'!$B$23:$B$98,J75))","v":" "},{"$f":"IF(ISBLANK(B75),\"\",DATEDIF(C75,'Ref.datum & disciplines'!$A$2,\"y\"))","v":""},null,null,null,null,null,{"$f":"IF(ISBLANK(B75),\"\",MATCH(B75,'Algemene inl.'!$A$23:$A$98,0))","v":""}]
[null,null,"Gemiddelde leeftijd =",{"$f":"IF(ISBLANK(B65),\" \",AVERAGE(D65:D73))","v":" "},null,null,null,null,null,{"$f":"IF(ISBLANK(B76),\"\",MATCH(B76,'Algemene inl.'!$A$23:$A$98,0))","v":""}]
[null,null,null,null,null,null,null,null,null,{"$f":"IF(ISBLANK(B77),\"\",MATCH(B77,'Algemene inl.'!$A$23:$A$98,0))","v":""}]
["Discipline","Voornaam + achternaam","Geboorte-datum","Leeftijd","Categorie",null,null,null,null,{"$f":"IF(ISBLANK(B78),\"\",MATCH(B78,'Algemene inl.'!$A$23:$A$98,0))","v":{"$error":"#N/A"}}]
[null,null,{"$f":"IF(ISBLANK(B79),\" \",INDEX('Algemene inl.'!$B$23:$B$98,J79))","v":" "},{"$f":"IF(ISBLANK(B79),\"\",DATEDIF(C79,'Ref.datum & disciplines'!$A$2,\"y\"))","v":""},{"$f":"IF(ISBLANK(B79),\" \",VLOOKUP(D90,Tabel3[],2))","v":" "},{"$f":"IF(ISBLANK(B79),\"\",\"X\")","v":""},null,null,null,{"$f":"IF(ISBLANK(B79),\"\",MATCH(B79,'Algemene inl.'!$A$23:$A$98,0))","v":""}]
[null,null,{"$f":"IF(ISBLANK(B80),\" \",INDEX('Algemene inl.'!$B$23:$B$98,J80))","v":" "},{"$f":"IF(ISBLANK(B80),\"\",DATEDIF(C80,'Ref.datum & disciplines'!$A$2,\"y\"))","v":""},null,null,null,null,null,{"$f":"IF(ISBLANK(B80),\"\",MATCH(B80,'Algemene inl.'!$A$23:$A$98,0))","v":""}]
[null,null,{"$f":"IF(ISBLANK(B81),\" \",INDEX('Algemene inl.'!$B$23:$B$98,J81))","v":" "},{"$f":"IF(ISBLANK(B81),\"\",DATEDIF(C81,'Ref.datum & disciplines'!$A$2,\"y\"))","v":""},null,null,null,null,null,{"$f":"IF(ISBLANK(B81),\"\",MATCH(B81,'Algemene inl.'!$A$23:$A$98,0))","v":""}]
[null,null,{"$f":"IF(ISBLANK(B82),\" \",INDEX('Algemene inl.'!$B$23:$B$98,J82))","v":" "},{"$f":"IF(ISBLANK(B82),\"\",DATEDIF(C82,'Ref.datum & disciplines'!$A$2,\"y\"))","v":""},null,null,null,null,null,{"$f":"IF(ISBLANK(B82),\"\",MATCH(B82,'Algemene inl.'!$A$23:$A$98,0))","v":""}]
[null,null,{"$f":"IF(ISBLANK(B83),\" \",INDEX('Algemene inl.'!$B$23:$B$98,J83))","v":" "},{"$f":"IF(ISBLANK(B83),\"\",DATEDIF(C83,'Ref.datum & disciplines'!$A$2,\"y\"))","v":""},null,null,null,null,null,{"$f":"IF(ISBLANK(B83),\"\",MATCH(B83,'Algemene inl.'!$A$23:$A$98,0))","v":""}]
[null,null,{"$f":"IF(ISBLANK(B84),\" \",INDEX('Algemene inl.'!$B$23:$B$98,J84))","v":" "},{"$f":"IF(ISBLANK(B84),\"\",DATEDIF(C84,'Ref.datum & disciplines'!$A$2,\"y\"))","v":""},null,null,null,null,null,{"$f":"IF(ISBLANK(B84),\"\",MATCH(B84,'Algemene inl.'!$A$23:$A$98,0))","v":""}]
[null,null,{"$f":"IF(ISBLANK(B85),\" \",INDEX('Algemene inl.'!$B$23:$B$98,J85))","v":" "},{"$f":"IF(ISBLANK(B85),\"\",DATEDIF(C85,'Ref.datum & disciplines'!$A$2,\"y\"))","v":""},null,null,null,null,null,{"$f":"IF(ISBLANK(B85),\"\",MATCH(B85,'Algemene inl.'!$A$23:$A$98,0))","v":""}]
[null,null,{"$f":"IF(ISBLANK(B86),\" \",INDEX('Algemene inl.'!$B$23:$B$98,J86))","v":" "},{"$f":"IF(ISBLANK(B86),\"\",DATEDIF(C86,'Ref.datum & disciplines'!$A$2,\"y\"))","v":""},null,null,null,null,null,{"$f":"IF(ISBLANK(B86),\"\",MATCH(B86,'Algemene inl.'!$A$23:$A$98,0))","v":""}]
[null,null,{"$f":"IF(ISBLANK(B87),\" \",INDEX('Algemene inl.'!$B$23:$B$98,J87))","v":" "},{"$f":"IF(ISBLANK(B87),\"\",DATEDIF(C87,'Ref.datum & disciplines'!$A$2,\"y\"))","v":""},null,null,null,null,null,{"$f":"IF(ISBLANK(B87),\"\",MATCH(B87,'Algemene inl.'!$A$23:$A$98,0))","v":""}]
["Reserve 1",null,{"$f":"IF(ISBLANK(B88),\" \",INDEX('Algemene inl.'!$B$23:$B$98,J88))","v":" "},{"$f":"IF(ISBLANK(B88),\"\",DATEDIF(C88,'Ref.datum & disciplines'!$A$2,\"y\"))","v":""},null,null,null,null,null,{"$f":"IF(ISBLANK(B88),\"\",MATCH(B88,'Algemene inl.'!$A$23:$A$98,0))","v":""}]
["Reserve 2",null,{"$f":"IF(ISBLANK(B89),\" \",INDEX('Algemene inl.'!$B$23:$B$98,J89))","v":" "},{"$f":"IF(ISBLANK(B89),\"\",DATEDIF(C89,'Ref.datum & disciplines'!$A$2,\"y\"))","v":""},null,null,null,null,null,{"$f":"IF(ISBLANK(B89),\"\",MATCH(B89,'Algemene inl.'!$A$23:$A$98,0))","v":""}]
[null,null,"Gemiddelde leeftijd =",{"$f":"IF(ISBLANK(B79),\" \",AVERAGE(D79:D87))","v":" "},null,null,null,null,null,{"$f":"IF(ISBLANK(B90),\"\",MATCH(B90,'Algemene inl.'!$A$23:$A$98,0))","v":""}]
[null,null,null,null,null,null,null,null,null,{"$f":"IF(ISBLANK(B91),\"\",MATCH(B91,'Algemene inl.'!$A$23:$A$98,0))","v":""}]
["Discipline","Voornaam + achternaam","Geboorte-datum","Leeftijd","Categorie",null,null,null,null,{"$f":"IF(ISBLANK(B92),\"\",MATCH(B92,'Algemene inl.'!$A$23:$A$98,0))","v":{"$error":"#N/A"}}]
[null,null,{"$f":"IF(ISBLANK(B93),\" \",INDEX('Algemene inl.'!$B$23:$B$98,J93))","v":" "},{"$f":"IF(ISBLANK(B93),\"\",DATEDIF(C93,'Ref.datum & disciplines'!$A$2,\"y\"))","v":""},{"$f":"IF(ISBLANK(B93),\" \",VLOOKUP(D104,Tabel3[],2))","v":" "},{"$f":"IF(ISBLANK(B93),\"\",\"X\")","v":""},null,null,null,{"$f":"IF(ISBLANK(B93),\"\",MATCH(B93,'Algemene inl.'!$A$23:$A$98,0))","v":""}]
[null,null,{"$f":"IF(ISBLANK(B94),\" \",INDEX('Algemene inl.'!$B$23:$B$98,J94))","v":" "},{"$f":"IF(ISBLANK(B94),\"\",DATEDIF(C94,'Ref.datum & disciplines'!$A$2,\"y\"))","v":""},null,null,null,null,null,{"$f":"IF(ISBLANK(B94),\"\",MATCH(B94,'Algemene inl.'!$A$23:$A$98,0))","v":""}]
[null,null,{"$f":"IF(ISBLANK(B95),\" \",INDEX('Algemene inl.'!$B$23:$B$98,J95))","v":" "},{"$f":"IF(ISBLANK(B95),\"\",DATEDIF(C95,'Ref.datum & disciplines'!$A$2,\"y\"))","v":""},null,null,null,null,null,{"$f":"IF(ISBLANK(B95),\"\",MATCH(B95,'Algemene inl.'!$A$23:$A$98,0))","v":""}]
[null,null,{"$f":"IF(ISBLANK(B96),\" \",INDEX('Algemene inl.'!$B$23:$B$98,J96))","v":" "},{"$f":"IF(ISBLANK(B96),\"\",DATEDIF(C96,'Ref.datum & disciplines'!$A$2,\"y\"))","v":""},null,null,null,null,null,{"$f":"IF(ISBLANK(B96),\"\",MATCH(B96,'Algemene inl.'!$A$23:$A$98,0))","v":""}]
[null,null,{"$f":"IF(ISBLANK(B97),\" \",INDEX('Algemene inl.'!$B$23:$B$98,J97))","v":" "},{"$f":"IF(ISBLANK(B97),\"\",DATEDIF(C97,'Ref.datum & disciplines'!$A$2,\"y\"))","v":""},null,null,null,null,null,{"$f":"IF(ISBLANK(B97),\"\",MATCH(B97,'Algemene inl.'!$A$23:$A$98,0))","v":""}]
[null,null,{"$f":"IF(ISBLANK(B98),\" \",INDEX('Algemene inl.'!$B$23:$B$98,J98))","v":" "},{"$f":"IF(ISBLANK(B98),\"\",DATEDIF(C98,'Ref.datum & disciplines'!$A$2,\"y\"))","v":""},null,null,null,null,null,{"$f":"IF(ISBLANK(B98),\"\",MATCH(B98,'Algemene inl.'!$A$23:$A$98,0))","v":""}]
[null,null,{"$f":"IF(ISBLANK(B99),\" \",INDEX('Algemene inl.'!$B$23:$B$98,J99))","v":" "},{"$f":"IF(ISBLANK(B99),\"\",DATEDIF(C99,'Ref.datum & disciplines'!$A$2,\"y\"))","v":""},null,null,null,null,null,{"$f":"IF(ISBLANK(B99),\"\",MATCH(B99,'Algemene inl.'!$A$23:$A$98,0))","v":""}]
[null,null,{"$f":"IF(ISBLANK(B100),\" \",INDEX('Algemene inl.'!$B$23:$B$98,J100))","v":" "},{"$f":"IF(ISBLANK(B100),\"\",DATEDIF(C100,'Ref.datum & disciplines'!$A$2,\"y\"))","v":""},null,null,null,null,null,{"$f":"IF(ISBLANK(B100),\"\",MATCH(B100,'Algemene inl.'!$A$23:$A$98,0))","v":""}]
[null,null,{"$f":"IF(ISBLANK(B101),\" \",INDEX('Algemene inl.'!$B$23:$B$98,J101))","v":" "},{"$f":"IF(ISBLANK(B101),\"\",DATEDIF(C101,'Ref.datum & disciplines'!$A$2,\"y\"))","v":""},null,null,null,null,null,{"$f":"IF(ISBLANK(B101),\"\",MATCH(B101,'Algemene inl.'!$A$23:$A$98,0))","v":""}]
["Reserve 1",null,{"$f":"IF(ISBLANK(B102),\" \",INDEX('Algemene inl.'!$B$23:$B$98,J102))","v":" "},{"$f":"IF(ISBLANK(B102),\"\",DATEDIF(C102,'Ref.datum & disciplines'!$A$2,\"y\"))","v":""},null,null,null,null,null,{"$f":"IF(ISBLANK(B102),\"\",MATCH(B102,'Algemene inl.'!$A$23:$A$98,0))","v":""}]
["Reserve 2",null,{"$f":"IF(ISBLANK(B103),\" \",INDEX('Algemene inl.'!$B$23:$B$98,J103))","v":" "},{"$f":"IF(ISBLANK(B103),\"\",DATEDIF(C103,'Ref.datum & disciplines'!$A$2,\"y\"))","v":""},null,null,null,null,null,{"$f":"IF(ISBLANK(B103),\"\",MATCH(B103,'Algemene inl.'!$A$23:$A$98,0))","v":""}]
[null,null,"Gemiddelde leeftijd =",{"$f":"IF(ISBLANK(B93),\" \",AVERAGE(D93:D101))","v":" "},null,null,null,null,null,{"$f":"IF(ISBLANK(B104),\"\",MATCH(B104,'Algemene inl.'!$A$23:$A$98,0))","v":""}]
[null,null,null,null,null,null,null,null,null,{"$f":"IF(ISBLANK(B105),\"\",MATCH(B105,'Algemene inl.'!$A$23:$A$98,0))","v":""}]
["Discipline","Voornaam + achternaam","Geboorte-datum","Leeftijd","Categorie",null,null,null,null,{"$f":"IF(ISBLANK(B106),\"\",MATCH(B106,'Algemene inl.'!$A$23:$A$98,0))","v":{"$error":"#N/A"}}]
[null,null,{"$f":"IF(ISBLANK(B107),\" \",INDEX('Algemene inl.'!$B$23:$B$98,J107))","v":" "},{"$f":"IF(ISBLANK(B107),\"\",DATEDIF(C107,'Ref.datum & disciplines'!$A$2,\"y\"))","v":""},{"$f":"IF(ISBLANK(B107),\" \",VLOOKUP(D118,Tabel3[],2))","v":" "},{"$f":"IF(ISBLANK(B107),\"\",\"X\")","v":""},null,null,null,{"$f":"IF(ISBLANK(B107),\"\",MATCH(B107,'Algemene inl.'!$A$23:$A$98,0))","v":""}]
[null,null,{"$f":"IF(ISBLANK(B108),\" \",INDEX('Algemene inl.'!$B$23:$B$98,J108))","v":" "},{"$f":"IF(ISBLANK(B108),\"\",DATEDIF(C108,'Ref.datum & disciplines'!$A$2,\"y\"))","v":""},null,null,null,null,null,{"$f":"IF(ISBLANK(B108),\"\",MATCH(B108,'Algemene inl.'!$A$23:$A$98,0))","v":""}]
[null,null,{"$f":"IF(ISBLANK(B109),\" \",INDEX('Algemene inl.'!$B$23:$B$98,J109))","v":" "},{"$f":"IF(ISBLANK(B109),\"\",DATEDIF(C109,'Ref.datum & disciplines'!$A$2,\"y\"))","v":""},null,null,null,null,null,{"$f":"IF(ISBLANK(B109),\"\",MATCH(B109,'Algemene inl.'!$A$23:$A$98,0))","v":""}]
[null,null,{"$f":"IF(ISBLANK(B110),\" \",INDEX('Algemene inl.'!$B$23:$B$98,J110))","v":" "},{"$f":"IF(ISBLANK(B110),\"\",DATEDIF(C110,'Ref.datum & disciplines'!$A$2,\"y\"))","v":""},null,null,null,null,null,{"$f":"IF(ISBLANK(B110),\"\",MATCH(B110,'Algemene inl.'!$A$23:$A$98,0))","v":""}]
[null,null,{"$f":"IF(ISBLANK(B111),\" \",INDEX('Algemene inl.'!$B$23:$B$98,J111))","v":" "},{"$f":"IF(ISBLANK(B111),\"\",DATEDIF(C111,'Ref.datum & disciplines'!$A$2,\"y\"))","v":""},null,null,null,null,null,{"$f":"IF(ISBLANK(B111),\"\",MATCH(B111,'Algemene inl.'!$A$23:$A$98,0))","v":""}]
[null,null,{"$f":"IF(ISBLANK(B112),\" \",INDEX('Algemene inl.'!$B$23:$B$98,J112))","v":" "},{"$f":"IF(ISBLANK(B112),\"\",DATEDIF(C112,'Ref.datum & disciplines'!$A$2,\"y\"))","v":""},null,null,null,null,null,{"$f":"IF(ISBLANK(B112),\"\",MATCH(B112,'Algemene inl.'!$A$23:$A$98,0))","v":""}]
[null,null,{"$f":"IF(ISBLANK(B113),\" \",INDEX('Algemene inl.'!$B$23:$B$98,J113))","v":" "},{"$f":"IF(ISBLANK(B113),\"\",DATEDIF(C113,'Ref.datum & disciplines'!$A$2,\"y\"))","v":""},null,null,null,null,null,{"$f":"IF(ISBLANK(B113),\"\",MATCH(B113,'Algemene inl.'!$A$23:$A$98,0))","v":""}]
[null,null,{"$f":"IF(ISBLANK(B114),\" \",INDEX('Algemene inl.'!$B$23:$B$98,J114))","v":" "},{"$f":"IF(ISBLANK(B114),\"\",DATEDIF(C114,'Ref.datum & disciplines'!$A$2,\"y\"))","v":""},null,null,null,null,null,{"$f":"IF(ISBLANK(B114),\"\",MATCH(B114,'Algemene inl.'!$A$23:$A$98,0))","v":""}]
[null,null,{"$f":"IF(ISBLANK(B115),\" \",INDEX('Algemene inl.'!$B$23:$B$98,J115))","v":" "},{"$f":"IF(ISBLANK(B115),\"\",DATEDIF(C115,'Ref.datum & disciplines'!$A$2,\"y\"))","v":""},null,null,null,null,null,{"$f":"IF(ISBLANK(B115),\"\",MATCH(B115,'Algemene inl.'!$A$23:$A$98,0))","v":""}]
["Reserve 1",null,{"$f":"IF(ISBLANK(B116),\" \",INDEX('Algemene inl.'!$B$23:$B$98,J116))","v":" "},{"$f":"IF(ISBLANK(B116),\"\",DATEDIF(C116,'Ref.datum & disciplines'!$A$2,\"y\"))","v":""},null,null,null,null,null,{"$f":"IF(ISBLANK(B116),\"\",MATCH(B116,'Algemene inl.'!$A$23:$A$98,0))","v":""}]
["Reserve 2",null,{"$f":"IF(ISBLANK(B117),\" \",INDEX('Algemene inl.'!$B$23:$B$98,J117))","v":" "},{"$f":"IF(ISBLANK(B117),\"\",DATEDIF(C117,'Ref.datum & disciplines'!$A$2,\"y\"))","v":""},null,null,null,null,null,{"$f":"IF(ISBLANK(B117),\"\",MATCH(B117,'Algemene inl.'!$A$23:$A$98,0))","v":""}]
[null,null,"Gemiddelde leeftijd =",{"$f":"IF(ISBLANK(B107),\" \",AVERAGE(D107:D115))","v":" "},null,null,null,null,null,{"$f":"IF(ISBLANK(B118),\"\",MATCH(B118,'Algemene inl.'!$A$23:$A$98,0))","v":""}]
[null,null,null,null,null,null,null,null,null,{"$f":"IF(ISBLANK(B119),\"\",MATCH(B119,'Algemene inl.'!$A$23:$A$98,0))","v":""}]
[null,null,null,null,null,null,null,null,null,{"$f":"IF(ISBLANK(B120),\"\",MATCH(B120,'Algemene inl.'!$A$23:$A$98,0))","v":""}]
[null,null,null,null,null,null,null,null,null,{"$f":"IF(ISBLANK(B121),\"\",MATCH(B121,'Algemene inl.'!$A$23:$A$98,0))","v":""}]
[null,null,null,null,null,null,null,null,null,{"$f":"IF(ISBLANK(B122),\"\",MATCH(B122,'Algemene inl.'!$A$23:$A$98,0))","v":""}]
[null,null,null,null,null,null,null,null,null,{"$f":"IF(ISBLANK(B123),\"\",MATCH(B123,'Algemene inl.'!$A$23:$A$98,0))","v":""}]
[null,null,null,null,null,null,null,null,null,{"$f":"IF(ISBLANK(B124),\"\",MATCH(B124,'Algemene inl.'!$A$23:$A$98,0))","v":""}]
[null,null,null,null,null,null,null,null,null,{"$f":"IF(ISBLANK(B125),\"\",MATCH(B125,'Algemene inl.'!$A$23:$A$98,0))","v":""}]
[null,null,null,null,null,null,null,null,null,{"$f":"IF(ISBLANK(B126),\"\",MATCH(B126,'Algemene inl.'!$A$23:$A$98,0))","v":""}]
[null,null,null,null,null,null,null,null,null,{"$f":"IF(ISBLANK(B127),\"\",MATCH(B127,'Algemene inl.'!$A$23:$A$98,0))","v":""}]
[null,null,null,null,null,null,null,null,null,{"$f":"IF(ISBLANK(B128),\"\",MATCH(B128,'Algemene inl.'!$A$23:$A$98,0))","v":""}]
[null,null,null,null,null,null,null,null,null,{"$f":"IF(ISBLANK(B129),\"\",MATCH(B129,'Algemene inl.'!$A$23:$A$98,0))","v":""}]
[null,null,null,null,null,null,null,null,null,{"$f":"IF(ISBLANK(B130),\"\",MATCH(B130,'Algemene inl.'!$A$23:$A$98,0))","v":""}]
[null,null,null,null,null,null,null,null,null,{"$f":"IF(ISBLANK(B131),\"\",MATCH(B131,'Algemene inl.'!$A$23:$A$98,0))","v":""}]
[null,null,null,null,null,null,null,null,null,{"$f":"IF(ISBLANK(B132),\"\",MATCH(B132,'Algemene inl.'!$A$23:$A$98,0))","v":""}]
[null,null,null,null,null,null,null,null,null,{"$f":"IF(ISBLANK(B133),\"\",MATCH(B133,'Algemene inl.'!$A$23:$A$98,0))","v":""}]
[null,null,null,null,null,null,null,null,null,{"$f":"IF(ISBLANK(B134),\"\",MATCH(B134,'Algemene inl.'!$A$23:$A$98,0))","v":""}]
[null,null,null,null,null,null,null,null,null,{"$f":"IF(ISBLANK(B135),\"\",MATCH(B135,'Algemene inl.'!$A$23:$A$98,0))","v":""}]
[null,null,null,null,null,null,null,null,null,{"$f":"IF(ISBLANK(B136),\"\",MATCH(B136,'Algemene inl.'!$A$23:$A$98,0))","v":""}]
[null,null,null,null,null,null,null,null,null,{"$f":"IF(ISBLANK(B137),\"\",MATCH(B137,'Algemene inl.'!$A$23:$A$98,0))","v":""}]
[null,null,null,null,null,null,null,null,null,{"$f":"IF(ISBLANK(B138),\"\",MATCH(B138,'Algemene inl.'!$A$23:$A$98,0))","v":""}]
[null,null,null,null,null,null,null,null,null,{"$f":"IF(ISBLANK(B139),\"\",MATCH(B139,'Algemene inl.'!$A$23:$A$98,0))","v":""}]
[null,null,null,null,null,null,null,null,null,{"$f":"IF(ISBLANK(B140),\"\",MATCH(B140,'Algemene inl.'!$A$23:$A$98,0))","v":""}]
[null,null,null,null,null,null,null,null,null,{"$f":"IF(ISBLANK(B141),\"\",MATCH(B141,'Algemene inl.'!$A$23:$A$98,0))","v":""}]
[null,null,null,null,null,null,null,null,null,{"$f":"IF(ISBLANK(B142),\"\",MATCH(B142,'Algemene inl.'!$A$23:$A$98,0))","v":""}]
[null,null,null,null,null,null,null,null,null,{"$f":"IF(ISBLANK(B143),\"\",MATCH(B143,'Algemene inl.'!$A$23:$A$98,0))","v":""}]
[null,null,null,null,null,null,null,null,null,{"$f":"IF(ISBLANK(B144),\"\",MATCH(B144,'Algemene inl.'!$A$23:$A$98,0))","v":""}]
[null,null,null,null,null,null,null,null,null,{"$f":"IF(ISBLANK(B145),\"\",MATCH(B145,'Algemene inl.'!$A$23:$A$98,0))","v":""}]
[null,null,null,null,null,null,null,null,null,{"$f":"IF(ISBLANK(B146),\"\",MATCH(B146,'Algemene inl.'!$A$23:$A$98,0))","v":""}]
[null,null,null,null,null,null,null,null,null,{"$f":"IF(ISBLANK(B147),\"\",MATCH(B147,'Algemene inl.'!$A$23:$A$98,0))","v":""}]
[null,null,null,null,null,null,null,null,null,{"$f":"IF(ISBLANK(B148),\"\",MATCH(B148,'Algemene inl.'!$A$23:$A$98,0))","v":""}]
[null,null,null,null,null,null,null,null,null,{"$f":"IF(ISBLANK(B149),\"\",MATCH(B149,'Algemene inl.'!$A$23:$A$98,0))","v":""}]
[null,null,null,null,null,null,null,null,null,{"$f":"IF(ISBLANK(B150),\"\",MATCH(B150,'Algemene inl.'!$A$23:$A$98,0))","v":""}]
[null,null,null,null,null,null,null,null,null,{"$f":"IF(ISBLANK(B151),\"\",MATCH(B151,'Algemene inl.'!$A$23:$A$98,0))","v":""}]
[null,null,null,null,null,null,null,null,null,{"$f":"IF(ISBLANK(B152),\"\",MATCH(B152,'Algemene inl.'!$A$23:$A$98,0))","v":""}]
[null,null,null,null,null,null,null,null,null,{"$f":"IF(ISBLANK(B153),\"\",MATCH(B153,'Algemene inl.'!$A$23:$A$98,0))","v":""}]
[null,null,null,null,null,null,null,null,null,{"$f":"IF(ISBLANK(B154),\"\",MATCH(B154,'Algemene inl.'!$A$23:$A$98,0))","v":""}]
[null,null,null,null,null,null,null,null,null,{"$f":"IF(ISBLANK(B155),\"\",MATCH(B155,'Algemene inl.'!$A$23:$A$98,0))","v":""}]
[null,null,null,null,null,null,null,null,null,{"$f":"IF(ISBLANK(B156),\"\",MATCH(B156,'Algemene inl.'!$A$23:$A$98,0))","v":""}]
[null,null,null,null,null,null,null,null,null,{"$f":"IF(ISBLANK(B157),\"\",MATCH(B157,'Algemene inl.'!$A$23:$A$98,0))","v":""}]
[null,null,null,null,null,null,null,null,null,{"$f":"IF(ISBLANK(B158),\"\",MATCH(B158,'Algemene inl.'!$A$23:$A$98,0))","v":""}]
[null,null,null,null,null,null,null,null,null,{"$f":"IF(ISBLANK(B159),\"\",MATCH(B159,'Algemene inl.'!$A$23:$A$98,0))","v":""}]
[null,null,null,null,null,null,null,null,null,{"$f":"IF(ISBLANK(B160),\"\",MATCH(B160,'Algemene inl.'!$A$23:$A$98,0))","v":""}]
[null,null,null,null,null,null,null,null,null,{"$f":"IF(ISBLANK(B161),\"\",MATCH(B161,'Algemene inl.'!$A$23:$A$98,0))","v":""}]
[null,null,null,null,null,null,null,null,null,{"$f":"IF(ISBLANK(B162),\"\",MATCH(B162,'Algemene inl.'!$A$23:$A$98,0))","v":""}]
[null,null,null,null,null,null,null,null,null,{"$f":"IF(ISBLANK(B163),\"\",MATCH(B163,'Algemene inl.'!$A$23:$A$98,0))","v":""}]
[null,null,null,null,null,null,null,null,null,{"$f":"IF(ISBLANK(B164),\"\",MATCH(B164,'Algemene inl.'!$A$23:$A$98,0))","v":""}]
[null,null,null,null,null,null,null,null,null,{"$f":"IF(ISBLANK(B165),\"\",MATCH(B165,'Algemene inl.'!$A$23:$A$98,0))","v":""}]
[null,null,null,null,null,null,null,null,null,{"$f":"IF(ISBLANK(B166),\"\",MATCH(B166,'Algemene inl.'!$A$23:$A$98,0))","v":""}]
[null,null,null,null,null,null,null,null,null,{"$f":"IF(ISBLANK(B167),\"\",MATCH(B167,'Algemene inl.'!$A$23:$A$98,0))","v":""}]
[null,null,null,null,null,null,null,null,null,{"$f":"IF(ISBLANK(B168),\"\",MATCH(B168,'Algemene inl.'!$A$23:$A$98,0))","v":""}]
[null,null,null,null,null,null,null,null,null,{"$f":"IF(ISBLANK(B169),\"\",MATCH(B169,'Algemene inl.'!$A$23:$A$98,0))","v":""}]
[null,null,null,null,null,null,null,null,null,{"$f":"IF(ISBLANK(B170),\"\",MATCH(B170,'Algemene inl.'!$A$23:$A$98,0))","v":""}]
[null,null,null,null,null,null,null,null,null,{"$f":"IF(ISBLANK(B171),\"\",MATCH(B171,'Algemene inl.'!$A$23:$A$98,0))","v":""}]
[null,null,null,null,null,null,null,null,null,{"$f":"IF(ISBLANK(B172),\"\",MATCH(B172,'Algemene inl.'!$A$23:$A$98,0))","v":""}]
[null,null,null,null,null,null,null,null,null,{"$f":"IF(ISBLANK(B173),\"\",MATCH(B173,'Algemene inl.'!$A$23:$A$98,0))","v":""}]
[null,null,null,null,null,null,null,null,null,{"$f":"IF(ISBLANK(B174),\"\",MATCH(B174,'Algemene inl.'!$A$23:$A$98,0))","v":""}]
[null,null,null,null,null,null,null,null,null,{"$f":"IF(ISBLANK(B175),\"\",MATCH(B175,'Algemene inl.'!$A$23:$A$98,0))","v":""}]
[null,null,null,null,null,null,null,null,null,{"$f":"IF(ISBLANK(B176),\"\",MATCH(B176,'Algemene inl.'!$A$23:$A$98,0))","v":""}]
[null,null,null,null,null,null,null,null,null,{"$f":"IF(ISBLANK(B177),\"\",MATCH(B177,'Algemene inl.'!$A$23:$A$98,0))","v":""}]
[null,null,null,null,null,null,null,null,null,{"$f":"IF(ISBLANK(B178),\"\",MATCH(B178,'Algemene inl.'!$A$23:$A$98,0))","v":""}]
[null,null,null,null,null,null,null,null,null,{"$f":"IF(ISBLANK(B179),\"\",MATCH(B179,'Algemene inl.'!$A$23:$A$98,0))","v":""}]
[null,null,null,null,null,null,null,null,null,{"$f":"IF(ISBLANK(B180),\"\",MATCH(B180,'Algemene inl.'!$A$23:$A$98,0))","v":""}]
[null,null,null,null,null,null,null,null,null,{"$f":"IF(ISBLANK(B181),\"\",MATCH(B181,'Algemene inl.'!$A$23:$A$98,0))","v":""}]
[null,null,null,null,null,null,null,null,null,{"$f":"IF(ISBLANK(B182),\"\",MATCH(B182,'Algemene inl.'!$A$23:$A$98,0))","v":""}]
[null,null,null,null,null,null,null,null,null,{"$f":"IF(ISBLANK(B183),\"\",MATCH(B183,'Algemene inl.'!$A$23:$A$98,0))","v":""}]
[null,null,null,null,null,null,null,null,null,{"$f":"IF(ISBLANK(B184),\"\",MATCH(B184,'Algemene inl.'!$A$23:$A$98,0))","v":""}]
[null,null,null,null,null,null,null,null,null,{"$f":"IF(ISBLANK(B185),\"\",MATCH(B185,'Algemene inl.'!$A$23:$A$98,0))","v":""}]
[null,null,null,null,null,null,null,null,null,{"$f":"IF(ISBLANK(B186),\"\",MATCH(B186,'Algemene inl.'!$A$23:$A$98,0))","v":""}]
[null,null,null,null,null,null,null,null,null,{"$f":"IF(ISBLANK(B187),\"\",MATCH(B187,'Algemene inl.'!$A$23:$A$98,0))","v":""}]
[null,null,null,null,null,null,null,null,null,{"$f":"IF(ISBLANK(B188),\"\",MATCH(B188,'Algemene inl.'!$A$23:$A$98,0))","v":""}]
[null,null,null,null,null,null,null,null,null,{"$f":"IF(ISBLANK(B189),\"\",MATCH(B189,'Algemene inl.'!$A$23:$A$98,0))","v":""}]
[null,null,null,null,null,null,null,null,null,{"$f":"IF(ISBLANK(B190),\"\",MATCH(B190,'Algemene inl.'!$A$23:$A$98,0))","v":""}]
[null,null,null,null,null,null,null,null,null,{"$f":"IF(ISBLANK(B191),\"\",MATCH(B191,'Algemene inl.'!$A$23:$A$98,0))","v":""}]
[null,null,null,null,null,null,null,null,null,{"$f":"IF(ISBLANK(B192),\"\",MATCH(B192,'Algemene inl.'!$A$23:$A$98,0))","v":""}]
[null,null,null,null,null,null,null,null,null,{"$f":"IF(ISBLANK(B193),\"\",MATCH(B193,'Algemene inl.'!$A$23:$A$98,0))","v":""}]
[null,null,null,null,null,null,null,null,null,{"$f":"IF(ISBLANK(B194),\"\",MATCH(B194,'Algemene inl.'!$A$23:$A$98,0))","v":""}]
[null,null,null,null,null,null,null,null,null,{"$f":"IF(ISBLANK(B195),\"\",MATCH(B195,'Algemene inl.'!$A$23:$A$98,0))","v":""}]
[null,null,null,null,null,null,null,null,null,{"$f":"IF(ISBLANK(B196),\"\",MATCH(B196,'Algemene inl.'!$A$23:$A$98,0))","v":""}]
[null,null,null,null,null,null,null,null,null,{"$f":"IF(ISBLANK(B197),\"\",MATCH(B197,'Algemene inl.'!$A$23:$A$98,0))","v":""}]
[null,null,null,null,null,null,null,null,null,{"$f":"IF(ISBLANK(B198),\"\",MATCH(B198,'Algemene inl.'!$A$23:$A$98,0))","v":""}]
[null,null,null,null,null,null,null,null,null,{"$f":"IF(ISBLANK(B199),\"\",MATCH(B199,'Algemene inl.'!$A$23:$A$98,0))","v":""}]
[null,null,null,null,null,null,null,null,null,{"$f":"IF(ISBLANK(B200),\"\",MATCH(B200,'Algemene inl.'!$A$23:$A$98,0))","v":""}]
[null,null,null,null,null,null,null,null,null,{"$f":"IF(ISBLANK(B201),\"\",MATCH(B201,'Algemene inl.'!$A$23:$A$98,0))","v":""}]
[null,null,null,null,null,null,null,null,null,{"$f":"IF(ISBLANK(B202),\"\",MATCH(B202,'Algemene inl.'!$A$23:$A$98,0))","v":""}]
[null,null,null,null,null,null,null,null,null,{"$f":"IF(ISBLANK(B203),\"\",MATCH(B203,'Algemene inl.'!$A$23:$A$98,0))","v":""}]
[null,null,null,null,null,null,null,null,null,{"$f":"IF(ISBLANK(B204),\"\",MATCH(B204,'Algemene inl.'!$A$23:$A$98,0))","v":""}]
[null,null,null,null,null,null,null,null,null,{"$f":"IF(ISBLANK(B205),\"\",MATCH(B205,'Algemene inl.'!$A$23:$A$98,0))","v":""}]
[null,null,null,null,null,null,null,null,null,{"$f":"IF(ISBLANK(B206),\"\",MATCH(B206,'Algemene inl.'!$A$23:$A$98,0))","v":""}]
[null,null,null,null,null,null,null,null,null,{"$f":"IF(ISBLANK(B207),\"\",MATCH(B207,'Algemene inl.'!$A$23:$A$98,0))","v":""}]
[null,null,null,null,null,null,null,null,null,{"$f":"IF(ISBLANK(B208),\"\",MATCH(B208,'Algemene inl.'!$A$23:$A$98,0))","v":""}]
[null,null,null,null,null,null,null,null,null,{"$f":"IF(ISBLANK(B209),\"\",MATCH(B209,'Algemene inl.'!$A$23:$A$98,0))","v":""}]
[null,null,null,null,null,null,null,null,null,{"$f":"IF(ISBLANK(B210),\"\",MATCH(B210,'Algemene inl.'!$A$23:$A$98,0))","v":""}]
[null,null,null,null,null,null,null,null,null,{"$f":"IF(ISBLANK(B211),\"\",MATCH(B211,'Algemene inl.'!$A$23:$A$98,0))","v":""}]
[null,null,null,null,null,null,null,null,null,{"$f":"IF(ISBLANK(B212),\"\",MATCH(B212,'Algemene inl.'!$A$23:$A$98,0))","v":""}]
[null,null,null,null,null,null,null,null,null,{"$f":"IF(ISBLANK(B213),\"\",MATCH(B213,'Algemene inl.'!$A$23:$A$98,0))","v":""}]
[null,null,null,null,null,null,null,null,null,{"$f":"IF(ISBLANK(B214),\"\",MATCH(B214,'Algemene inl.'!$A$23:$A$98,0))","v":""}]
[null,null,null,null,null,null,null,null,null,{"$f":"IF(ISBLANK(B215),\"\",MATCH(B215,'Algemene inl.'!$A$23:$A$98,0))","v":""}]
[null,null,null,null,null,null,null,null,null,{"$f":"IF(ISBLANK(B216),\"\",MATCH(B216,'Algemene inl.'!$A$23:$A$98,0))","v":""}]
[null,null,null,null,null,null,null,null,null,{"$f":"IF(ISBLANK(B217),\"\",MATCH(B217,'Algemene inl.'!$A$23:$A$98,0))","v":""}]
[null,null,null,null,null,null,null,null,null,{"$f":"IF(ISBLANK(B218),\"\",MATCH(B218,'Algemene inl.'!$A$23:$A$98,0))","v":""}]
[null,null,null,null,null,null,null,null,null,{"$f":"IF(ISBLANK(B219),\"\",MATCH(B219,'Algemene inl.'!$A$23:$A$98,0))","v":""}]
[null,null,null,null,null,null,null,null,null,{"$f":"IF(ISBLANK(B220),\"\",MATCH(B220,'Algemene inl.'!$A$23:$A$98,0))","v":""}]
[null,null,null,null,null,null,null,null,null,{"$f":"IF(ISBLANK(B221),\"\",MATCH(B221,'Algemene inl.'!$A$23:$A$98,0))","v":""}]
[null,null,null,null,null,null,null,null,null,{"$f":"IF(ISBLANK(B222),\"\",MATCH(B222,'Algemene inl.'!$A$23:$A$98,0))","v":""}]
[null,null,null,null,null,null,null,null,null,{"$f":"IF(ISBLANK(B223),\"\",MATCH(B223,'Algemene inl.'!$A$23:$A$98,0))","v":""}]
[null,null,null,null,null,null,null,null,null,{"$f":"IF(ISBLANK(B224),\"\",MATCH(B224,'Algemene inl.'!$A$23:$A$98,0))","v":""}]
[null,null,null,null,null,null,null,null,null,{"$f":"IF(ISBLANK(B225),\"\",MATCH(B225,'Algemene inl.'!$A$23:$A$98,0))","v":""}]
[null,null,null,null,null,null,null,null,null,{"$f":"IF(ISBLANK(B226),\"\",MATCH(B226,'Algemene inl.'!$A$23:$A$98,0))","v":""}]
[null,null,null,null,null,null,null,null,null,{"$f":"IF(ISBLANK(B227),\"\",MATCH(B227,'Algemene inl.'!$A$23:$A$98,0))","v":""}]
[null,null,null,null,null,null,null,null,null,{"$f":"IF(ISBLANK(B228),\"\",MATCH(B228,'Algemene inl.'!$A$23:$A$98,0))","v":""}]
[null,null,null,null,null,null,null,null,null,{"$f":"IF(ISBLANK(B229),\"\",MATCH(B229,'Algemene inl.'!$A$23:$A$98,0))","v":""}]
[null,null,null,null,null,null,null,null,null,{"$f":"IF(ISBLANK(B230),\"\",MATCH(B230,'Algemene inl.'!$A$23:$A$98,0))","v":""}]
[null,null,null,null,null,null,null,null,null,{"$f":"IF(ISBLANK(B231),\"\",MATCH(B231,'Algemene inl.'!$A$23:$A$98,0))","v":""}]
[null,null,null,null,null,null,null,null,null,{"$f":"IF(ISBLANK(B232),\"\",MATCH(B232,'Algemene inl.'!$A$23:$A$98,0))","v":""}]
[null,null,null,null,null,null,null,null,null,{"$f":"IF(ISBLANK(B233),\"\",MATCH(B233,'Algemene inl.'!$A$23:$A$98,0))","v":""}]
[null,null,null,null,null,null,null,null,null,{"$f":"IF(ISBLANK(B234),\"\",MATCH(B234,'Algemene inl.'!$A$23:$A$98,0))","v":""}]
[null,null,null,null,null,null,null,null,null,{"$f":"IF(ISBLANK(B235),\"\",MATCH(B235,'Algemene inl.'!$A$23:$A$98,0))","v":""}]
[null,null,null,null,null,null,null,null,null,{"$f":"IF(ISBLANK(B236),\"\",MATCH(B236,'Algemene inl.'!$A$23:$A$98,0))","v":""}]
[null,null,null,null,null,null,null,null,null,{"$f":"IF(ISBLANK(B237),\"\",MATCH(B237,'Algemene inl.'!$A$23:$A$98,0))","v":""}]
[null,null,null,null,null,null,null,null,null,{"$f":"IF(ISBLANK(B238),\"\",MATCH(B238,'Algemene inl.'!$A$23:$A$98,0))","v":""}]
[null,null,null,null,null,null,null,null,null,{"$f":"IF(ISBLANK(B239),\"\",MATCH(B239,'Algemene inl.'!$A$23:$A$98,0))","v":""}]
[null,null,null,null,null,null,null,null,null,{"$f":"IF(ISBLANK(B240),\"\",MATCH(B240,'Algemene inl.'!$A$23:$A$98,0))","v":""}]

{"sheet":"Groep","index":7,"n_rows":315,"n_cols":10,"rows_kept":315,"cut":false,"hidden":false,"merged":[[192,0,231,0],[192,4,234,4],[146,0,185,0],[146,4,188,4],[8,0,47,0],[8,4,50,4],[54,0,93,0],[54,4,96,4],[100,0,139,0],[100,4,142,4]]}
[null,null,null,null,{"$f":"'Algemene inl.'!A6","v":"Inschrijvingsformulier "}]
[null,null,null,null,{"$f":"'Algemene inl.'!G7","v":"Duid hier de wedstrijd aan"}]
[null,null,null,null,{"$f":"'Algemene inl.'!A9","v":0}]
[]
[null,null,null,null,null,null,null,null,null,"nodig om geboortedatum op te halen!!!"]
["GROEP (min. 10 deelnemers)",null,null,null,{"$f":"IF(ISBLANK('Algemene inl.'!$B$13),\"\",'Algemene inl.'!$B$13)","v":""},null,null,null,null,{"$f":"IF(ISBLANK(B6),\"\",MATCH(B6,'Algemene inl.'!$A$25:$A$61,0))","v":""}]
[null,null,null,null,null,null,null,null,null,{"$f":"IF(ISBLANK(B7),\"\",MATCH(B7,'Algemene inl.'!$A$25:$A$61,0))","v":""}]
["Discipline","Voornaam + achternaam","Geboorte-datum","Leeftijd","Categorie"]
[null,null,{"$f":"IF(ISBLANK(B9),\" \",INDEX('Algemene inl.'!$B$23:$B$68,J9))","v":" "},{"$f":"IF(ISBLANK(B9),\"\",DATEDIF(C9,'Ref.datum & disciplines'!$A$2,\"y\"))","v":""},{"$f":"IF(ISBLANK(B9),\" \",VLOOKUP(D52,Tabel3[],2))","v":" "},{"$f":"IF(ISBLANK(B9),\"\",\"X\")","v":""},null,null,null,{"$f":"IF(ISBLANK(B9),\"\",MATCH(B9,'Algemene inl.'!$A$23:$A$98,0))","v":""}]
[null,null,{"$f":"IF(ISBLANK(B10),\" \",INDEX('Algemene inl.'!$B$23:$B$68,J10))","v":" "},{"$f":"IF(ISBLANK(B10),\"\",DATEDIF(C10,'Ref.datum & disciplines'!$A$2,\"y\"))","v":""},null,null,null,null,null,{"$f":"IF(ISBLANK(B10),\"\",MATCH(B10,'Algemene inl.'!$A$23:$A$98,0))","v":""}]
[null,null,{"$f":"IF(ISBLANK(B11),\" \",INDEX('Algemene inl.'!$B$23:$B$68,J11))","v":" "},{"$f":"IF(ISBLANK(B11),\"\",DATEDIF(C11,'Ref.datum & disciplines'!$A$2,\"y\"))","v":""},null,null,null,null,null,{"$f":"IF(ISBLANK(B11),\"\",MATCH(B11,'Algemene inl.'!$A$23:$A$98,0))","v":""}]
[null,null,{"$f":"IF(ISBLANK(B12),\" \",INDEX('Algemene inl.'!$B$23:$B$68,J12))","v":" "},{"$f":"IF(ISBLANK(B12),\"\",DATEDIF(C12,'Ref.datum & disciplines'!$A$2,\"y\"))","v":""},null,null,null,null,null,{"$f":"IF(ISBLANK(B12),\"\",MATCH(B12,'Algemene inl.'!$A$23:$A$98,0))","v":""}]
[null,null,{"$f":"IF(ISBLANK(B13),\" \",INDEX('Algemene inl.'!$B$23:$B$68,J13))","v":" "},{"$f":"IF(ISBLANK(B13),\"\",DATEDIF(C13,'Ref.datum & disciplines'!$A$2,\"y\"))","v":""},null,null,null,null,null,{"$f":"IF(ISBLANK(B13),\"\",MATCH(B13,'Algemene inl.'!$A$23:$A$98,0))","v":""}]
[null,null,{"$f":"IF(ISBLANK(B14),\" \",INDEX('Algemene inl.'!$B$23:$B$68,J14))","v":" "},{"$f":"IF(ISBLANK(B14),\"\",DATEDIF(C14,'Ref.datum & disciplines'!$A$2,\"y\"))","v":""},null,null,null,null,null,{"$f":"IF(ISBLANK(B14),\"\",MATCH(B14,'Algemene inl.'!$A$23:$A$98,0))","v":""}]
[null,null,{"$f":"IF(ISBLANK(B15),\" \",INDEX('Algemene inl.'!$B$23:$B$68,J15))","v":" "},{"$f":"IF(ISBLANK(B15),\"\",DATEDIF(C15,'Ref.datum & disciplines'!$A$2,\"y\"))","v":""},null,null,null,null,null,{"$f":"IF(ISBLANK(B15),\"\",MATCH(B15,'Algemene inl.'!$A$23:$A$98,0))","v":""}]
[null,null,{"$f":"IF(ISBLANK(B16),\" \",INDEX('Algemene inl.'!$B$23:$B$68,J16))","v":" "},{"$f":"IF(ISBLANK(B16),\"\",DATEDIF(C16,'Ref.datum & disciplines'!$A$2,\"y\"))","v":""},null,null,null,null,null,{"$f":"IF(ISBLANK(B16),\"\",MATCH(B16,'Algemene inl.'!$A$23:$A$98,0))","v":""}]
[null,null,{"$f":"IF(ISBLANK(B17),\" \",INDEX('Algemene inl.'!$B$23:$B$68,J17))","v":" "},{"$f":"IF(ISBLANK(B17),\"\",DATEDIF(C17,'Ref.datum & disciplines'!$A$2,\"y\"))","v":""},null,null,null,null,null,{"$f":"IF(ISBLANK(B17),\"\",MATCH(B17,'Algemene inl.'!$A$23:$A$98,0))","v":""}]
[null,null,{"$f":"IF(ISBLANK(B18),\" \",INDEX('Algemene inl.'!$B$23:$B$68,J18))","v":" "},{"$f":"IF(ISBLANK(B18),\"\",DATEDIF(C18,'Ref.datum & disciplines'!$A$2,\"y\"))","v":""},null,null,null,null,null,{"$f":"IF(ISBLANK(B18),\"\",MATCH(B18,'Algemene inl.'!$A$23:$A$98,0))","v":""}]
[null,null,{"$f":"IF(ISBLANK(B19),\" \",INDEX('Algemene inl.'!$B$23:$B$68,J19))","v":" "},{"$f":"IF(ISBLANK(B19),\"\",DATEDIF(C19,'Ref.datum & disciplines'!$A$2,\"y\"))","v":""},null,null,null,null,null,{"$f":"IF(ISBLANK(B19),\"\",MATCH(B19,'Algemene inl.'!$A$23:$A$98,0))","v":""}]
[null,null,{"$f":"IF(ISBLANK(B20),\" \",INDEX('Algemene inl.'!$B$23:$B$68,J20))","v":" "},{"$f":"IF(ISBLANK(B20),\"\",DATEDIF(C20,'Ref.datum & disciplines'!$A$2,\"y\"))","v":""},null,null,null,null,null,{"$f":"IF(ISBLANK(B20),\"\",MATCH(B20,'Algemene inl.'!$A$23:$A$98,0))","v":""}]
[null,null,{"$f":"IF(ISBLANK(B21),\" \",INDEX('Algemene inl.'!$B$23:$B$68,J21))","v":" "},{"$f":"IF(ISBLANK(B21),\"\",DATEDIF(C21,'Ref.datum & disciplines'!$A$2,\"y\"))","v":""},null,null,null,null,null,{"$f":"IF(ISBLANK(B21),\"\",MATCH(B21,'Algemene inl.'!$A$23:$A$98,0))","v":""}]
[null,null,{"$f":"IF(ISBLANK(B22),\" \",INDEX('Algemene inl.'!$B$23:$B$68,J22))","v":" "},{"$f":"IF(ISBLANK(B22),\"\",DATEDIF(C22,'Ref.datum & disciplines'!$A$2,\"y\"))","v":""},null,null,null,null,null,{"$f":"IF(ISBLANK(B22),\"\",MATCH(B22,'Algemene inl.'!$A$23:$A$98,0))","v":""}]
[null,null,{"$f":"IF(ISBLANK(B23),\" \",INDEX('Algemene inl.'!$B$23:$B$68,J23))","v":" "},{"$f":"IF(ISBLANK(B23),\"\",DATEDIF(C23,'Ref.datum & disciplines'!$A$2,\"y\"))","v":""},null,null,null,null,null,{"$f":"IF(ISBLANK(B23),\"\",MATCH(B23,'Algemene inl.'!$A$23:$A$98,0))","v":""}]
[null,null,{"$f":"IF(ISBLANK(B24),\" \",INDEX('Algemene inl.'!$B$23:$B$68,J24))","v":" "},{"$f":"IF(ISBLANK(B24),\"\",DATEDIF(C24,'Ref.datum & disciplines'!$A$2,\"y\"))","v":""},null,null,null,null,null,{"$f":"IF(ISBLANK(B24),\"\",MATCH(B24,'Algemene inl.'!$A$23:$A$98,0))","v":""}]
[null,null,{"$f":"IF(ISBLANK(B25),\" \",INDEX('Algemene inl.'!$B$23:$B$68,J25))","v":" "},{"$f":"IF(ISBLANK(B25),\"\",DATEDIF(C25,'Ref.datum & disciplines'!$A$2,\"y\"))","v":""},null,null,null,null,null,{"$f":"IF(ISBLANK(B25),\"\",MATCH(B25,'Algemene inl.'!$A$23:$A$98,0))","v":""}]
[null,null,{"$f":"IF(ISBLANK(B26),\" \",INDEX('Algemene inl.'!$B$23:$B$68,J26))","v":" "},{"$f":"IF(ISBLANK(B26),\"\",DATEDIF(C26,'Ref.datum & disciplines'!$A$2,\"y\"))","v":""},null,null,null,null,null,{"$f":"IF(ISBLANK(B26),\"\",MATCH(B26,'Algemene inl.'!$A$23:$A$98,0))","v":""}]
[null,null,{"$f":"IF(ISBLANK(B27),\" \",INDEX('Algemene inl.'!$B$23:$B$68,J27))","v":" "},{"$f":"IF(ISBLANK(B27),\"\",DATEDIF(C27,'Ref.datum & disciplines'!$A$2,\"y\"))","v":""},null,null,null,null,null,{"$f":"IF(ISBLANK(B27),\"\",MATCH(B27,'Algemene inl.'!$A$23:$A$98,0))","v":""}]
[null,null,{"$f":"IF(ISBLANK(B28),\" \",INDEX('Algemene inl.'!$B$23:$B$68,J28))","v":" "},{"$f":"IF(ISBLANK(B28),\"\",DATEDIF(C28,'Ref.datum & disciplines'!$A$2,\"y\"))","v":""},null,null,null,null,null,{"$f":"IF(ISBLANK(B28),\"\",MATCH(B28,'Algemene inl.'!$A$23:$A$98,0))","v":""}]
[null,null,{"$f":"IF(ISBLANK(B29),\" \",INDEX('Algemene inl.'!$B$23:$B$68,J29))","v":" "},{"$f":"IF(ISBLANK(B29),\"\",DATEDIF(C29,'Ref.datum & disciplines'!$A$2,\"y\"))","v":""},null,null,null,null,null,{"$f":"IF(ISBLANK(B29),\"\",MATCH(B29,'Algemene inl.'!$A$23:$A$98,0))","v":""}]
[null,null,{"$f":"IF(ISBLANK(B30),\" \",INDEX('Algemene inl.'!$B$23:$B$68,J30))","v":" "},{"$f":"IF(ISBLANK(B30),\"\",DATEDIF(C30,'Ref.datum & disciplines'!$A$2,\"y\"))","v":""},null,null,null,null,null,{"$f":"IF(ISBLANK(B30),\"\",MATCH(B30,'Algemene inl.'!$A$23:$A$98,0))","v":""}]
[null,null,{"$f":"IF(ISBLANK(B31),\" \",INDEX('Algemene inl.'!$B$23:$B$68,J31))","v":" "},{"$f":"IF(ISBLANK(B31),\"\",DATEDIF(C31,'Ref.datum & disciplines'!$A$2,\"y\"))","v":""},null,null,null,null,null,{"$f":"IF(ISBLANK(B31),\"\",MATCH(B31,'Algemene inl.'!$A$23:$A$98,0))","v":""}]
[null,null,{"$f":"IF(ISBLANK(B32),\" \",INDEX('Algemene inl.'!$B$23:$B$68,J32))","v":" "},{"$f":"IF(ISBLANK(B32),\"\",DATEDIF(C32,'Ref.datum & disciplines'!$A$2,\"y\"))","v":""},null,null,null,null,null,{"$f":"IF(ISBLANK(B32),\"\",MATCH(B32,'Algemene inl.'!$A$23:$A$98,0))","v":""}]
[null,null,{"$f":"IF(ISBLANK(B33),\" \",INDEX('Algemene inl.'!$B$23:$B$68,J33))","v":" "},{"$f":"IF(ISBLANK(B33),\"\",DATEDIF(C33,'Ref.datum & disciplines'!$A$2,\"y\"))","v":""},null,null,null,null,null,{"$f":"IF(ISBLANK(B33),\"\",MATCH(B33,'Algemene inl.'!$A$23:$A$98,0))","v":""}]
[null,null,{"$f":"IF(ISBLANK(B34),\" \",INDEX('Algemene inl.'!$B$23:$B$68,J34))","v":" "},{"$f":"IF(ISBLANK(B34),\"\",DATEDIF(C34,'Ref.datum & disciplines'!$A$2,\"y\"))","v":""},null,null,null,null,null,{"$f":"IF(ISBLANK(B34),\"\",MATCH(B34,'Algemene inl.'!$A$23:$A$98,0))","v":""}]
[null,null,{"$f":"IF(ISBLANK(B35),\" \",INDEX('Algemene inl.'!$B$23:$B$68,J35))","v":" "},{"$f":"IF(ISBLANK(B35),\"\",DATEDIF(C35,'Ref.datum & disciplines'!$A$2,\"y\"))","v":""},null,null,null,null,null,{"$f":"IF(ISBLANK(B35),\"\",MATCH(B35,'Algemene inl.'!$A$23:$A$98,0))","v":""}]
[null,null,{"$f":"IF(ISBLANK(B36),\" \",INDEX('Algemene inl.'!$B$23:$B$68,J36))","v":" "},{"$f":"IF(ISBLANK(B36),\"\",DATEDIF(C36,'Ref.datum & disciplines'!$A$2,\"y\"))","v":""},null,null,null,null,null,{"$f":"IF(ISBLANK(B36),\"\",MATCH(B36,'Algemene inl.'!$A$23:$A$98,0))","v":""}]
[null,null,{"$f":"IF(ISBLANK(B37),\" \",INDEX('Algemene inl.'!$B$23:$B$68,J37))","v":" "},{"$f":"IF(ISBLANK(B37),\"\",DATEDIF(C37,'Ref.datum & disciplines'!$A$2,\"y\"))","v":""},null,null,null,null,null,{"$f":"IF(ISBLANK(B37),\"\",MATCH(B37,'Algemene inl.'!$A$23:$A$98,0))","v":""}]
[null,null,{"$f":"IF(ISBLANK(B38),\" \",INDEX('Algemene inl.'!$B$23:$B$68,J38))","v":" "},{"$f":"IF(ISBLANK(B38),\"\",DATEDIF(C38,'Ref.datum & disciplines'!$A$2,\"y\"))","v":""},null,null,null,null,null,{"$f":"IF(ISBLANK(B38),\"\",MATCH(B38,'Algemene inl.'!$A$23:$A$98,0))","v":""}]
[null,null,{"$f":"IF(ISBLANK(B39),\" \",INDEX('Algemene inl.'!$B$23:$B$68,J39))","v":" "},{"$f":"IF(ISBLANK(B39),\"\",DATEDIF(C39,'Ref.datum & disciplines'!$A$2,\"y\"))","v":""},null,null,null,null,null,{"$f":"IF(ISBLANK(B39),\"\",MATCH(B39,'Algemene inl.'!$A$23:$A$98,0))","v":""}]
[null,null,{"$f":"IF(ISBLANK(B40),\" \",INDEX('Algemene inl.'!$B$23:$B$68,J40))","v":" "},{"$f":"IF(ISBLANK(B40),\"\",DATEDIF(C40,'Ref.datum & disciplines'!$A$2,\"y\"))","v":""},null,null,null,null,null,{"$f":"IF(ISBLANK(B40),\"\",MATCH(B40,'Algemene inl.'!$A$23:$A$98,0))","v":""}]
[null,null,{"$f":"IF(ISBLANK(B41),\" \",INDEX('Algemene inl.'!$B$23:$B$68,J41))","v":" "},{"$f":"IF(ISBLANK(B41),\"\",DATEDIF(C41,'Ref.datum & disciplines'!$A$2,\"y\"))","v":""},null,null,null,null,null,{"$f":"IF(ISBLANK(B41),\"\",MATCH(B41,'Algemene inl.'!$A$23:$A$98,0))","v":""}]
[null,null,{"$f":"IF(ISBLANK(B42),\" \",INDEX('Algemene inl.'!$B$23:$B$68,J42))","v":" "},{"$f":"IF(ISBLANK(B42),\"\",DATEDIF(C42,'Ref.datum & disciplines'!$A$2,\"y\"))","v":""},null,null,null,null,null,{"$f":"IF(ISBLANK(B42),\"\",MATCH(B42,'Algemene inl.'!$A$23:$A$98,0))","v":""}]
[null,null,{"$f":"IF(ISBLANK(B43),\" \",INDEX('Algemene inl.'!$B$23:$B$68,J43))","v":" "},{"$f":"IF(ISBLANK(B43),\"\",DATEDIF(C43,'Ref.datum & disciplines'!$A$2,\"y\"))","v":""},null,null,null,null,null,{"$f":"IF(ISBLANK(B43),\"\",MATCH(B43,'Algemene inl.'!$A$23:$A$98,0))","v":""}]
[null,null,{"$f":"IF(ISBLANK(B44),\" \",INDEX('Algemene inl.'!$B$23:$B$68,J44))","v":" "},{"$f":"IF(ISBLANK(B44),\"\",DATEDIF(C44,'Ref.datum & disciplines'!$A$2,\"y\"))","v":""},null,null,null,null,null,{"$f":"IF(ISBLANK(B44),\"\",MATCH(B44,'Algemene inl.'!$A$23:$A$98,0))","v":""}]
[null,null,{"$f":"IF(ISBLANK(B45),\" \",INDEX('Algemene inl.'!$B$23:$B$68,J45))","v":" "},{"$f":"IF(ISBLANK(B45),\"\",DATEDIF(C45,'Ref.datum & disciplines'!$A$2,\"y\"))","v":""},null,null,null,null,null,{"$f":"IF(ISBLANK(B45),\"\",MATCH(B45,'Algemene inl.'!$A$23:$A$98,0))","v":""}]
[null,null,{"$f":"IF(ISBLANK(B46),\" \",INDEX('Algemene inl.'!$B$23:$B$68,J46))","v":" "},{"$f":"IF(ISBLANK(B46),\"\",DATEDIF(C46,'Ref.datum & disciplines'!$A$2,\"y\"))","v":""},null,null,null,null,null,{"$f":"IF(ISBLANK(B46),\"\",MATCH(B46,'Algemene inl.'!$A$23:$A$98,0))","v":""}]
[null,null,{"$f":"IF(ISBLANK(B47),\" \",INDEX('Algemene inl.'!$B$23:$B$68,J47))","v":" "},{"$f":"IF(ISBLANK(B47),\"\",DATEDIF(C47,'Ref.datum & disciplines'!$A$2,\"y\"))","v":""},null,null,null,null,null,{"$f":"IF(ISBLANK(B47),\"\",MATCH(B47,'Algemene inl.'!$A$23:$A$98,0))","v":""}]
[null,null,{"$f":"IF(ISBLANK(B48),\" \",INDEX('Algemene inl.'!$B$23:$B$68,J48))","v":" "},{"$f":"IF(ISBLANK(B48),\"\",DATEDIF(C48,'Ref.datum & disciplines'!$A$2,\"y\"))","v":""},null,null,null,null,null,{"$f":"IF(ISBLANK(B48),\"\",MATCH(B48,'Algemene inl.'!$A$23:$A$98,0))","v":""}]
["Reserve 1",null,{"$f":"IF(ISBLANK(B49),\" \",INDEX('Algemene inl.'!$B$23:$B$68,J49))","v":" "},{"$f":"IF(ISBLANK(B49),\"\",DATEDIF(C49,'Ref.datum & disciplines'!$A$2,\"y\"))","v":""},null,null,null,null,null,{"$f":"IF(ISBLANK(B49),\"\",MATCH(B49,'Algemene inl.'!$A$23:$A$98,0))","v":""}]
["Reserve 2",null,{"$f":"IF(ISBLANK(B50),\" \",INDEX('Algemene inl.'!$B$23:$B$68,J50))","v":" "},{"$f":"IF(ISBLANK(B50),\"\",DATEDIF(C50,'Ref.datum & disciplines'!$A$2,\"y\"))","v":""},null,null,null,null,null,{"$f":"IF(ISBLANK(B50),\"\",MATCH(B50,'Algemene inl.'!$A$23:$A$98,0))","v":""}]
["Reserve 3",null,{"$f":"IF(ISBLANK(B51),\" \",INDEX('Algemene inl.'!$B$23:$B$68,J51))","v":" "},{"$f":"IF(ISBLANK(B51),\"\",DATEDIF(C51,'Ref.datum & disciplines'!$A$2,\"y\"))","v":""},null,null,null,null,null,{"$f":"IF(ISBLANK(B51),\"\",MATCH(B51,'Algemene inl.'!$A$23:$A$98,0))","v":""}]
[null,null,"Gemiddelde leeftijd =",{"$f":"IF(ISBLANK(B9),\" \",AVERAGE(D9:D48))","v":" "},null,null,null,null,null,{"$f":"IF(ISBLANK(B52),\"\",MATCH(B52,'Algemene inl.'!$A$23:$A$98,0))","v":""}]
[null,null,null,null,null,null,null,null,null,{"$f":"IF(ISBLANK(B53),\"\",MATCH(B53,'Algemene inl.'!$A$23:$A$98,0))","v":""}]
["Discipline","Voornaam + achternaam","Geboorte-datum","Leeftijd","Categorie",null,null,null,null,{"$f":"IF(ISBLANK(B54),\"\",MATCH(B54,'Algemene inl.'!$A$23:$A$98,0))","v":{"$error":"#N/A"}}]
[null,null,{"$f":"IF(ISBLANK(B55),\" \",INDEX('Algemene inl.'!$B$23:$B$68,J55))","v":" "},{"$f":"IF(ISBLANK(B55),\"\",DATEDIF(C55,'Ref.datum & disciplines'!$A$2,\"y\"))","v":""},{"$f":"IF(ISBLANK(B55),\" \",VLOOKUP(D98,Tabel3[],2))","v":" "},{"$f":"IF(ISBLANK(B55),\"\",\"X\")","v":""},null,null,null,{"$f":"IF(ISBLANK(B55),\"\",MATCH(B55,'Algemene inl.'!$A$23:$A$98,0))","v":""}]
[null,null,{"$f":"IF(ISBLANK(B56),\" \",INDEX('Algemene inl.'!$B$23:$B$68,J56))","v":" "},{"$f":"IF(ISBLANK(B56),\"\",DATEDIF(C56,'Ref.datum & disciplines'!$A$2,\"y\"))","v":""},null,null,null,null,null,{"$f":"IF(ISBLANK(B56),\"\",MATCH(B56,'Algemene inl.'!$A$23:$A$98,0))","v":""}]
[null,null,{"$f":"IF(ISBLANK(B57),\" \",INDEX('Algemene inl.'!$B$23:$B$68,J57))","v":" "},{"$f":"IF(ISBLANK(B57),\"\",DATEDIF(C57,'Ref.datum & disciplines'!$A$2,\"y\"))","v":""},null,null,null,null,null,{"$f":"IF(ISBLANK(B57),\"\",MATCH(B57,'Algemene inl.'!$A$23:$A$98,0))","v":""}]
[null,null,{"$f":"IF(ISBLANK(B58),\" \",INDEX('Algemene inl.'!$B$23:$B$68,J58))","v":" "},{"$f":"IF(ISBLANK(B58),\"\",DATEDIF(C58,'Ref.datum & disciplines'!$A$2,\"y\"))","v":""},null,null,null,null,null,{"$f":"IF(ISBLANK(B58),\"\",MATCH(B58,'Algemene inl.'!$A$23:$A$98,0))","v":""}]
[null,null,{"$f":"IF(ISBLANK(B59),\" \",INDEX('Algemene inl.'!$B$23:$B$68,J59))","v":" "},{"$f":"IF(ISBLANK(B59),\"\",DATEDIF(C59,'Ref.datum & disciplines'!$A$2,\"y\"))","v":""},null,null,null,null,null,{"$f":"IF(ISBLANK(B59),\"\",MATCH(B59,'Algemene inl.'!$A$23:$A$98,0))","v":""}]
[null,null,{"$f":"IF(ISBLANK(B60),\" \",INDEX('Algemene inl.'!$B$23:$B$68,J60))","v":" "},{"$f":"IF(ISBLANK(B60),\"\",DATEDIF(C60,'Ref.datum & disciplines'!$A$2,\"y\"))","v":""},null,null,null,null,null,{"$f":"IF(ISBLANK(B60),\"\",MATCH(B60,'Algemene inl.'!$A$23:$A$98,0))","v":""}]
[null,null,{"$f":"IF(ISBLANK(B61),\" \",INDEX('Algemene inl.'!$B$23:$B$68,J61))","v":" "},{"$f":"IF(ISBLANK(B61),\"\",DATEDIF(C61,'Ref.datum & disciplines'!$A$2,\"y\"))","v":""},null,null,null,null,null,{"$f":"IF(ISBLANK(B61),\"\",MATCH(B61,'Algemene inl.'!$A$23:$A$98,0))","v":""}]
[null,null,{"$f":"IF(ISBLANK(B62),\" \",INDEX('Algemene inl.'!$B$23:$B$68,J62))","v":" "},{"$f":"IF(ISBLANK(B62),\"\",DATEDIF(C62,'Ref.datum & disciplines'!$A$2,\"y\"))","v":""},null,null,null,null,null,{"$f":"IF(ISBLANK(B62),\"\",MATCH(B62,'Algemene inl.'!$A$23:$A$98,0))","v":""}]
[null,null,{"$f":"IF(ISBLANK(B63),\" \",INDEX('Algemene inl.'!$B$23:$B$68,J63))","v":" "},{"$f":"IF(ISBLANK(B63),\"\",DATEDIF(C63,'Ref.datum & disciplines'!$A$2,\"y\"))","v":""},null,null,null,null,null,{"$f":"IF(ISBLANK(B63),\"\",MATCH(B63,'Algemene inl.'!$A$23:$A$98,0))","v":""}]
[null,null,{"$f":"IF(ISBLANK(B64),\" \",INDEX('Algemene inl.'!$B$23:$B$68,J64))","v":" "},{"$f":"IF(ISBLANK(B64),\"\",DATEDIF(C64,'Ref.datum & disciplines'!$A$2,\"y\"))","v":""},null,null,null,null,null,{"$f":"IF(ISBLANK(B64),\"\",MATCH(B64,'Algemene inl.'!$A$23:$A$98,0))","v":""}]
[null,null,{"$f":"IF(ISBLANK(B65),\" \",INDEX('Algemene inl.'!$B$23:$B$68,J65))","v":" "},{"$f":"IF(ISBLANK(B65),\"\",DATEDIF(C65,'Ref.datum & disciplines'!$A$2,\"y\"))","v":""},null,null,null,null,null,{"$f":"IF(ISBLANK(B65),\"\",MATCH(B65,'Algemene inl.'!$A$23:$A$98,0))","v":""}]
[null,null,{"$f":"IF(ISBLANK(B66),\" \",INDEX('Algemene inl.'!$B$23:$B$68,J66))","v":" "},{"$f":"IF(ISBLANK(B66),\"\",DATEDIF(C66,'Ref.datum & disciplines'!$A$2,\"y\"))","v":""},null,null,null,null,null,{"$f":"IF(ISBLANK(B66),\"\",MATCH(B66,'Algemene inl.'!$A$23:$A$98,0))","v":""}]
[null,null,{"$f":"IF(ISBLANK(B67),\" \",INDEX('Algemene inl.'!$B$23:$B$68,J67))","v":" "},{"$f":"IF(ISBLANK(B67),\"\",DATEDIF(C67,'Ref.datum & disciplines'!$A$2,\"y\"))","v":""},null,null,null,null,null,{"$f":"IF(ISBLANK(B67),\"\",MATCH(B67,'Algemene inl.'!$A$23:$A$98,0))","v":""}]
[null,null,{"$f":"IF(ISBLANK(B68),\" \",INDEX('Algemene inl.'!$B$23:$B$68,J68))","v":" "},{"$f":"IF(ISBLANK(B68),\"\",DATEDIF(C68,'Ref.datum & disciplines'!$A$2,\"y\"))","v":""},null,null,null,null,null,{"$f":"IF(ISBLANK(B68),\"\",MATCH(B68,'Algemene inl.'!$A$23:$A$98,0))","v":""}]
[null,null,{"$f":"IF(ISBLANK(B69),\" \",INDEX('Algemene inl.'!$B$23:$B$68,J69))","v":" "},{"$f":"IF(ISBLANK(B69),\"\",DATEDIF(C69,'Ref.datum & disciplines'!$A$2,\"y\"))","v":""},null,null,null,null,null,{"$f":"IF(ISBLANK(B69),\"\",MATCH(B69,'Algemene inl.'!$A$23:$A$98,0))","v":""}]
[null,null,{"$f":"IF(ISBLANK(B70),\" \",INDEX('Algemene inl.'!$B$23:$B$68,J70))","v":" "},{"$f":"IF(ISBLANK(B70),\"\",DATEDIF(C70,'Ref.datum & disciplines'!$A$2,\"y\"))","v":""},null,null,null,null,null,{"$f":"IF(ISBLANK(B70),\"\",MATCH(B70,'Algemene inl.'!$A$23:$A$98,0))","v":""}]
[null,null,{"$f":"IF(ISBLANK(B71),\" \",INDEX('Algemene inl.'!$B$23:$B$68,J71))","v":" "},{"$f":"IF(ISBLANK(B71),\"\",DATEDIF(C71,'Ref.datum & disciplines'!$A$2,\"y\"))","v":""},null,null,null,null,null,{"$f":"IF(ISBLANK(B71),\"\",MATCH(B71,'Algemene inl.'!$A$23:$A$98,0))","v":""}]
[null,null,{"$f":"IF(ISBLANK(B72),\" \",INDEX('Algemene inl.'!$B$23:$B$68,J72))","v":" "},{"$f":"IF(ISBLANK(B72),\"\",DATEDIF(C72,'Ref.datum & disciplines'!$A$2,\"y\"))","v":""},null,null,null,null,null,{"$f":"IF(ISBLANK(B72),\"\",MATCH(B72,'Algemene inl.'!$A$23:$A$98,0))","v":""}]
[null,null,{"$f":"IF(ISBLANK(B73),\" \",INDEX('Algemene inl.'!$B$23:$B$68,J73))","v":" "},{"$f":"IF(ISBLANK(B73),\"\",DATEDIF(C73,'Ref.datum & disciplines'!$A$2,\"y\"))","v":""},null,null,null,null,null,{"$f":"IF(ISBLANK(B73),\"\",MATCH(B73,'Algemene inl.'!$A$23:$A$98,0))","v":""}]
[null,null,{"$f":"IF(ISBLANK(B74),\" \",INDEX('Algemene inl.'!$B$23:$B$68,J74))","v":" "},{"$f":"IF(ISBLANK(B74),\"\",DATEDIF(C74,'Ref.datum & disciplines'!$A$2,\"y\"))","v":""},null,null,null,null,null,{"$f":"IF(ISBLANK(B74),\"\",MATCH(B74,'Algemene inl.'!$A$23:$A$98,0))","v":""}]
[null,null,{"$f":"IF(ISBLANK(B75),\" \",INDEX('Algemene inl.'!$B$23:$B$68,J75))","v":" "},{"$f":"IF(ISBLANK(B75),\"\",DATEDIF(C75,'Ref.datum & disciplines'!$A$2,\"y\"))","v":""},null,null,null,null,null,{"$f":"IF(ISBLANK(B75),\"\",MATCH(B75,'Algemene inl.'!$A$23:$A$98,0))","v":""}]
[null,null,{"$f":"IF(ISBLANK(B76),\" \",INDEX('Algemene inl.'!$B$23:$B$68,J76))","v":" "},{"$f":"IF(ISBLANK(B76),\"\",DATEDIF(C76,'Ref.datum & disciplines'!$A$2,\"y\"))","v":""},null,null,null,null,null,{"$f":"IF(ISBLANK(B76),\"\",MATCH(B76,'Algemene inl.'!$A$23:$A$98,0))","v":""}]
[null,null,{"$f":"IF(ISBLANK(B77),\" \",INDEX('Algemene inl.'!$B$23:$B$68,J77))","v":" "},{"$f":"IF(ISBLANK(B77),\"\",DATEDIF(C77,'Ref.datum & disciplines'!$A$2,\"y\"))","v":""},null,null,null,null,null,{"$f":"IF(ISBLANK(B77),\"\",MATCH(B77,'Algemene inl.'!$A$23:$A$98,0))","v":""}]
[null,null,{"$f":"IF(ISBLANK(B78),\" \",INDEX('Algemene inl.'!$B$23:$B$68,J78))","v":" "},{"$f":"IF(ISBLANK(B78),\"\",DATEDIF(C78,'Ref.datum & disciplines'!$A$2,\"y\"))","v":""},null,null,null,null,null,{"$f":"IF(ISBLANK(B78),\"\",MATCH(B78,'Algemene inl.'!$A$23:$A$98,0))","v":""}]
[null,null,{"$f":"IF(ISBLANK(B79),\" \",INDEX('Algemene inl.'!$B$23:$B$68,J79))","v":" "},{"$f":"IF(ISBLANK(B79),\"\",DATEDIF(C79,'Ref.datum & disciplines'!$A$2,\"y\"))","v":""},null,null,null,null,null,{"$f":"IF(ISBLANK(B79),\"\",MATCH(B79,'Algemene inl.'!$A$23:$A$98,0))","v":""}]
[null,null,{"$f":"IF(ISBLANK(B80),\" \",INDEX('Algemene inl.'!$B$23:$B$68,J80))","v":" "},{"$f":"IF(ISBLANK(B80),\"\",DATEDIF(C80,'Ref.datum & disciplines'!$A$2,\"y\"))","v":""},null,null,null,null,null,{"$f":"IF(ISBLANK(B80),\"\",MATCH(B80,'Algemene inl.'!$A$23:$A$98,0))","v":""}]
[null,null,{"$f":"IF(ISBLANK(B81),\" \",INDEX('Algemene inl.'!$B$23:$B$68,J81))","v":" "},{"$f":"IF(ISBLANK(B81),\"\",DATEDIF(C81,'Ref.datum & disciplines'!$A$2,\"y\"))","v":""},null,null,null,null,null,{"$f":"IF(ISBLANK(B81),\"\",MATCH(B81,'Algemene inl.'!$A$23:$A$98,0))","v":""}]
[null,null,{"$f":"IF(ISBLANK(B82),\" \",INDEX('Algemene inl.'!$B$23:$B$68,J82))","v":" "},{"$f":"IF(ISBLANK(B82),\"\",DATEDIF(C82,'Ref.datum & disciplines'!$A$2,\"y\"))","v":""},null,null,null,null,null,{"$f":"IF(ISBLANK(B82),\"\",MATCH(B82,'Algemene inl.'!$A$23:$A$98,0))","v":""}]
[null,null,{"$f":"IF(ISBLANK(B83),\" \",INDEX('Algemene inl.'!$B$23:$B$68,J83))","v":" "},{"$f":"IF(ISBLANK(B83),\"\",DATEDIF(C83,'Ref.datum & disciplines'!$A$2,\"y\"))","v":""},null,null,null,null,null,{"$f":"IF(ISBLANK(B83),\"\",MATCH(B83,'Algemene inl.'!$A$23:$A$98,0))","v":""}]
[null,null,{"$f":"IF(ISBLANK(B84),\" \",INDEX('Algemene inl.'!$B$23:$B$68,J84))","v":" "},{"$f":"IF(ISBLANK(B84),\"\",DATEDIF(C84,'Ref.datum & disciplines'!$A$2,\"y\"))","v":""},null,null,null,null,null,{"$f":"IF(ISBLANK(B84),\"\",MATCH(B84,'Algemene inl.'!$A$23:$A$98,0))","v":""}]
[null,null,{"$f":"IF(ISBLANK(B85),\" \",INDEX('Algemene inl.'!$B$23:$B$68,J85))","v":" "},{"$f":"IF(ISBLANK(B85),\"\",DATEDIF(C85,'Ref.datum & disciplines'!$A$2,\"y\"))","v":""},null,null,null,null,null,{"$f":"IF(ISBLANK(B85),\"\",MATCH(B85,'Algemene inl.'!$A$23:$A$98,0))","v":""}]
[null,null,{"$f":"IF(ISBLANK(B86),\" \",INDEX('Algemene inl.'!$B$23:$B$68,J86))","v":" "},{"$f":"IF(ISBLANK(B86),\"\",DATEDIF(C86,'Ref.datum & disciplines'!$A$2,\"y\"))","v":""},null,null,null,null,null,{"$f":"IF(ISBLANK(B86),\"\",MATCH(B86,'Algemene inl.'!$A$23:$A$98,0))","v":""}]
[null,null,{"$f":"IF(ISBLANK(B87),\" \",INDEX('Algemene inl.'!$B$23:$B$68,J87))","v":" "},{"$f":"IF(ISBLANK(B87),\"\",DATEDIF(C87,'Ref.datum & disciplines'!$A$2,\"y\"))","v":""},null,null,null,null,null,{"$f":"IF(ISBLANK(B87),\"\",MATCH(B87,'Algemene inl.'!$A$23:$A$98,0))","v":""}]
[null,null,{"$f":"IF(ISBLANK(B88),\" \",INDEX('Algemene inl.'!$B$23:$B$68,J88))","v":" "},{"$f":"IF(ISBLANK(B88),\"\",DATEDIF(C88,'Ref.datum & disciplines'!$A$2,\"y\"))","v":""},null,null,null,null,null,{"$f":"IF(ISBLANK(B88),\"\",MATCH(B88,'Algemene inl.'!$A$23:$A$98,0))","v":""}]
[null,null,{"$f":"IF(ISBLANK(B89),\" \",INDEX('Algemene inl.'!$B$23:$B$68,J89))","v":" "},{"$f":"IF(ISBLANK(B89),\"\",DATEDIF(C89,'Ref.datum & disciplines'!$A$2,\"y\"))","v":""},null,null,null,null,null,{"$f":"IF(ISBLANK(B89),\"\",MATCH(B89,'Algemene inl.'!$A$23:$A$98,0))","v":""}]
[null,null,{"$f":"IF(ISBLANK(B90),\" \",INDEX('Algemene inl.'!$B$23:$B$68,J90))","v":" "},{"$f":"IF(ISBLANK(B90),\"\",DATEDIF(C90,'Ref.datum & disciplines'!$A$2,\"y\"))","v":""},null,null,null,null,null,{"$f":"IF(ISBLANK(B90),\"\",MATCH(B90,'Algemene inl.'!$A$23:$A$98,0))","v":""}]
[null,null,{"$f":"IF(ISBLANK(B91),\" \",INDEX('Algemene inl.'!$B$23:$B$68,J91))","v":" "},{"$f":"IF(ISBLANK(B91),\"\",DATEDIF(C91,'Ref.datum & disciplines'!$A$2,\"y\"))","v":""},null,null,null,null,null,{"$f":"IF(ISBLANK(B91),\"\",MATCH(B91,'Algemene inl.'!$A$23:$A$98,0))","v":""}]
[null,null,{"$f":"IF(ISBLANK(B92),\" \",INDEX('Algemene inl.'!$B$23:$B$68,J92))","v":" "},{"$f":"IF(ISBLANK(B92),\"\",DATEDIF(C92,'Ref.datum & disciplines'!$A$2,\"y\"))","v":""},null,null,null,null,null,{"$f":"IF(ISBLANK(B92),\"\",MATCH(B92,'Algemene inl.'!$A$23:$A$98,0))","v":""}]
[null,null,{"$f":"IF(ISBLANK(B93),\" \",INDEX('Algemene inl.'!$B$23:$B$68,J93))","v":" "},{"$f":"IF(ISBLANK(B93),\"\",DATEDIF(C93,'Ref.datum & disciplines'!$A$2,\"y\"))","v":""},null,null,null,null,null,{"$f":"IF(ISBLANK(B93),\"\",MATCH(B93,'Algemene inl.'!$A$23:$A$98,0))","v":""}]
[null,null,{"$f":"IF(ISBLANK(B94),\" \",INDEX('Algemene inl.'!$B$23:$B$68,J94))","v":" "},{"$f":"IF(ISBLANK(B94),\"\",DATEDIF(C94,'Ref.datum & disciplines'!$A$2,\"y\"))","v":""},null,null,null,null,null,{"$f":"IF(ISBLANK(B94),\"\",MATCH(B94,'Algemene inl.'!$A$23:$A$98,0))","v":""}]
["Reserve 1",null,{"$f":"IF(ISBLANK(B95),\" \",INDEX('Algemene inl.'!$B$23:$B$68,J95))","v":" "},{"$f":"IF(ISBLANK(B95),\"\",DATEDIF(C95,'Ref.datum & disciplines'!$A$2,\"y\"))","v":""},null,null,null,null,null,{"$f":"IF(ISBLANK(B95),\"\",MATCH(B95,'Algemene inl.'!$A$23:$A$98,0))","v":""}]
["Reserve 2",null,{"$f":"IF(ISBLANK(B96),\" \",INDEX('Algemene inl.'!$B$23:$B$68,J96))","v":" "},{"$f":"IF(ISBLANK(B96),\"\",DATEDIF(C96,'Ref.datum & disciplines'!$A$2,\"y\"))","v":""},null,null,null,null,null,{"$f":"IF(ISBLANK(B96),\"\",MATCH(B96,'Algemene inl.'!$A$23:$A$98,0))","v":""}]
["Reserve 3",null,{"$f":"IF(ISBLANK(B97),\" \",INDEX('Algemene inl.'!$B$23:$B$68,J97))","v":" "},{"$f":"IF(ISBLANK(B97),\"\",DATEDIF(C97,'Ref.datum & disciplines'!$A$2,\"y\"))","v":""},null,null,null,null,null,{"$f":"IF(ISBLANK(B97),\"\",MATCH(B97,'Algemene inl.'!$A$23:$A$98,0))","v":""}]
[null,null,"Gemiddelde leeftijd =",{"$f":"IF(ISBLANK(B55),\" \",AVERAGE(D55:D94))","v":" "},null,null,null,null,null,{"$f":"IF(ISBLANK(B98),\"\",MATCH(B98,'Algemene inl.'!$A$23:$A$98,0))","v":""}]
[null,null,null,null,null,null,null,null,null,{"$f":"IF(ISBLANK(B99),\"\",MATCH(B99,'Algemene inl.'!$A$23:$A$98,0))","v":""}]
["Discipline","Voornaam + achternaam","Geboorte-datum","Leeftijd","Categorie",null,null,null,null,{"$f":"IF(ISBLANK(B100),\"\",MATCH(B100,'Algemene inl.'!$A$23:$A$98,0))","v":{"$error":"#N/A"}}]
[null,null,{"$f":"IF(ISBLANK(B101),\" \",INDEX('Algemene inl.'!$B$23:$B$68,J101))","v":" "},{"$f":"IF(ISBLANK(B101),\"\",DATEDIF(C101,'Ref.datum & disciplines'!$A$2,\"y\"))","v":""},{"$f":"IF(ISBLANK(B101),\" \",VLOOKUP(D144,Tabel3[],2))","v":" "},{"$f":"IF(ISBLANK(B101),\"\",\"X\")","v":""},null,null,null,{"$f":"IF(ISBLANK(B101),\"\",MATCH(B101,'Algemene inl.'!$A$23:$A$98,0))","v":""}]
[null,null,{"$f":"IF(ISBLANK(B102),\" \",INDEX('Algemene inl.'!$B$23:$B$68,J102))","v":" "},{"$f":"IF(ISBLANK(B102),\"\",DATEDIF(C102,'Ref.datum & disciplines'!$A$2,\"y\"))","v":""},null,null,null,null,null,{"$f":"IF(ISBLANK(B102),\"\",MATCH(B102,'Algemene inl.'!$A$23:$A$98,0))","v":""}]
[null,null,{"$f":"IF(ISBLANK(B103),\" \",INDEX('Algemene inl.'!$B$23:$B$68,J103))","v":" "},{"$f":"IF(ISBLANK(B103),\"\",DATEDIF(C103,'Ref.datum & disciplines'!$A$2,\"y\"))","v":""},null,null,null,null,null,{"$f":"IF(ISBLANK(B103),\"\",MATCH(B103,'Algemene inl.'!$A$23:$A$98,0))","v":""}]
[null,null,{"$f":"IF(ISBLANK(B104),\" \",INDEX('Algemene inl.'!$B$23:$B$68,J104))","v":" "},{"$f":"IF(ISBLANK(B104),\"\",DATEDIF(C104,'Ref.datum & disciplines'!$A$2,\"y\"))","v":""},null,null,null,null,null,{"$f":"IF(ISBLANK(B104),\"\",MATCH(B104,'Algemene inl.'!$A$23:$A$98,0))","v":""}]
[null,null,{"$f":"IF(ISBLANK(B105),\" \",INDEX('Algemene inl.'!$B$23:$B$68,J105))","v":" "},{"$f":"IF(ISBLANK(B105),\"\",DATEDIF(C105,'Ref.datum & disciplines'!$A$2,\"y\"))","v":""},null,null,null,null,null,{"$f":"IF(ISBLANK(B105),\"\",MATCH(B105,'Algemene inl.'!$A$23:$A$98,0))","v":""}]
[null,null,{"$f":"IF(ISBLANK(B106),\" \",INDEX('Algemene inl.'!$B$23:$B$68,J106))","v":" "},{"$f":"IF(ISBLANK(B106),\"\",DATEDIF(C106,'Ref.datum & disciplines'!$A$2,\"y\"))","v":""},null,null,null,null,null,{"$f":"IF(ISBLANK(B106),\"\",MATCH(B106,'Algemene inl.'!$A$23:$A$98,0))","v":""}]
[null,null,{"$f":"IF(ISBLANK(B107),\" \",INDEX('Algemene inl.'!$B$23:$B$68,J107))","v":" "},{"$f":"IF(ISBLANK(B107),\"\",DATEDIF(C107,'Ref.datum & disciplines'!$A$2,\"y\"))","v":""},null,null,null,null,null,{"$f":"IF(ISBLANK(B107),\"\",MATCH(B107,'Algemene inl.'!$A$23:$A$98,0))","v":""}]
[null,null,{"$f":"IF(ISBLANK(B108),\" \",INDEX('Algemene inl.'!$B$23:$B$68,J108))","v":" "},{"$f":"IF(ISBLANK(B108),\"\",DATEDIF(C108,'Ref.datum & disciplines'!$A$2,\"y\"))","v":""},null,null,null,null,null,{"$f":"IF(ISBLANK(B108),\"\",MATCH(B108,'Algemene inl.'!$A$23:$A$98,0))","v":""}]
[null,null,{"$f":"IF(ISBLANK(B109),\" \",INDEX('Algemene inl.'!$B$23:$B$68,J109))","v":" "},{"$f":"IF(ISBLANK(B109),\"\",DATEDIF(C109,'Ref.datum & disciplines'!$A$2,\"y\"))","v":""},null,null,null,null,null,{"$f":"IF(ISBLANK(B109),\"\",MATCH(B109,'Algemene inl.'!$A$23:$A$98,0))","v":""}]
[null,null,{"$f":"IF(ISBLANK(B110),\" \",INDEX('Algemene inl.'!$B$23:$B$68,J110))","v":" "},{"$f":"IF(ISBLANK(B110),\"\",DATEDIF(C110,'Ref.datum & disciplines'!$A$2,\"y\"))","v":""},null,null,null,null,null,{"$f":"IF(ISBLANK(B110),\"\",MATCH(B110,'Algemene inl.'!$A$23:$A$98,0))","v":""}]
[null,null,{"$f":"IF(ISBLANK(B111),\" \",INDEX('Algemene inl.'!$B$23:$B$68,J111))","v":" "},{"$f":"IF(ISBLANK(B111),\"\",DATEDIF(C111,'Ref.datum & disciplines'!$A$2,\"y\"))","v":""},null,null,null,null,null,{"$f":"IF(ISBLANK(B111),\"\",MATCH(B111,'Algemene inl.'!$A$23:$A$98,0))","v":""}]
[null,null,{"$f":"IF(ISBLANK(B112),\" \",INDEX('Algemene inl.'!$B$23:$B$68,J112))","v":" "},{"$f":"IF(ISBLANK(B112),\"\",DATEDIF(C112,'Ref.datum & disciplines'!$A$2,\"y\"))","v":""},null,null,null,null,null,{"$f":"IF(ISBLANK(B112),\"\",MATCH(B112,'Algemene inl.'!$A$23:$A$98,0))","v":""}]
[null,null,{"$f":"IF(ISBLANK(B113),\" \",INDEX('Algemene inl.'!$B$23:$B$68,J113))","v":" "},{"$f":"IF(ISBLANK(B113),\"\",DATEDIF(C113,'Ref.datum & disciplines'!$A$2,\"y\"))","v":""},null,null,null,null,null,{"$f":"IF(ISBLANK(B113),\"\",MATCH(B113,'Algemene inl.'!$A$23:$A$98,0))","v":""}]
[null,null,{"$f":"IF(ISBLANK(B114),\" \",INDEX('Algemene inl.'!$B$23:$B$68,J114))","v":" "},{"$f":"IF(ISBLANK(B114),\"\",DATEDIF(C114,'Ref.datum & disciplines'!$A$2,\"y\"))","v":""},null,null,null,null,null,{"$f":"IF(ISBLANK(B114),\"\",MATCH(B114,'Algemene inl.'!$A$23:$A$98,0))","v":""}]
[null,null,{"$f":"IF(ISBLANK(B115),\" \",INDEX('Algemene inl.'!$B$23:$B$68,J115))","v":" "},{"$f":"IF(ISBLANK(B115),\"\",DATEDIF(C115,'Ref.datum & disciplines'!$A$2,\"y\"))","v":""},null,null,null,null,null,{"$f":"IF(ISBLANK(B115),\"\",MATCH(B115,'Algemene inl.'!$A$23:$A$98,0))","v":""}]
[null,null,{"$f":"IF(ISBLANK(B116),\" \",INDEX('Algemene inl.'!$B$23:$B$68,J116))","v":" "},{"$f":"IF(ISBLANK(B116),\"\",DATEDIF(C116,'Ref.datum & disciplines'!$A$2,\"y\"))","v":""},null,null,null,null,null,{"$f":"IF(ISBLANK(B116),\"\",MATCH(B116,'Algemene inl.'!$A$23:$A$98,0))","v":""}]
[null,null,{"$f":"IF(ISBLANK(B117),\" \",INDEX('Algemene inl.'!$B$23:$B$68,J117))","v":" "},{"$f":"IF(ISBLANK(B117),\"\",DATEDIF(C117,'Ref.datum & disciplines'!$A$2,\"y\"))","v":""},null,null,null,null,null,{"$f":"IF(ISBLANK(B117),\"\",MATCH(B117,'Algemene inl.'!$A$23:$A$98,0))","v":""}]
[null,null,{"$f":"IF(ISBLANK(B118),\" \",INDEX('Algemene inl.'!$B$23:$B$68,J118))","v":" "},{"$f":"IF(ISBLANK(B118),\"\",DATEDIF(C118,'Ref.datum & disciplines'!$A$2,\"y\"))","v":""},null,null,null,null,null,{"$f":"IF(ISBLANK(B118),\"\",MATCH(B118,'Algemene inl.'!$A$23:$A$98,0))","v":""}]
[null,null,{"$f":"IF(ISBLANK(B119),\" \",INDEX('Algemene inl.'!$B$23:$B$68,J119))","v":" "},{"$f":"IF(ISBLANK(B119),\"\",DATEDIF(C119,'Ref.datum & disciplines'!$A$2,\"y\"))","v":""},null,null,null,null,null,{"$f":"IF(ISBLANK(B119),\"\",MATCH(B119,'Algemene inl.'!$A$23:$A$98,0))","v":""}]
[null,null,{"$f":"IF(ISBLANK(B120),\" \",INDEX('Algemene inl.'!$B$23:$B$68,J120))","v":" "},{"$f":"IF(ISBLANK(B120),\"\",DATEDIF(C120,'Ref.datum & disciplines'!$A$2,\"y\"))","v":""},null,null,null,null,null,{"$f":"IF(ISBLANK(B120),\"\",MATCH(B120,'Algemene inl.'!$A$23:$A$98,0))","v":""}]
[null,null,{"$f":"IF(ISBLANK(B121),\" \",INDEX('Algemene inl.'!$B$23:$B$68,J121))","v":" "},{"$f":"IF(ISBLANK(B121),\"\",DATEDIF(C121,'Ref.datum & disciplines'!$A$2,\"y\"))","v":""},null,null,null,null,null,{"$f":"IF(ISBLANK(B121),\"\",MATCH(B121,'Algemene inl.'!$A$23:$A$98,0))","v":""}]
[null,null,{"$f":"IF(ISBLANK(B122),\" \",INDEX('Algemene inl.'!$B$23:$B$68,J122))","v":" "},{"$f":"IF(ISBLANK(B122),\"\",DATEDIF(C122,'Ref.datum & disciplines'!$A$2,\"y\"))","v":""},null,null,null,null,null,{"$f":"IF(ISBLANK(B122),\"\",MATCH(B122,'Algemene inl.'!$A$23:$A$98,0))","v":""}]
[null,null,{"$f":"IF(ISBLANK(B123),\" \",INDEX('Algemene inl.'!$B$23:$B$68,J123))","v":" "},{"$f":"IF(ISBLANK(B123),\"\",DATEDIF(C123,'Ref.datum & disciplines'!$A$2,\"y\"))","v":""},null,null,null,null,null,{"$f":"IF(ISBLANK(B123),\"\",MATCH(B123,'Algemene inl.'!$A$23:$A$98,0))","v":""}]
[null,null,{"$f":"IF(ISBLANK(B124),\" \",INDEX('Algemene inl.'!$B$23:$B$68,J124))","v":" "},{"$f":"IF(ISBLANK(B124),\"\",DATEDIF(C124,'Ref.datum & disciplines'!$A$2,\"y\"))","v":""},null,null,null,null,null,{"$f":"IF(ISBLANK(B124),\"\",MATCH(B124,'Algemene inl.'!$A$23:$A$98,0))","v":""}]
[null,null,{"$f":"IF(ISBLANK(B125),\" \",INDEX('Algemene inl.'!$B$23:$B$68,J125))","v":" "},{"$f":"IF(ISBLANK(B125),\"\",DATEDIF(C125,'Ref.datum & disciplines'!$A$2,\"y\"))","v":""},null,null,null,null,null,{"$f":"IF(ISBLANK(B125),\"\",MATCH(B125,'Algemene inl.'!$A$23:$A$98,0))","v":""}]
[null,null,{"$f":"IF(ISBLANK(B126),\" \",INDEX('Algemene inl.'!$B$23:$B$68,J126))","v":" "},{"$f":"IF(ISBLANK(B126),\"\",DATEDIF(C126,'Ref.datum & disciplines'!$A$2,\"y\"))","v":""},null,null,null,null,null,{"$f":"IF(ISBLANK(B126),\"\",MATCH(B126,'Algemene inl.'!$A$23:$A$98,0))","v":""}]
[null,null,{"$f":"IF(ISBLANK(B127),\" \",INDEX('Algemene inl.'!$B$23:$B$68,J127))","v":" "},{"$f":"IF(ISBLANK(B127),\"\",DATEDIF(C127,'Ref.datum & disciplines'!$A$2,\"y\"))","v":""},null,null,null,null,null,{"$f":"IF(ISBLANK(B127),\"\",MATCH(B127,'Algemene inl.'!$A$23:$A$98,0))","v":""}]
[null,null,{"$f":"IF(ISBLANK(B128),\" \",INDEX('Algemene inl.'!$B$23:$B$68,J128))","v":" "},{"$f":"IF(ISBLANK(B128),\"\",DATEDIF(C128,'Ref.datum & disciplines'!$A$2,\"y\"))","v":""},null,null,null,null,null,{"$f":"IF(ISBLANK(B128),\"\",MATCH(B128,'Algemene inl.'!$A$23:$A$98,0))","v":""}]
[null,null,{"$f":"IF(ISBLANK(B129),\" \",INDEX('Algemene inl.'!$B$23:$B$68,J129))","v":" "},{"$f":"IF(ISBLANK(B129),\"\",DATEDIF(C129,'Ref.datum & disciplines'!$A$2,\"y\"))","v":""},null,null,null,null,null,{"$f":"IF(ISBLANK(B129),\"\",MATCH(B129,'Algemene inl.'!$A$23:$A$98,0))","v":""}]
[null,null,{"$f":"IF(ISBLANK(B130),\" \",INDEX('Algemene inl.'!$B$23:$B$68,J130))","v":" "},{"$f":"IF(ISBLANK(B130),\"\",DATEDIF(C130,'Ref.datum & disciplines'!$A$2,\"y\"))","v":""},null,null,null,null,null,{"$f":"IF(ISBLANK(B130),\"\",MATCH(B130,'Algemene inl.'!$A$23:$A$98,0))","v":""}]
[null,null,{"$f":"IF(ISBLANK(B131),\" \",INDEX('Algemene inl.'!$B$23:$B$68,J131))","v":" "},{"$f":"IF(ISBLANK(B131),\"\",DATEDIF(C131,'Ref.datum & disciplines'!$A$2,\"y\"))","v":""},null,null,null,null,null,{"$f":"IF(ISBLANK(B131),\"\",MATCH(B131,'Algemene inl.'!$A$23:$A$98,0))","v":""}]
[null,null,{"$f":"IF(ISBLANK(B132),\" \",INDEX('Algemene inl.'!$B$23:$B$68,J132))","v":" "},{"$f":"IF(ISBLANK(B132),\"\",DATEDIF(C132,'Ref.datum & disciplines'!$A$2,\"y\"))","v":""},null,null,null,null,null,{"$f":"IF(ISBLANK(B132),\"\",MATCH(B132,'Algemene inl.'!$A$23:$A$98,0))","v":""}]
[null,null,{"$f":"IF(ISBLANK(B133),\" \",INDEX('Algemene inl.'!$B$23:$B$68,J133))","v":" "},{"$f":"IF(ISBLANK(B133),\"\",DATEDIF(C133,'Ref.datum & disciplines'!$A$2,\"y\"))","v":""},null,null,null,null,null,{"$f":"IF(ISBLANK(B133),\"\",MATCH(B133,'Algemene inl.'!$A$23:$A$98,0))","v":""}]
[null,null,{"$f":"IF(ISBLANK(B134),\" \",INDEX('Algemene inl.'!$B$23:$B$68,J134))","v":" "},{"$f":"IF(ISBLANK(B134),\"\",DATEDIF(C134,'Ref.datum & disciplines'!$A$2,\"y\"))","v":""},null,null,null,null,null,{"$f":"IF(ISBLANK(B134),\"\",MATCH(B134,'Algemene inl.'!$A$23:$A$98,0))","v":""}]
[null,null,{"$f":"IF(ISBLANK(B135),\" \",INDEX('Algemene inl.'!$B$23:$B$68,J135))","v":" "},{"$f":"IF(ISBLANK(B135),\"\",DATEDIF(C135,'Ref.datum & disciplines'!$A$2,\"y\"))","v":""},null,null,null,null,null,{"$f":"IF(ISBLANK(B135),\"\",MATCH(B135,'Algemene inl.'!$A$23:$A$98,0))","v":""}]
[null,null,{"$f":"IF(ISBLANK(B136),\" \",INDEX('Algemene inl.'!$B$23:$B$68,J136))","v":" "},{"$f":"IF(ISBLANK(B136),\"\",DATEDIF(C136,'Ref.datum & disciplines'!$A$2,\"y\"))","v":""},null,null,null,null,null,{"$f":"IF(ISBLANK(B136),\"\",MATCH(B136,'Algemene inl.'!$A$23:$A$98,0))","v":""}]
[null,null,{"$f":"IF(ISBLANK(B137),\" \",INDEX('Algemene inl.'!$B$23:$B$68,J137))","v":" "},{"$f":"IF(ISBLANK(B137),\"\",DATEDIF(C137,'Ref.datum & disciplines'!$A$2,\"y\"))","v":""},null,null,null,null,null,{"$f":"IF(ISBLANK(B137),\"\",MATCH(B137,'Algemene inl.'!$A$23:$A$98,0))","v":""}]
[null,null,{"$f":"IF(ISBLANK(B138),\" \",INDEX('Algemene inl.'!$B$23:$B$68,J138))","v":" "},{"$f":"IF(ISBLANK(B138),\"\",DATEDIF(C138,'Ref.datum & disciplines'!$A$2,\"y\"))","v":""},null,null,null,null,null,{"$f":"IF(ISBLANK(B138),\"\",MATCH(B138,'Algemene inl.'!$A$23:$A$98,0))","v":""}]
[null,null,{"$f":"IF(ISBLANK(B139),\" \",INDEX('Algemene inl.'!$B$23:$B$68,J139))","v":" "},{"$f":"IF(ISBLANK(B139),\"\",DATEDIF(C139,'Ref.datum & disciplines'!$A$2,\"y\"))","v":""},null,null,null,null,null,{"$f":"IF(ISBLANK(B139),\"\",MATCH(B139,'Algemene inl.'!$A$23:$A$98,0))","v":""}]
[null,null,{"$f":"IF(ISBLANK(B140),\" \",INDEX('Algemene inl.'!$B$23:$B$68,J140))","v":" "},{"$f":"IF(ISBLANK(B140),\"\",DATEDIF(C140,'Ref.datum & disciplines'!$A$2,\"y\"))","v":""},null,null,null,null,null,{"$f":"IF(ISBLANK(B140),\"\",MATCH(B140,'Algemene inl.'!$A$23:$A$98,0))","v":""}]
["Reserve 1",null,{"$f":"IF(ISBLANK(B141),\" \",INDEX('Algemene inl.'!$B$23:$B$68,J141))","v":" "},{"$f":"IF(ISBLANK(B141),\"\",DATEDIF(C141,'Ref.datum & disciplines'!$A$2,\"y\"))","v":""},null,null,null,null,null,{"$f":"IF(ISBLANK(B141),\"\",MATCH(B141,'Algemene inl.'!$A$23:$A$98,0))","v":""}]
["Reserve 2",null,{"$f":"IF(ISBLANK(B142),\" \",INDEX('Algemene inl.'!$B$23:$B$68,J142))","v":" "},{"$f":"IF(ISBLANK(B142),\"\",DATEDIF(C142,'Ref.datum & disciplines'!$A$2,\"y\"))","v":""},null,null,null,null,null,{"$f":"IF(ISBLANK(B142),\"\",MATCH(B142,'Algemene inl.'!$A$23:$A$98,0))","v":""}]
["Reserve 3",null,{"$f":"IF(ISBLANK(B143),\" \",INDEX('Algemene inl.'!$B$23:$B$68,J143))","v":" "},{"$f":"IF(ISBLANK(B143),\"\",DATEDIF(C143,'Ref.datum & disciplines'!$A$2,\"y\"))","v":""},null,null,null,null,null,{"$f":"IF(ISBLANK(B143),\"\",MATCH(B143,'Algemene inl.'!$A$23:$A$98,0))","v":""}]
[null,null,"Gemiddelde leeftijd =",{"$f":"IF(ISBLANK(B101),\" \",AVERAGE(D101:D140))","v":" "},null,null,null,null,null,{"$f":"IF(ISBLANK(B144),\"\",MATCH(B144,'Algemene inl.'!$A$23:$A$98,0))","v":""}]
[null,null,null,null,null,null,null,null,null,{"$f":"IF(ISBLANK(B145),\"\",MATCH(B145,'Algemene inl.'!$A$23:$A$98,0))","v":""}]
["Discipline","Voornaam + achternaam","Geboorte-datum","Leeftijd","Categorie",null,null,null,null,{"$f":"IF(ISBLANK(B146),\"\",MATCH(B146,'Algemene inl.'!$A$23:$A$98,0))","v":{"$error":"#N/A"}}]
[null,null,{"$f":"IF(ISBLANK(B147),\" \",INDEX('Algemene inl.'!$B$23:$B$68,J147))","v":" "},{"$f":"IF(ISBLANK(B147),\"\",DATEDIF(C147,'Ref.datum & disciplines'!$A$2,\"y\"))","v":""},{"$f":"IF(ISBLANK(B147),\" \",VLOOKUP(D190,Tabel3[],2))","v":" "},{"$f":"IF(ISBLANK(B147),\"\",\"X\")","v":""},null,null,null,{"$f":"IF(ISBLANK(B147),\"\",MATCH(B147,'Algemene inl.'!$A$23:$A$98,0))","v":""}]
[null,null,{"$f":"IF(ISBLANK(B148),\" \",INDEX('Algemene inl.'!$B$23:$B$68,J148))","v":" "},{"$f":"IF(ISBLANK(B148),\"\",DATEDIF(C148,'Ref.datum & disciplines'!$A$2,\"y\"))","v":""},null,null,null,null,null,{"$f":"IF(ISBLANK(B148),\"\",MATCH(B148,'Algemene inl.'!$A$23:$A$98,0))","v":""}]
[null,null,{"$f":"IF(ISBLANK(B149),\" \",INDEX('Algemene inl.'!$B$23:$B$68,J149))","v":" "},{"$f":"IF(ISBLANK(B149),\"\",DATEDIF(C149,'Ref.datum & disciplines'!$A$2,\"y\"))","v":""},null,null,null,null,null,{"$f":"IF(ISBLANK(B149),\"\",MATCH(B149,'Algemene inl.'!$A$23:$A$98,0))","v":""}]
[null,null,{"$f":"IF(ISBLANK(B150),\" \",INDEX('Algemene inl.'!$B$23:$B$68,J150))","v":" "},{"$f":"IF(ISBLANK(B150),\"\",DATEDIF(C150,'Ref.datum & disciplines'!$A$2,\"y\"))","v":""},null,null,null,null,null,{"$f":"IF(ISBLANK(B150),\"\",MATCH(B150,'Algemene inl.'!$A$23:$A$98,0))","v":""}]
[null,null,{"$f":"IF(ISBLANK(B151),\" \",INDEX('Algemene inl.'!$B$23:$B$68,J151))","v":" "},{"$f":"IF(ISBLANK(B151),\"\",DATEDIF(C151,'Ref.datum & disciplines'!$A$2,\"y\"))","v":""},null,null,null,null,null,{"$f":"IF(ISBLANK(B151),\"\",MATCH(B151,'Algemene inl.'!$A$23:$A$98,0))","v":""}]
[null,null,{"$f":"IF(ISBLANK(B152),\" \",INDEX('Algemene inl.'!$B$23:$B$68,J152))","v":" "},{"$f":"IF(ISBLANK(B152),\"\",DATEDIF(C152,'Ref.datum & disciplines'!$A$2,\"y\"))","v":""},null,null,null,null,null,{"$f":"IF(ISBLANK(B152),\"\",MATCH(B152,'Algemene inl.'!$A$23:$A$98,0))","v":""}]
[null,null,{"$f":"IF(ISBLANK(B153),\" \",INDEX('Algemene inl.'!$B$23:$B$68,J153))","v":" "},{"$f":"IF(ISBLANK(B153),\"\",DATEDIF(C153,'Ref.datum & disciplines'!$A$2,\"y\"))","v":""},null,null,null,null,null,{"$f":"IF(ISBLANK(B153),\"\",MATCH(B153,'Algemene inl.'!$A$23:$A$98,0))","v":""}]
[null,null,{"$f":"IF(ISBLANK(B154),\" \",INDEX('Algemene inl.'!$B$23:$B$68,J154))","v":" "},{"$f":"IF(ISBLANK(B154),\"\",DATEDIF(C154,'Ref.datum & disciplines'!$A$2,\"y\"))","v":""},null,null,null,null,null,{"$f":"IF(ISBLANK(B154),\"\",MATCH(B154,'Algemene inl.'!$A$23:$A$98,0))","v":""}]
[null,null,{"$f":"IF(ISBLANK(B155),\" \",INDEX('Algemene inl.'!$B$23:$B$68,J155))","v":" "},{"$f":"IF(ISBLANK(B155),\"\",DATEDIF(C155,'Ref.datum & disciplines'!$A$2,\"y\"))","v":""},null,null,null,null,null,{"$f":"IF(ISBLANK(B155),\"\",MATCH(B155,'Algemene inl.'!$A$23:$A$98,0))","v":""}]
[null,null,{"$f":"IF(ISBLANK(B156),\" \",INDEX('Algemene inl.'!$B$23:$B$68,J156))","v":" "},{"$f":"IF(ISBLANK(B156),\"\",DATEDIF(C156,'Ref.datum & disciplines'!$A$2,\"y\"))","v":""},null,null,null,null,null,{"$f":"IF(ISBLANK(B156),\"\",MATCH(B156,'Algemene inl.'!$A$23:$A$98,0))","v":""}]
[null,null,{"$f":"IF(ISBLANK(B157),\" \",INDEX('Algemene inl.'!$B$23:$B$68,J157))","v":" "},{"$f":"IF(ISBLANK(B157),\"\",DATEDIF(C157,'Ref.datum & disciplines'!$A$2,\"y\"))","v":""},null,null,null,null,null,{"$f":"IF(ISBLANK(B157),\"\",MATCH(B157,'Algemene inl.'!$A$23:$A$98,0))","v":""}]
[null,null,{"$f":"IF(ISBLANK(B158),\" \",INDEX('Algemene inl.'!$B$23:$B$68,J158))","v":" "},{"$f":"IF(ISBLANK(B158),\"\",DATEDIF(C158,'Ref.datum & disciplines'!$A$2,\"y\"))","v":""},null,null,null,null,null,{"$f":"IF(ISBLANK(B158),\"\",MATCH(B158,'Algemene inl.'!$A$23:$A$98,0))","v":""}]
[null,null,{"$f":"IF(ISBLANK(B159),\" \",INDEX('Algemene inl.'!$B$23:$B$68,J159))","v":" "},{"$f":"IF(ISBLANK(B159),\"\",DATEDIF(C159,'Ref.datum & disciplines'!$A$2,\"y\"))","v":""},null,null,null,null,null,{"$f":"IF(ISBLANK(B159),\"\",MATCH(B159,'Algemene inl.'!$A$23:$A$98,0))","v":""}]
[null,null,{"$f":"IF(ISBLANK(B160),\" \",INDEX('Algemene inl.'!$B$23:$B$68,J160))","v":" "},{"$f":"IF(ISBLANK(B160),\"\",DATEDIF(C160,'Ref.datum & disciplines'!$A$2,\"y\"))","v":""},null,null,null,null,null,{"$f":"IF(ISBLANK(B160),\"\",MATCH(B160,'Algemene inl.'!$A$23:$A$98,0))","v":""}]
[null,null,{"$f":"IF(ISBLANK(B161),\" \",INDEX('Algemene inl.'!$B$23:$B$68,J161))","v":" "},{"$f":"IF(ISBLANK(B161),\"\",DATEDIF(C161,'Ref.datum & disciplines'!$A$2,\"y\"))","v":""},null,null,null,null,null,{"$f":"IF(ISBLANK(B161),\"\",MATCH(B161,'Algemene inl.'!$A$23:$A$98,0))","v":""}]
[null,null,{"$f":"IF(ISBLANK(B162),\" \",INDEX('Algemene inl.'!$B$23:$B$68,J162))","v":" "},{"$f":"IF(ISBLANK(B162),\"\",DATEDIF(C162,'Ref.datum & disciplines'!$A$2,\"y\"))","v":""},null,null,null,null,null,{"$f":"IF(ISBLANK(B162),\"\",MATCH(B162,'Algemene inl.'!$A$23:$A$98,0))","v":""}]
[null,null,{"$f":"IF(ISBLANK(B163),\" \",INDEX('Algemene inl.'!$B$23:$B$68,J163))","v":" "},{"$f":"IF(ISBLANK(B163),\"\",DATEDIF(C163,'Ref.datum & disciplines'!$A$2,\"y\"))","v":""},null,null,null,null,null,{"$f":"IF(ISBLANK(B163),\"\",MATCH(B163,'Algemene inl.'!$A$23:$A$98,0))","v":""}]
[null,null,{"$f":"IF(ISBLANK(B164),\" \",INDEX('Algemene inl.'!$B$23:$B$68,J164))","v":" "},{"$f":"IF(ISBLANK(B164),\"\",DATEDIF(C164,'Ref.datum & disciplines'!$A$2,\"y\"))","v":""},null,null,null,null,null,{"$f":"IF(ISBLANK(B164),\"\",MATCH(B164,'Algemene inl.'!$A$23:$A$98,0))","v":""}]
[null,null,{"$f":"IF(ISBLANK(B165),\" \",INDEX('Algemene inl.'!$B$23:$B$68,J165))","v":" "},{"$f":"IF(ISBLANK(B165),\"\",DATEDIF(C165,'Ref.datum & disciplines'!$A$2,\"y\"))","v":""},null,null,null,null,null,{"$f":"IF(ISBLANK(B165),\"\",MATCH(B165,'Algemene inl.'!$A$23:$A$98,0))","v":""}]
[null,null,{"$f":"IF(ISBLANK(B166),\" \",INDEX('Algemene inl.'!$B$23:$B$68,J166))","v":" "},{"$f":"IF(ISBLANK(B166),\"\",DATEDIF(C166,'Ref.datum & disciplines'!$A$2,\"y\"))","v":""},null,null,null,null,null,{"$f":"IF(ISBLANK(B166),\"\",MATCH(B166,'Algemene inl.'!$A$23:$A$98,0))","v":""}]
[null,null,{"$f":"IF(ISBLANK(B167),\" \",INDEX('Algemene inl.'!$B$23:$B$68,J167))","v":" "},{"$f":"IF(ISBLANK(B167),\"\",DATEDIF(C167,'Ref.datum & disciplines'!$A$2,\"y\"))","v":""},null,null,null,null,null,{"$f":"IF(ISBLANK(B167),\"\",MATCH(B167,'Algemene inl.'!$A$23:$A$98,0))","v":""}]
[null,null,{"$f":"IF(ISBLANK(B168),\" \",INDEX('Algemene inl.'!$B$23:$B$68,J168))","v":" "},{"$f":"IF(ISBLANK(B168),\"\",DATEDIF(C168,'Ref.datum & disciplines'!$A$2,\"y\"))","v":""},null,null,null,null,null,{"$f":"IF(ISBLANK(B168),\"\",MATCH(B168,'Algemene inl.'!$A$23:$A$98,0))","v":""}]
[null,null,{"$f":"IF(ISBLANK(B169),\" \",INDEX('Algemene inl.'!$B$23:$B$68,J169))","v":" "},{"$f":"IF(ISBLANK(B169),\"\",DATEDIF(C169,'Ref.datum & disciplines'!$A$2,\"y\"))","v":""},null,null,null,null,null,{"$f":"IF(ISBLANK(B169),\"\",MATCH(B169,'Algemene inl.'!$A$23:$A$98,0))","v":""}]
[null,null,{"$f":"IF(ISBLANK(B170),\" \",INDEX('Algemene inl.'!$B$23:$B$68,J170))","v":" "},{"$f":"IF(ISBLANK(B170),\"\",DATEDIF(C170,'Ref.datum & disciplines'!$A$2,\"y\"))","v":""},null,null,null,null,null,{"$f":"IF(ISBLANK(B170),\"\",MATCH(B170,'Algemene inl.'!$A$23:$A$98,0))","v":""}]
[null,null,{"$f":"IF(ISBLANK(B171),\" \",INDEX('Algemene inl.'!$B$23:$B$68,J171))","v":" "},{"$f":"IF(ISBLANK(B171),\"\",DATEDIF(C171,'Ref.datum & disciplines'!$A$2,\"y\"))","v":""},null,null,null,null,null,{"$f":"IF(ISBLANK(B171),\"\",MATCH(B171,'Algemene inl.'!$A$23:$A$98,0))","v":""}]
[null,null,{"$f":"IF(ISBLANK(B172),\" \",INDEX('Algemene inl.'!$B$23:$B$68,J172))","v":" "},{"$f":"IF(ISBLANK(B172),\"\",DATEDIF(C172,'Ref.datum & disciplines'!$A$2,\"y\"))","v":""},null,null,null,null,null,{"$f":"IF(ISBLANK(B172),\"\",MATCH(B172,'Algemene inl.'!$A$23:$A$98,0))","v":""}]
[null,null,{"$f":"IF(ISBLANK(B173),\" \",INDEX('Algemene inl.'!$B$23:$B$68,J173))","v":" "},{"$f":"IF(ISBLANK(B173),\"\",DATEDIF(C173,'Ref.datum & disciplines'!$A$2,\"y\"))","v":""},null,null,null,null,null,{"$f":"IF(ISBLANK(B173),\"\",MATCH(B173,'Algemene inl.'!$A$23:$A$98,0))","v":""}]
[null,null,{"$f":"IF(ISBLANK(B174),\" \",INDEX('Algemene inl.'!$B$23:$B$68,J174))","v":" "},{"$f":"IF(ISBLANK(B174),\"\",DATEDIF(C174,'Ref.datum & disciplines'!$A$2,\"y\"))","v":""},null,null,null,null,null,{"$f":"IF(ISBLANK(B174),\"\",MATCH(B174,'Algemene inl.'!$A$23:$A$98,0))","v":""}]
[null,null,{"$f":"IF(ISBLANK(B175),\" \",INDEX('Algemene inl.'!$B$23:$B$68,J175))","v":" "},{"$f":"IF(ISBLANK(B175),\"\",DATEDIF(C175,'Ref.datum & disciplines'!$A$2,\"y\"))","v":""},null,null,null,null,null,{"$f":"IF(ISBLANK(B175),\"\",MATCH(B175,'Algemene inl.'!$A$23:$A$98,0))","v":""}]
[null,null,{"$f":"IF(ISBLANK(B176),\" \",INDEX('Algemene inl.'!$B$23:$B$68,J176))","v":" "},{"$f":"IF(ISBLANK(B176),\"\",DATEDIF(C176,'Ref.datum & disciplines'!$A$2,\"y\"))","v":""},null,null,null,null,null,{"$f":"IF(ISBLANK(B176),\"\",MATCH(B176,'Algemene inl.'!$A$23:$A$98,0))","v":""}]
[null,null,{"$f":"IF(ISBLANK(B177),\" \",INDEX('Algemene inl.'!$B$23:$B$68,J177))","v":" "},{"$f":"IF(ISBLANK(B177),\"\",DATEDIF(C177,'Ref.datum & disciplines'!$A$2,\"y\"))","v":""},null,null,null,null,null,{"$f":"IF(ISBLANK(B177),\"\",MATCH(B177,'Algemene inl.'!$A$23:$A$98,0))","v":""}]
[null,null,{"$f":"IF(ISBLANK(B178),\" \",INDEX('Algemene inl.'!$B$23:$B$68,J178))","v":" "},{"$f":"IF(ISBLANK(B178),\"\",DATEDIF(C178,'Ref.datum & disciplines'!$A$2,\"y\"))","v":""},null,null,null,null,null,{"$f":"IF(ISBLANK(B178),\"\",MATCH(B178,'Algemene inl.'!$A$23:$A$98,0))","v":""}]
[null,null,{"$f":"IF(ISBLANK(B179),\" \",INDEX('Algemene inl.'!$B$23:$B$68,J179))","v":" "},{"$f":"IF(ISBLANK(B179),\"\",DATEDIF(C179,'Ref.datum & disciplines'!$A$2,\"y\"))","v":""},null,null,null,null,null,{"$f":"IF(ISBLANK(B179),\"\",MATCH(B179,'Algemene inl.'!$A$23:$A$98,0))","v":""}]
[null,null,{"$f":"IF(ISBLANK(B180),\" \",INDEX('Algemene inl.'!$B$23:$B$68,J180))","v":" "},{"$f":"IF(ISBLANK(B180),\"\",DATEDIF(C180,'Ref.datum & disciplines'!$A$2,\"y\"))","v":""},null,null,null,null,null,{"$f":"IF(ISBLANK(B180),\"\",MATCH(B180,'Algemene inl.'!$A$23:$A$98,0))","v":""}]
[null,null,{"$f":"IF(ISBLANK(B181),\" \",INDEX('Algemene inl.'!$B$23:$B$68,J181))","v":" "},{"$f":"IF(ISBLANK(B181),\"\",DATEDIF(C181,'Ref.datum & disciplines'!$A$2,\"y\"))","v":""},null,null,null,null,null,{"$f":"IF(ISBLANK(B181),\"\",MATCH(B181,'Algemene inl.'!$A$23:$A$98,0))","v":""}]
[null,null,{"$f":"IF(ISBLANK(B182),\" \",INDEX('Algemene inl.'!$B$23:$B$68,J182))","v":" "},{"$f":"IF(ISBLANK(B182),\"\",DATEDIF(C182,'Ref.datum & disciplines'!$A$2,\"y\"))","v":""},null,null,null,null,null,{"$f":"IF(ISBLANK(B182),\"\",MATCH(B182,'Algemene inl.'!$A$23:$A$98,0))","v":""}]
[null,null,{"$f":"IF(ISBLANK(B183),\" \",INDEX('Algemene inl.'!$B$23:$B$68,J183))","v":" "},{"$f":"IF(ISBLANK(B183),\"\",DATEDIF(C183,'Ref.datum & disciplines'!$A$2,\"y\"))","v":""},null,null,null,null,null,{"$f":"IF(ISBLANK(B183),\"\",MATCH(B183,'Algemene inl.'!$A$23:$A$98,0))","v":""}]
[null,null,{"$f":"IF(ISBLANK(B184),\" \",INDEX('Algemene inl.'!$B$23:$B$68,J184))","v":" "},{"$f":"IF(ISBLANK(B184),\"\",DATEDIF(C184,'Ref.datum & disciplines'!$A$2,\"y\"))","v":""},null,null,null,null,null,{"$f":"IF(ISBLANK(B184),\"\",MATCH(B184,'Algemene inl.'!$A$23:$A$98,0))","v":""}]
[null,null,{"$f":"IF(ISBLANK(B185),\" \",INDEX('Algemene inl.'!$B$23:$B$68,J185))","v":" "},{"$f":"IF(ISBLANK(B185),\"\",DATEDIF(C185,'Ref.datum & disciplines'!$A$2,\"y\"))","v":""},null,null,null,null,null,{"$f":"IF(ISBLANK(B185),\"\",MATCH(B185,'Algemene inl.'!$A$23:$A$98,0))","v":""}]
[null,null,{"$f":"IF(ISBLANK(B186),\" \",INDEX('Algemene inl.'!$B$23:$B$68,J186))","v":" "},{"$f":"IF(ISBLANK(B186),\"\",DATEDIF(C186,'Ref.datum & disciplines'!$A$2,\"y\"))","v":""},null,null,null,null,null,{"$f":"IF(ISBLANK(B186),\"\",MATCH(B186,'Algemene inl.'!$A$23:$A$98,0))","v":""}]
["Reserve 1",null,{"$f":"IF(ISBLANK(B187),\" \",INDEX('Algemene inl.'!$B$23:$B$68,J187))","v":" "},{"$f":"IF(ISBLANK(B187),\"\",DATEDIF(C187,'Ref.datum & disciplines'!$A$2,\"y\"))","v":""},null,null,null,null,null,{"$f":"IF(ISBLANK(B187),\"\",MATCH(B187,'Algemene inl.'!$A$23:$A$98,0))","v":""}]
["Reserve 2",null,{"$f":"IF(ISBLANK(B188),\" \",INDEX('Algemene inl.'!$B$23:$B$68,J188))","v":" "},{"$f":"IF(ISBLANK(B188),\"\",DATEDIF(C188,'Ref.datum & disciplines'!$A$2,\"y\"))","v":""},null,null,null,null,null,{"$f":"IF(ISBLANK(B188),\"\",MATCH(B188,'Algemene inl.'!$A$23:$A$98,0))","v":""}]
["Reserve 3",null,{"$f":"IF(ISBLANK(B189),\" \",INDEX('Algemene inl.'!$B$23:$B$68,J189))","v":" "},{"$f":"IF(ISBLANK(B189),\"\",DATEDIF(C189,'Ref.datum & disciplines'!$A$2,\"y\"))","v":""},null,null,null,null,null,{"$f":"IF(ISBLANK(B189),\"\",MATCH(B189,'Algemene inl.'!$A$23:$A$98,0))","v":""}]
[null,null,"Gemiddelde leeftijd =",{"$f":"IF(ISBLANK(B147),\" \",AVERAGE(D147:D186))","v":" "},null,null,null,null,null,{"$f":"IF(ISBLANK(B190),\"\",MATCH(B190,'Algemene inl.'!$A$23:$A$98,0))","v":""}]
[null,null,null,null,null,null,null,null,null,{"$f":"IF(ISBLANK(B191),\"\",MATCH(B191,'Algemene inl.'!$A$23:$A$98,0))","v":""}]
["Discipline","Voornaam + achternaam","Geboorte-datum","Leeftijd","Categorie",null,null,null,null,{"$f":"IF(ISBLANK(B192),\"\",MATCH(B192,'Algemene inl.'!$A$23:$A$98,0))","v":{"$error":"#N/A"}}]
[null,null,{"$f":"IF(ISBLANK(B193),\" \",INDEX('Algemene inl.'!$B$23:$B$68,J193))","v":" "},{"$f":"IF(ISBLANK(B193),\"\",DATEDIF(C193,'Ref.datum & disciplines'!$A$2,\"y\"))","v":""},{"$f":"IF(ISBLANK(B193),\" \",VLOOKUP(D236,Tabel3[],2))","v":" "},{"$f":"IF(ISBLANK(B193),\"\",\"X\")","v":""},null,null,null,{"$f":"IF(ISBLANK(B193),\"\",MATCH(B193,'Algemene inl.'!$A$23:$A$98,0))","v":""}]
[null,null,{"$f":"IF(ISBLANK(B194),\" \",INDEX('Algemene inl.'!$B$23:$B$68,J194))","v":" "},{"$f":"IF(ISBLANK(B194),\"\",DATEDIF(C194,'Ref.datum & disciplines'!$A$2,\"y\"))","v":""},null,null,null,null,null,{"$f":"IF(ISBLANK(B194),\"\",MATCH(B194,'Algemene inl.'!$A$23:$A$98,0))","v":""}]
[null,null,{"$f":"IF(ISBLANK(B195),\" \",INDEX('Algemene inl.'!$B$23:$B$68,J195))","v":" "},{"$f":"IF(ISBLANK(B195),\"\",DATEDIF(C195,'Ref.datum & disciplines'!$A$2,\"y\"))","v":""},null,null,null,null,null,{"$f":"IF(ISBLANK(B195),\"\",MATCH(B195,'Algemene inl.'!$A$23:$A$98,0))","v":""}]
[null,null,{"$f":"IF(ISBLANK(B196),\" \",INDEX('Algemene inl.'!$B$23:$B$68,J196))","v":" "},{"$f":"IF(ISBLANK(B196),\"\",DATEDIF(C196,'Ref.datum & disciplines'!$A$2,\"y\"))","v":""},null,null,null,null,null,{"$f":"IF(ISBLANK(B196),\"\",MATCH(B196,'Algemene inl.'!$A$23:$A$98,0))","v":""}]
[null,null,{"$f":"IF(ISBLANK(B197),\" \",INDEX('Algemene inl.'!$B$23:$B$68,J197))","v":" "},{"$f":"IF(ISBLANK(B197),\"\",DATEDIF(C197,'Ref.datum & disciplines'!$A$2,\"y\"))","v":""},null,null,null,null,null,{"$f":"IF(ISBLANK(B197),\"\",MATCH(B197,'Algemene inl.'!$A$23:$A$98,0))","v":""}]
[null,null,{"$f":"IF(ISBLANK(B198),\" \",INDEX('Algemene inl.'!$B$23:$B$68,J198))","v":" "},{"$f":"IF(ISBLANK(B198),\"\",DATEDIF(C198,'Ref.datum & disciplines'!$A$2,\"y\"))","v":""},null,null,null,null,null,{"$f":"IF(ISBLANK(B198),\"\",MATCH(B198,'Algemene inl.'!$A$23:$A$98,0))","v":""}]
[null,null,{"$f":"IF(ISBLANK(B199),\" \",INDEX('Algemene inl.'!$B$23:$B$68,J199))","v":" "},{"$f":"IF(ISBLANK(B199),\"\",DATEDIF(C199,'Ref.datum & disciplines'!$A$2,\"y\"))","v":""},null,null,null,null,null,{"$f":"IF(ISBLANK(B199),\"\",MATCH(B199,'Algemene inl.'!$A$23:$A$98,0))","v":""}]
[null,null,{"$f":"IF(ISBLANK(B200),\" \",INDEX('Algemene inl.'!$B$23:$B$68,J200))","v":" "},{"$f":"IF(ISBLANK(B200),\"\",DATEDIF(C200,'Ref.datum & disciplines'!$A$2,\"y\"))","v":""},null,null,null,null,null,{"$f":"IF(ISBLANK(B200),\"\",MATCH(B200,'Algemene inl.'!$A$23:$A$98,0))","v":""}]
[null,null,{"$f":"IF(ISBLANK(B201),\" \",INDEX('Algemene inl.'!$B$23:$B$68,J201))","v":" "},{"$f":"IF(ISBLANK(B201),\"\",DATEDIF(C201,'Ref.datum & disciplines'!$A$2,\"y\"))","v":""},null,null,null,null,null,{"$f":"IF(ISBLANK(B201),\"\",MATCH(B201,'Algemene inl.'!$A$23:$A$98,0))","v":""}]
[null,null,{"$f":"IF(ISBLANK(B202),\" \",INDEX('Algemene inl.'!$B$23:$B$68,J202))","v":" "},{"$f":"IF(ISBLANK(B202),\"\",DATEDIF(C202,'Ref.datum & disciplines'!$A$2,\"y\"))","v":""},null,null,null,null,null,{"$f":"IF(ISBLANK(B202),\"\",MATCH(B202,'Algemene inl.'!$A$23:$A$98,0))","v":""}]
[null,null,{"$f":"IF(ISBLANK(B203),\" \",INDEX('Algemene inl.'!$B$23:$B$68,J203))","v":" "},{"$f":"IF(ISBLANK(B203),\"\",DATEDIF(C203,'Ref.datum & disciplines'!$A$2,\"y\"))","v":""},null,null,null,null,null,{"$f":"IF(ISBLANK(B203),\"\",MATCH(B203,'Algemene inl.'!$A$23:$A$98,0))","v":""}]
[null,null,{"$f":"IF(ISBLANK(B204),\" \",INDEX('Algemene inl.'!$B$23:$B$68,J204))","v":" "},{"$f":"IF(ISBLANK(B204),\"\",DATEDIF(C204,'Ref.datum & disciplines'!$A$2,\"y\"))","v":""},null,null,null,null,null,{"$f":"IF(ISBLANK(B204),\"\",MATCH(B204,'Algemene inl.'!$A$23:$A$98,0))","v":""}]
[null,null,{"$f":"IF(ISBLANK(B205),\" \",INDEX('Algemene inl.'!$B$23:$B$68,J205))","v":" "},{"$f":"IF(ISBLANK(B205),\"\",DATEDIF(C205,'Ref.datum & disciplines'!$A$2,\"y\"))","v":""},null,null,null,null,null,{"$f":"IF(ISBLANK(B205),\"\",MATCH(B205,'Algemene inl.'!$A$23:$A$98,0))","v":""}]
[null,null,{"$f":"IF(ISBLANK(B206),\" \",INDEX('Algemene inl.'!$B$23:$B$68,J206))","v":" "},{"$f":"IF(ISBLANK(B206),\"\",DATEDIF(C206,'Ref.datum & disciplines'!$A$2,\"y\"))","v":""},null,null,null,null,null,{"$f":"IF(ISBLANK(B206),\"\",MATCH(B206,'Algemene inl.'!$A$23:$A$98,0))","v":""}]
[null,null,{"$f":"IF(ISBLANK(B207),\" \",INDEX('Algemene inl.'!$B$23:$B$68,J207))","v":" "},{"$f":"IF(ISBLANK(B207),\"\",DATEDIF(C207,'Ref.datum & disciplines'!$A$2,\"y\"))","v":""},null,null,null,null,null,{"$f":"IF(ISBLANK(B207),\"\",MATCH(B207,'Algemene inl.'!$A$23:$A$98,0))","v":""}]
[null,null,{"$f":"IF(ISBLANK(B208),\" \",INDEX('Algemene inl.'!$B$23:$B$68,J208))","v":" "},{"$f":"IF(ISBLANK(B208),\"\",DATEDIF(C208,'Ref.datum & disciplines'!$A$2,\"y\"))","v":""},null,null,null,null,null,{"$f":"IF(ISBLANK(B208),\"\",MATCH(B208,'Algemene inl.'!$A$23:$A$98,0))","v":""}]
[null,null,{"$f":"IF(ISBLANK(B209),\" \",INDEX('Algemene inl.'!$B$23:$B$68,J209))","v":" "},{"$f":"IF(ISBLANK(B209),\"\",DATEDIF(C209,'Ref.datum & disciplines'!$A$2,\"y\"))","v":""},null,null,null,null,null,{"$f":"IF(ISBLANK(B209),\"\",MATCH(B209,'Algemene inl.'!$A$23:$A$98,0))","v":""}]
[null,null,{"$f":"IF(ISBLANK(B210),\" \",INDEX('Algemene inl.'!$B$23:$B$68,J210))","v":" "},{"$f":"IF(ISBLANK(B210),\"\",DATEDIF(C210,'Ref.datum & disciplines'!$A$2,\"y\"))","v":""},null,null,null,null,null,{"$f":"IF(ISBLANK(B210),\"\",MATCH(B210,'Algemene inl.'!$A$23:$A$98,0))","v":""}]
[null,null,{"$f":"IF(ISBLANK(B211),\" \",INDEX('Algemene inl.'!$B$23:$B$68,J211))","v":" "},{"$f":"IF(ISBLANK(B211),\"\",DATEDIF(C211,'Ref.datum & disciplines'!$A$2,\"y\"))","v":""},null,null,null,null,null,{"$f":"IF(ISBLANK(B211),\"\",MATCH(B211,'Algemene inl.'!$A$23:$A$98,0))","v":""}]
[null,null,{"$f":"IF(ISBLANK(B212),\" \",INDEX('Algemene inl.'!$B$23:$B$68,J212))","v":" "},{"$f":"IF(ISBLANK(B212),\"\",DATEDIF(C212,'Ref.datum & disciplines'!$A$2,\"y\"))","v":""},null,null,null,null,null,{"$f":"IF(ISBLANK(B212),\"\",MATCH(B212,'Algemene inl.'!$A$23:$A$98,0))","v":""}]
[null,null,{"$f":"IF(ISBLANK(B213),\" \",INDEX('Algemene inl.'!$B$23:$B$68,J213))","v":" "},{"$f":"IF(ISBLANK(B213),\"\",DATEDIF(C213,'Ref.datum & disciplines'!$A$2,\"y\"))","v":""},null,null,null,null,null,{"$f":"IF(ISBLANK(B213),\"\",MATCH(B213,'Algemene inl.'!$A$23:$A$98,0))","v":""}]
[null,null,{"$f":"IF(ISBLANK(B214),\" \",INDEX('Algemene inl.'!$B$23:$B$68,J214))","v":" "},{"$f":"IF(ISBLANK(B214),\"\",DATEDIF(C214,'Ref.datum & disciplines'!$A$2,\"y\"))","v":""},null,null,null,null,null,{"$f":"IF(ISBLANK(B214),\"\",MATCH(B214,'Algemene inl.'!$A$23:$A$98,0))","v":""}]
[null,null,{"$f":"IF(ISBLANK(B215),\" \",INDEX('Algemene inl.'!$B$23:$B$68,J215))","v":" "},{"$f":"IF(ISBLANK(B215),\"\",DATEDIF(C215,'Ref.datum & disciplines'!$A$2,\"y\"))","v":""},null,null,null,null,null,{"$f":"IF(ISBLANK(B215),\"\",MATCH(B215,'Algemene inl.'!$A$23:$A$98,0))","v":""}]
[null,null,{"$f":"IF(ISBLANK(B216),\" \",INDEX('Algemene inl.'!$B$23:$B$68,J216))","v":" "},{"$f":"IF(ISBLANK(B216),\"\",DATEDIF(C216,'Ref.datum & disciplines'!$A$2,\"y\"))","v":""},null,null,null,null,null,{"$f":"IF(ISBLANK(B216),\"\",MATCH(B216,'Algemene inl.'!$A$23:$A$98,0))","v":""}]
[null,null,{"$f":"IF(ISBLANK(B217),\" \",INDEX('Algemene inl.'!$B$23:$B$68,J217))","v":" "},{"$f":"IF(ISBLANK(B217),\"\",DATEDIF(C217,'Ref.datum & disciplines'!$A$2,\"y\"))","v":""},null,null,null,null,null,{"$f":"IF(ISBLANK(B217),\"\",MATCH(B217,'Algemene inl.'!$A$23:$A$98,0))","v":""}]
[null,null,{"$f":"IF(ISBLANK(B218),\" \",INDEX('Algemene inl.'!$B$23:$B$68,J218))","v":" "},{"$f":"IF(ISBLANK(B218),\"\",DATEDIF(C218,'Ref.datum & disciplines'!$A$2,\"y\"))","v":""},null,null,null,null,null,{"$f":"IF(ISBLANK(B218),\"\",MATCH(B218,'Algemene inl.'!$A$23:$A$98,0))","v":""}]
[null,null,{"$f":"IF(ISBLANK(B219),\" \",INDEX('Algemene inl.'!$B$23:$B$68,J219))","v":" "},{"$f":"IF(ISBLANK(B219),\"\",DATEDIF(C219,'Ref.datum & disciplines'!$A$2,\"y\"))","v":""},null,null,null,null,null,{"$f":"IF(ISBLANK(B219),\"\",MATCH(B219,'Algemene inl.'!$A$23:$A$98,0))","v":""}]
[null,null,{"$f":"IF(ISBLANK(B220),\" \",INDEX('Algemene inl.'!$B$23:$B$68,J220))","v":" "},{"$f":"IF(ISBLANK(B220),\"\",DATEDIF(C220,'Ref.datum & disciplines'!$A$2,\"y\"))","v":""},null,null,null,null,null,{"$f":"IF(ISBLANK(B220),\"\",MATCH(B220,'Algemene inl.'!$A$23:$A$98,0))","v":""}]
[null,null,{"$f":"IF(ISBLANK(B221),\" \",INDEX('Algemene inl.'!$B$23:$B$68,J221))","v":" "},{"$f":"IF(ISBLANK(B221),\"\",DATEDIF(C221,'Ref.datum & disciplines'!$A$2,\"y\"))","v":""},null,null,null,null,null,{"$f":"IF(ISBLANK(B221),\"\",MATCH(B221,'Algemene inl.'!$A$23:$A$98,0))","v":""}]
[null,null,{"$f":"IF(ISBLANK(B222),\" \",INDEX('Algemene inl.'!$B$23:$B$68,J222))","v":" "},{"$f":"IF(ISBLANK(B222),\"\",DATEDIF(C222,'Ref.datum & disciplines'!$A$2,\"y\"))","v":""},null,null,null,null,null,{"$f":"IF(ISBLANK(B222),\"\",MATCH(B222,'Algemene inl.'!$A$23:$A$98,0))","v":""}]
[null,null,{"$f":"IF(ISBLANK(B223),\" \",INDEX('Algemene inl.'!$B$23:$B$68,J223))","v":" "},{"$f":"IF(ISBLANK(B223),\"\",DATEDIF(C223,'Ref.datum & disciplines'!$A$2,\"y\"))","v":""},null,null,null,null,null,{"$f":"IF(ISBLANK(B223),\"\",MATCH(B223,'Algemene inl.'!$A$23:$A$98,0))","v":""}]
[null,null,{"$f":"IF(ISBLANK(B224),\" \",INDEX('Algemene inl.'!$B$23:$B$68,J224))","v":" "},{"$f":"IF(ISBLANK(B224),\"\",DATEDIF(C224,'Ref.datum & disciplines'!$A$2,\"y\"))","v":""},null,null,null,null,null,{"$f":"IF(ISBLANK(B224),\"\",MATCH(B224,'Algemene inl.'!$A$23:$A$98,0))","v":""}]
[null,null,{"$f":"IF(ISBLANK(B225),\" \",INDEX('Algemene inl.'!$B$23:$B$68,J225))","v":" "},{"$f":"IF(ISBLANK(B225),\"\",DATEDIF(C225,'Ref.datum & disciplines'!$A$2,\"y\"))","v":""},null,null,null,null,null,{"$f":"IF(ISBLANK(B225),\"\",MATCH(B225,'Algemene inl.'!$A$23:$A$98,0))","v":""}]
[null,null,{"$f":"IF(ISBLANK(B226),\" \",INDEX('Algemene inl.'!$B$23:$B$68,J226))","v":" "},{"$f":"IF(ISBLANK(B226),\"\",DATEDIF(C226,'Ref.datum & disciplines'!$A$2,\"y\"))","v":""},null,null,null,null,null,{"$f":"IF(ISBLANK(B226),\"\",MATCH(B226,'Algemene inl.'!$A$23:$A$98,0))","v":""}]
[null,null,{"$f":"IF(ISBLANK(B227),\" \",INDEX('Algemene inl.'!$B$23:$B$68,J227))","v":" "},{"$f":"IF(ISBLANK(B227),\"\",DATEDIF(C227,'Ref.datum & disciplines'!$A$2,\"y\"))","v":""},null,null,null,null,null,{"$f":"IF(ISBLANK(B227),\"\",MATCH(B227,'Algemene inl.'!$A$23:$A$98,0))","v":""}]
[null,null,{"$f":"IF(ISBLANK(B228),\" \",INDEX('Algemene inl.'!$B$23:$B$68,J228))","v":" "},{"$f":"IF(ISBLANK(B228),\"\",DATEDIF(C228,'Ref.datum & disciplines'!$A$2,\"y\"))","v":""},null,null,null,null,null,{"$f":"IF(ISBLANK(B228),\"\",MATCH(B228,'Algemene inl.'!$A$23:$A$98,0))","v":""}]
[null,null,{"$f":"IF(ISBLANK(B229),\" \",INDEX('Algemene inl.'!$B$23:$B$68,J229))","v":" "},{"$f":"IF(ISBLANK(B229),\"\",DATEDIF(C229,'Ref.datum & disciplines'!$A$2,\"y\"))","v":""},null,null,null,null,null,{"$f":"IF(ISBLANK(B229),\"\",MATCH(B229,'Algemene inl.'!$A$23:$A$98,0))","v":""}]
[null,null,{"$f":"IF(ISBLANK(B230),\" \",INDEX('Algemene inl.'!$B$23:$B$68,J230))","v":" "},{"$f":"IF(ISBLANK(B230),\"\",DATEDIF(C230,'Ref.datum & disciplines'!$A$2,\"y\"))","v":""},null,null,null,null,null,{"$f":"IF(ISBLANK(B230),\"\",MATCH(B230,'Algemene inl.'!$A$23:$A$98,0))","v":""}]
[null,null,{"$f":"IF(ISBLANK(B231),\" \",INDEX('Algemene inl.'!$B$23:$B$68,J231))","v":" "},{"$f":"IF(ISBLANK(B231),\"\",DATEDIF(C231,'Ref.datum & disciplines'!$A$2,\"y\"))","v":""},null,null,null,null,null,{"$f":"IF(ISBLANK(B231),\"\",MATCH(B231,'Algemene inl.'!$A$23:$A$98,0))","v":""}]
[null,null,{"$f":"IF(ISBLANK(B232),\" \",INDEX('Algemene inl.'!$B$23:$B$68,J232))","v":" "},{"$f":"IF(ISBLANK(B232),\"\",DATEDIF(C232,'Ref.datum & disciplines'!$A$2,\"y\"))","v":""},null,null,null,null,null,{"$f":"IF(ISBLANK(B232),\"\",MATCH(B232,'Algemene inl.'!$A$23:$A$98,0))","v":""}]
["Reserve 1",null,{"$f":"IF(ISBLANK(B233),\" \",INDEX('Algemene inl.'!$B$23:$B$68,J233))","v":" "},{"$f":"IF(ISBLANK(B233),\"\",DATEDIF(C233,'Ref.datum & disciplines'!$A$2,\"y\"))","v":""},null,null,null,null,null,{"$f":"IF(ISBLANK(B233),\"\",MATCH(B233,'Algemene inl.'!$A$23:$A$98,0))","v":""}]
["Reserve 2",null,{"$f":"IF(ISBLANK(B234),\" \",INDEX('Algemene inl.'!$B$23:$B$68,J234))","v":" "},{"$f":"IF(ISBLANK(B234),\"\",DATEDIF(C234,'Ref.datum & disciplines'!$A$2,\"y\"))","v":""},null,null,null,null,null,{"$f":"IF(ISBLANK(B234),\"\",MATCH(B234,'Algemene inl.'!$A$23:$A$98,0))","v":""}]
["Reserve 3",null,{"$f":"IF(ISBLANK(B235),\" \",INDEX('Algemene inl.'!$B$23:$B$68,J235))","v":" "},{"$f":"IF(ISBLANK(B235),\"\",DATEDIF(C235,'Ref.datum & disciplines'!$A$2,\"y\"))","v":""},null,null,null,null,null,{"$f":"IF(ISBLANK(B235),\"\",MATCH(B235,'Algemene inl.'!$A$23:$A$98,0))","v":""}]
[null,null,"Gemiddelde leeftijd =",{"$f":"IF(ISBLANK(B193),\" \",AVERAGE(D193:D232))","v":" "},null,null,null,null,null,{"$f":"IF(ISBLANK(B236),\"\",MATCH(B236,'Algemene inl.'!$A$23:$A$98,0))","v":""}]
[null,null,null,null,null,null,null,null,null,{"$f":"IF(ISBLANK(B237),\"\",MATCH(B237,'Algemene inl.'!$A$23:$A$98,0))","v":""}]
[null,null,null,null,null,null,null,null,null,{"$f":"IF(ISBLANK(B238),\"\",MATCH(B238,'Algemene inl.'!$A$23:$A$98,0))","v":""}]
[null,null,null,null,null,null,null,null,null,{"$f":"IF(ISBLANK(B239),\"\",MATCH(B239,'Algemene inl.'!$A$23:$A$98,0))","v":""}]
[null,null,null,null,null,null,null,null,null,{"$f":"IF(ISBLANK(B240),\"\",MATCH(B240,'Algemene inl.'!$A$23:$A$98,0))","v":""}]
[null,null,null,null,null,null,null,null,null,{"$f":"IF(ISBLANK(B241),\"\",MATCH(B241,'Algemene inl.'!$A$23:$A$98,0))","v":""}]
[null,null,null,null,null,null,null,null,null,{"$f":"IF(ISBLANK(B242),\"\",MATCH(B242,'Algemene inl.'!$A$23:$A$98,0))","v":""}]
[null,null,null,null,null,null,null,null,null,{"$f":"IF(ISBLANK(B243),\"\",MATCH(B243,'Algemene inl.'!$A$23:$A$98,0))","v":""}]
[null,null,null,null,null,null,null,null,null,{"$f":"IF(ISBLANK(B244),\"\",MATCH(B244,'Algemene inl.'!$A$23:$A$98,0))","v":""}]
[null,null,null,null,null,null,null,null,null,{"$f":"IF(ISBLANK(B245),\"\",MATCH(B245,'Algemene inl.'!$A$23:$A$98,0))","v":""}]
[null,null,null,null,null,null,null,null,null,{"$f":"IF(ISBLANK(B246),\"\",MATCH(B246,'Algemene inl.'!$A$23:$A$98,0))","v":""}]
[null,null,null,null,null,null,null,null,null,{"$f":"IF(ISBLANK(B247),\"\",MATCH(B247,'Algemene inl.'!$A$23:$A$98,0))","v":""}]
[null,null,null,null,null,null,null,null,null,{"$f":"IF(ISBLANK(B248),\"\",MATCH(B248,'Algemene inl.'!$A$23:$A$98,0))","v":""}]
[null,null,null,null,null,null,null,null,null,{"$f":"IF(ISBLANK(B249),\"\",MATCH(B249,'Algemene inl.'!$A$23:$A$98,0))","v":""}]
[null,null,null,null,null,null,null,null,null,{"$f":"IF(ISBLANK(B250),\"\",MATCH(B250,'Algemene inl.'!$A$23:$A$98,0))","v":""}]
[null,null,null,null,null,null,null,null,null,{"$f":"IF(ISBLANK(B251),\"\",MATCH(B251,'Algemene inl.'!$A$23:$A$98,0))","v":""}]
[null,null,null,null,null,null,null,null,null,{"$f":"IF(ISBLANK(B252),\"\",MATCH(B252,'Algemene inl.'!$A$23:$A$98,0))","v":""}]
[null,null,null,null,null,null,null,null,null,{"$f":"IF(ISBLANK(B253),\"\",MATCH(B253,'Algemene inl.'!$A$23:$A$98,0))","v":""}]
[null,null,null,null,null,null,null,null,null,{"$f":"IF(ISBLANK(B254),\"\",MATCH(B254,'Algemene inl.'!$A$23:$A$98,0))","v":""}]
[null,null,null,null,null,null,null,null,null,{"$f":"IF(ISBLANK(B255),\"\",MATCH(B255,'Algemene inl.'!$A$23:$A$98,0))","v":""}]
[null,null,null,null,null,null,null,null,null,{"$f":"IF(ISBLANK(B256),\"\",MATCH(B256,'Algemene inl.'!$A$23:$A$98,0))","v":""}]
[null,null,null,null,null,null,null,null,null,{"$f":"IF(ISBLANK(B257),\"\",MATCH(B257,'Algemene inl.'!$A$23:$A$98,0))","v":""}]
[null,null,null,null,null,null,null,null,null,{"$f":"IF(ISBLANK(B258),\"\",MATCH(B258,'Algemene inl.'!$A$23:$A$98,0))","v":""}]
[null,null,null,null,null,null,null,null,null,{"$f":"IF(ISBLANK(B259),\"\",MATCH(B259,'Algemene inl.'!$A$23:$A$98,0))","v":""}]
[null,null,null,null,null,null,null,null,null,{"$f":"IF(ISBLANK(B260),\"\",MATCH(B260,'Algemene inl.'!$A$23:$A$98,0))","v":""}]
[null,null,null,null,null,null,null,null,null,{"$f":"IF(ISBLANK(B261),\"\",MATCH(B261,'Algemene inl.'!$A$23:$A$98,0))","v":""}]
[null,null,null,null,null,null,null,null,null,{"$f":"IF(ISBLANK(B262),\"\",MATCH(B262,'Algemene inl.'!$A$23:$A$98,0))","v":""}]
[null,null,null,null,null,null,null,null,null,{"$f":"IF(ISBLANK(B263),\"\",MATCH(B263,'Algemene inl.'!$A$23:$A$98,0))","v":""}]
[null,null,null,null,null,null,null,null,null,{"$f":"IF(ISBLANK(B264),\"\",MATCH(B264,'Algemene inl.'!$A$23:$A$98,0))","v":""}]
[null,null,null,null,null,null,null,null,null,{"$f":"IF(ISBLANK(B265),\"\",MATCH(B265,'Algemene inl.'!$A$23:$A$98,0))","v":""}]
[null,null,null,null,null,null,null,null,null,{"$f":"IF(ISBLANK(B266),\"\",MATCH(B266,'Algemene inl.'!$A$23:$A$98,0))","v":""}]
[null,null,null,null,null,null,null,null,null,{"$f":"IF(ISBLANK(B267),\"\",MATCH(B267,'Algemene inl.'!$A$23:$A$98,0))","v":""}]
[null,null,null,null,null,null,null,null,null,{"$f":"IF(ISBLANK(B268),\"\",MATCH(B268,'Algemene inl.'!$A$23:$A$98,0))","v":""}]
[null,null,null,null,null,null,null,null,null,{"$f":"IF(ISBLANK(B269),\"\",MATCH(B269,'Algemene inl.'!$A$23:$A$98,0))","v":""}]
[null,null,null,null,null,null,null,null,null,{"$f":"IF(ISBLANK(B270),\"\",MATCH(B270,'Algemene inl.'!$A$23:$A$98,0))","v":""}]
[null,null,null,null,null,null,null,null,null,{"$f":"IF(ISBLANK(B271),\"\",MATCH(B271,'Algemene inl.'!$A$23:$A$98,0))","v":""}]
[null,null,null,null,null,null,null,null,null,{"$f":"IF(ISBLANK(B272),\"\",MATCH(B272,'Algemene inl.'!$A$23:$A$98,0))","v":""}]
[null,null,null,null,null,null,null,null,null,{"$f":"IF(ISBLANK(B273),\"\",MATCH(B273,'Algemene inl.'!$A$23:$A$98,0))","v":""}]
[null,null,null,null,null,null,null,null,null,{"$f":"IF(ISBLANK(B274),\"\",MATCH(B274,'Algemene inl.'!$A$23:$A$98,0))","v":""}]
[null,null,null,null,null,null,null,null,null,{"$f":"IF(ISBLANK(B275),\"\",MATCH(B275,'Algemene inl.'!$A$23:$A$98,0))","v":""}]
[null,null,null,null,null,null,null,null,null,{"$f":"IF(ISBLANK(B276),\"\",MATCH(B276,'Algemene inl.'!$A$23:$A$98,0))","v":""}]
[null,null,null,null,null,null,null,null,null,{"$f":"IF(ISBLANK(B277),\"\",MATCH(B277,'Algemene inl.'!$A$23:$A$98,0))","v":""}]
[null,null,null,null,null,null,null,null,null,{"$f":"IF(ISBLANK(B278),\"\",MATCH(B278,'Algemene inl.'!$A$23:$A$98,0))","v":""}]
[null,null,null,null,null,null,null,null,null,{"$f":"IF(ISBLANK(B279),\"\",MATCH(B279,'Algemene inl.'!$A$23:$A$98,0))","v":""}]
[null,null,null,null,null,null,null,null,null,{"$f":"IF(ISBLANK(B280),\"\",MATCH(B280,'Algemene inl.'!$A$23:$A$98,0))","v":""}]
[null,null,null,null,null,null,null,null,null,{"$f":"IF(ISBLANK(B281),\"\",MATCH(B281,'Algemene inl.'!$A$23:$A$98,0))","v":""}]
[null,null,null,null,null,null,null,null,null,{"$f":"IF(ISBLANK(B282),\"\",MATCH(B282,'Algemene inl.'!$A$23:$A$98,0))","v":""}]
[null,null,null,null,null,null,null,null,null,{"$f":"IF(ISBLANK(B283),\"\",MATCH(B283,'Algemene inl.'!$A$23:$A$98,0))","v":""}]
[null,null,null,null,null,null,null,null,null,{"$f":"IF(ISBLANK(B284),\"\",MATCH(B284,'Algemene inl.'!$A$23:$A$98,0))","v":""}]
[null,null,null,null,null,null,null,null,null,{"$f":"IF(ISBLANK(B285),\"\",MATCH(B285,'Algemene inl.'!$A$23:$A$98,0))","v":""}]
[null,null,null,null,null,null,null,null,null,{"$f":"IF(ISBLANK(B286),\"\",MATCH(B286,'Algemene inl.'!$A$23:$A$98,0))","v":""}]
[null,null,null,null,null,null,null,null,null,{"$f":"IF(ISBLANK(B287),\"\",MATCH(B287,'Algemene inl.'!$A$23:$A$98,0))","v":""}]
[null,null,null,null,null,null,null,null,null,{"$f":"IF(ISBLANK(B288),\"\",MATCH(B288,'Algemene inl.'!$A$23:$A$98,0))","v":""}]
[null,null,null,null,null,null,null,null,null,{"$f":"IF(ISBLANK(B289),\"\",MATCH(B289,'Algemene inl.'!$A$23:$A$98,0))","v":""}]
[null,null,null,null,null,null,null,null,null,{"$f":"IF(ISBLANK(B290),\"\",MATCH(B290,'Algemene inl.'!$A$23:$A$98,0))","v":""}]
[null,null,null,null,null,null,null,null,null,{"$f":"IF(ISBLANK(B291),\"\",MATCH(B291,'Algemene inl.'!$A$23:$A$98,0))","v":""}]
[null,null,null,null,null,null,null,null,null,{"$f":"IF(ISBLANK(B292),\"\",MATCH(B292,'Algemene inl.'!$A$23:$A$98,0))","v":""}]
[null,null,null,null,null,null,null,null,null,{"$f":"IF(ISBLANK(B293),\"\",MATCH(B293,'Algemene inl.'!$A$23:$A$98,0))","v":""}]
[null,null,null,null,null,null,null,null,null,{"$f":"IF(ISBLANK(B294),\"\",MATCH(B294,'Algemene inl.'!$A$23:$A$98,0))","v":""}]
[null,null,null,null,null,null,null,null,null,{"$f":"IF(ISBLANK(B295),\"\",MATCH(B295,'Algemene inl.'!$A$23:$A$98,0))","v":""}]
[null,null,null,null,null,null,null,null,null,{"$f":"IF(ISBLANK(B296),\"\",MATCH(B296,'Algemene inl.'!$A$23:$A$98,0))","v":""}]
[null,null,null,null,null,null,null,null,null,{"$f":"IF(ISBLANK(B297),\"\",MATCH(B297,'Algemene inl.'!$A$23:$A$98,0))","v":""}]
[null,null,null,null,null,null,null,null,null,{"$f":"IF(ISBLANK(B298),\"\",MATCH(B298,'Algemene inl.'!$A$23:$A$98,0))","v":""}]
[null,null,null,null,null,null,null,null,null,{"$f":"IF(ISBLANK(B299),\"\",MATCH(B299,'Algemene inl.'!$A$23:$A$98,0))","v":""}]
[null,null,null,null,null,null,null,null,null,{"$f":"IF(ISBLANK(B300),\"\",MATCH(B300,'Algemene inl.'!$A$23:$A$98,0))","v":""}]
[null,null,null,null,null,null,null,null,null,{"$f":"IF(ISBLANK(B301),\"\",MATCH(B301,'Algemene inl.'!$A$23:$A$98,0))","v":""}]
[null,null,null,null,null,null,null,null,null,{"$f":"IF(ISBLANK(B302),\"\",MATCH(B302,'Algemene inl.'!$A$23:$A$98,0))","v":""}]
[null,null,null,null,null,null,null,null,null,{"$f":"IF(ISBLANK(B303),\"\",MATCH(B303,'Algemene inl.'!$A$23:$A$98,0))","v":""}]
[null,null,null,null,null,null,null,null,null,{"$f":"IF(ISBLANK(B304),\"\",MATCH(B304,'Algemene inl.'!$A$23:$A$98,0))","v":""}]
[null,null,null,null,null,null,null,null,null,{"$f":"IF(ISBLANK(B305),\"\",MATCH(B305,'Algemene inl.'!$A$23:$A$98,0))","v":""}]
[null,null,null,null,null,null,null,null,null,{"$f":"IF(ISBLANK(B306),\"\",MATCH(B306,'Algemene inl.'!$A$23:$A$98,0))","v":""}]
[null,null,null,null,null,null,null,null,null,{"$f":"IF(ISBLANK(B307),\"\",MATCH(B307,'Algemene inl.'!$A$23:$A$98,0))","v":""}]
[null,null,null,null,null,null,null,null,null,{"$f":"IF(ISBLANK(B308),\"\",MATCH(B308,'Algemene inl.'!$A$23:$A$98,0))","v":""}]
[null,null,null,null,null,null,null,null,null,{"$f":"IF(ISBLANK(B309),\"\",MATCH(B309,'Algemene inl.'!$A$23:$A$98,0))","v":""}]
[null,null,null,null,null,null,null,null,null,{"$f":"IF(ISBLANK(B310),\"\",MATCH(B310,'Algemene inl.'!$A$23:$A$98,0))","v":""}]
[null,null,null,null,null,null,null,null,null,{"$f":"IF(ISBLANK(B311),\"\",MATCH(B311,'Algemene inl.'!$A$23:$A$98,0))","v":""}]
[null,null,null,null,null,null,null,null,null,{"$f":"IF(ISBLANK(B312),\"\",MATCH(B312,'Algemene inl.'!$A$23:$A$98,0))","v":""}]
[null,null,null,null,null,null,null,null,null,{"$f":"IF(ISBLANK(B313),\"\",MATCH(B313,'Algemene inl.'!$A$23:$A$98,0))","v":""}]
[null,null,null,null,null,null,null,null,null,{"$f":"IF(ISBLANK(B314),\"\",MATCH(B314,'Algemene inl.'!$A$23:$A$98,0))","v":""}]
[null,null,null,null,null,null,null,null,null,{"$f":"IF(ISBLANK(B315),\"\",MATCH(B315,'Algemene inl.'!$A$23:$A$98,0))","v":""}]

{"sheet":"G-line","index":8,"n_rows":288,"n_cols":10,"rows_kept":288,"cut":false,"hidden":false,"merged":[[31,0,39,0],[31,4,41,4],[46,0,54,0],[46,4,56,4],[61,0,75,0],[61,4,78,4],[17,0,18,0],[19,0,20,0],[21,0,22,0],[23,0,24,0],[25,0,26,0],[17,4,18,4],[19,4,20,4],[21,4,22,4],[23,4,24,4],[25,4,26,4]]}
[null,null,null,null,{"$f":"'Algemene inl.'!A6","v":"Inschrijvingsformulier "}]
[null,null,null,null,{"$f":"'Algemene inl.'!G7","v":"Duid hier de wedstrijd aan"}]
[null,null,null,null,{"$f":"'Algemene inl.'!A9","v":0}]
[]
[null,null,null,null,null,null,null,null,null,"nodig om geboortedatum op te halen!!!"]
["SOLO G-LINE",null,null,null,{"$f":"IF(ISBLANK('Algemene inl.'!$B$13),\"\",'Algemene inl.'!$B$13)","v":""},null,null,null,null,{"$f":"IF(ISBLANK(B6),\"\",MATCH(B6,'Algemene inl.'!$A$23:$A$57,0))","v":""}]
[null,null,null,null,null,null,null,null,null,{"$f":"IF(ISBLANK(B7),\"\",MATCH(B7,'Algemene inl.'!$A$23:$A$57,0))","v":""}]
["Discipline","Voornaam + achternaam","Geboorte-datum","Leeftijd","Categorie",null,null,null,null,{"$f":"IF(ISBLANK(B8),\"\",MATCH(B8,'Algemene inl.'!$A$23:$A$98,0))","v":{"$error":"#N/A"}}]
[null,null,{"$f":"IF(ISBLANK(B9),\" \",INDEX('Algemene inl.'!$B$23:$B$98,J9))","v":" "},{"$f":"IF(ISBLANK(B9),\"\",DATEDIF(C9,'Ref.datum & disciplines'!$A$2,\"y\"))","v":""},"geen",{"$f":"IF(ISBLANK(B9),\"\",\"X\")","v":""},null,null,null,{"$f":"IF(ISBLANK(B9),\"\",MATCH(B9,'Algemene inl.'!$A$23:$A$98,0))","v":""}]
[null,null,{"$f":"IF(ISBLANK(B10),\" \",INDEX('Algemene inl.'!$B$23:$B$98,J10))","v":" "},{"$f":"IF(ISBLANK(B10),\"\",DATEDIF(C10,'Ref.datum & disciplines'!$A$2,\"y\"))","v":""},"geen",{"$f":"IF(ISBLANK(B10),\"\",\"X\")","v":""},null,null,null,{"$f":"IF(ISBLANK(B10),\"\",MATCH(B10,'Algemene inl.'!$A$23:$A$98,0))","v":""}]
[null,null,{"$f":"IF(ISBLANK(B11),\" \",INDEX('Algemene inl.'!$B$23:$B$98,J11))","v":" "},{"$f":"IF(ISBLANK(B11),\"\",DATEDIF(C11,'Ref.datum & disciplines'!$A$2,\"y\"))","v":""},"geen",{"$f":"IF(ISBLANK(B11),\"\",\"X\")","v":""},null,null,null,{"$f":"IF(ISBLANK(B11),\"\",MATCH(B11,'Algemene inl.'!$A$23:$A$98,0))","v":""}]
[null,null,{"$f":"IF(ISBLANK(B12),\" \",INDEX('Algemene inl.'!$B$23:$B$98,J12))","v":" "},{"$f":"IF(ISBLANK(B12),\"\",DATEDIF(C12,'Ref.datum & disciplines'!$A$2,\"y\"))","v":""},"geen",{"$f":"IF(ISBLANK(B12),\"\",\"X\")","v":""},null,null,null,{"$f":"IF(ISBLANK(B12),\"\",MATCH(B12,'Algemene inl.'!$A$23:$A$98,0))","v":""}]
[null,null,{"$f":"IF(ISBLANK(B13),\" \",INDEX('Algemene inl.'!$B$23:$B$98,J13))","v":" "},{"$f":"IF(ISBLANK(B13),\"\",DATEDIF(C13,'Ref.datum & disciplines'!$A$2,\"y\"))","v":""},"geen",{"$f":"IF(ISBLANK(B13),\"\",\"X\")","v":""},null,null,null,{"$f":"IF(ISBLANK(B13),\"\",MATCH(B13,'Algemene inl.'!$A$23:$A$98,0))","v":""}]
[null,null,null,null,null,null,null,null,null,{"$f":"IF(ISBLANK(B14),\"\",MATCH(B14,'Algemene inl.'!$A$23:$A$98,0))","v":""}]
["DUO G-LINE",null,null,null,{"$f":"IF(ISBLANK('Algemene inl.'!$B$13),\"\",'Algemene inl.'!$B$13)","v":""},null,null,null,null,{"$f":"IF(ISBLANK(B15),\"\",MATCH(B15,'Algemene inl.'!$A$23:$A$98,0))","v":""}]
[null,null,null,null,null,null,null,null,null,{"$f":"IF(ISBLANK(B16),\"\",MATCH(B16,'Algemene inl.'!$A$23:$A$98,0))","v":""}]
["Discipline","Voornaam + achternaam","Geboorte-datum","Leeftijd","Categorie",null,null,null,null,{"$f":"IF(ISBLANK(B17),\"\",MATCH(B17,'Algemene inl.'!$A$23:$A$98,0))","v":{"$error":"#N/A"}}]
[null,null,{"$f":"IF(ISBLANK(B18),\" \",INDEX('Algemene inl.'!$B$23:$B$98,J18))","v":" "},{"$f":"IF(ISBLANK(B18),\"\",DATEDIF(C18,'Ref.datum & disciplines'!$A$2,\"y\"))","v":""},"geen",{"$f":"IF(ISBLANK(B18),\"\",\"X\")","v":""},null,null,null,{"$f":"IF(ISBLANK(B18),\"\",MATCH(B18,'Algemene inl.'!$A$23:$A$98,0))","v":""}]
[null,null,{"$f":"IF(ISBLANK(B19),\" \",INDEX('Algemene inl.'!$B$23:$B$98,J19))","v":" "},{"$f":"IF(ISBLANK(B19),\"\",DATEDIF(C19,'Ref.datum & disciplines'!$A$2,\"y\"))","v":""},null,null,null,null,null,{"$f":"IF(ISBLANK(B19),\"\",MATCH(B19,'Algemene inl.'!$A$23:$A$98,0))","v":""}]
[null,null,{"$f":"IF(ISBLANK(B20),\" \",INDEX('Algemene inl.'!$B$23:$B$98,J20))","v":" "},{"$f":"IF(ISBLANK(B20),\"\",DATEDIF(C20,'Ref.datum & disciplines'!$A$2,\"y\"))","v":""},"geen",{"$f":"IF(ISBLANK(B20),\"\",\"X\")","v":""},null,null,null,{"$f":"IF(ISBLANK(B20),\"\",MATCH(B20,'Algemene inl.'!$A$23:$A$98,0))","v":""}]
[null,null,{"$f":"IF(ISBLANK(B21),\" \",INDEX('Algemene inl.'!$B$23:$B$98,J21))","v":" "},{"$f":"IF(ISBLANK(B21),\"\",DATEDIF(C21,'Ref.datum & disciplines'!$A$2,\"y\"))","v":""},null,null,null,null,null,{"$f":"IF(ISBLANK(B21),\"\",MATCH(B21,'Algemene inl.'!$A$23:$A$98,0))","v":""}]
[null,null,{"$f":"IF(ISBLANK(B22),\" \",INDEX('Algemene inl.'!$B$23:$B$98,J22))","v":" "},{"$f":"IF(ISBLANK(B22),\"\",DATEDIF(C22,'Ref.datum & disciplines'!$A$2,\"y\"))","v":""},"geen",{"$f":"IF(ISBLANK(B22),\"\",\"X\")","v":""},null,null,null,{"$f":"IF(ISBLANK(B22),\"\",MATCH(B22,'Algemene inl.'!$A$23:$A$98,0))","v":""}]
[null,null,{"$f":"IF(ISBLANK(B23),\" \",INDEX('Algemene inl.'!$B$23:$B$98,J23))","v":" "},{"$f":"IF(ISBLANK(B23),\"\",DATEDIF(C23,'Ref.datum & disciplines'!$A$2,\"y\"))","v":""},null,null,null,null,null,{"$f":"IF(ISBLANK(B23),\"\",MATCH(B23,'Algemene inl.'!$A$23:$A$98,0))","v":""}]
[null,null,{"$f":"IF(ISBLANK(B24),\" \",INDEX('Algemene inl.'!$B$23:$B$98,J24))","v":" "},{"$f":"IF(ISBLANK(B24),\"\",DATEDIF(C24,'Ref.datum & disciplines'!$A$2,\"y\"))","v":""},"geen",{"$f":"IF(ISBLANK(B24),\"\",\"X\")","v":""},null,null,null,{"$f":"IF(ISBLANK(B24),\"\",MATCH(B24,'Algemene inl.'!$A$23:$A$98,0))","v":""}]
[null,null,{"$f":"IF(ISBLANK(B25),\" \",INDEX('Algemene inl.'!$B$23:$B$98,J25))","v":" "},{"$f":"IF(ISBLANK(B25),\"\",DATEDIF(C25,'Ref.datum & disciplines'!$A$2,\"y\"))","v":""},null,null,null,null,null,{"$f":"IF(ISBLANK(B25),\"\",MATCH(B25,'Algemene inl.'!$A$23:$A$98,0))","v":""}]
[null,null,{"$f":"IF(ISBLANK(B26),\" \",INDEX('Algemene inl.'!$B$23:$B$98,J26))","v":" "},{"$f":"IF(ISBLANK(B26),\"\",DATEDIF(C26,'Ref.datum & disciplines'!$A$2,\"y\"))","v":""},"geen",{"$f":"IF(ISBLANK(B26),\"\",\"X\")","v":""},null,null,null,{"$f":"IF(ISBLANK(B26),\"\",MATCH(B26,'Algemene inl.'!$A$23:$A$98,0))","v":""}]
[null,null,{"$f":"IF(ISBLANK(B27),\" \",INDEX('Algemene inl.'!$B$23:$B$98,J27))","v":" "},{"$f":"IF(ISBLANK(B27),\"\",DATEDIF(C27,'Ref.datum & disciplines'!$A$2,\"y\"))","v":""},null,null,null,null,null,{"$f":"IF(ISBLANK(B27),\"\",MATCH(B27,'Algemene inl.'!$A$23:$A$98,0))","v":""}]
[null,null,null,null,null,null,null,null,null,{"$f":"IF(ISBLANK(B28),\"\",MATCH(B28,'Algemene inl.'!$A$23:$A$98,0))","v":""}]
["TEAM G-LINE (3-9 deelnemers)",null,null,null,{"$f":"IF(ISBLANK('Algemene inl.'!$B$13),\"\",'Algemene inl.'!$B$13)","v":""},null,null,null,null,{"$f":"IF(ISBLANK(B29),\"\",MATCH(B29,'Algemene inl.'!$A$23:$A$98,0))","v":""}]
[null,null,null,null,null,null,null,null,null,{"$f":"IF(ISBLANK(B30),\"\",MATCH(B30,'Algemene inl.'!$A$23:$A$98,0))","v":""}]
["Discipline","Voornaam + achternaam","Geboorte-datum","Leeftijd","Categorie",null,null,null,null,{"$f":"IF(ISBLANK(B31),\"\",MATCH(B31,'Algemene inl.'!$A$23:$A$98,0))","v":{"$error":"#N/A"}}]
[null,null,{"$f":"IF(ISBLANK(B32),\" \",INDEX('Algemene inl.'!$B$23:$B$98,J32))","v":" "},{"$f":"IF(ISBLANK(B32),\"\",DATEDIF(C32,'Ref.datum & disciplines'!$A$2,\"y\"))","v":""},"geen",{"$f":"IF(ISBLANK(B32),\"\",\"X\")","v":""},null,null,null,{"$f":"IF(ISBLANK(B32),\"\",MATCH(B32,'Algemene inl.'!$A$23:$A$98,0))","v":""}]
[null,null,{"$f":"IF(ISBLANK(B33),\" \",INDEX('Algemene inl.'!$B$23:$B$98,J33))","v":" "},{"$f":"IF(ISBLANK(B33),\"\",DATEDIF(C33,'Ref.datum & disciplines'!$A$2,\"y\"))","v":""},null,null,null,null,null,{"$f":"IF(ISBLANK(B33),\"\",MATCH(B33,'Algemene inl.'!$A$23:$A$98,0))","v":""}]
[null,null,{"$f":"IF(ISBLANK(B34),\" \",INDEX('Algemene inl.'!$B$23:$B$98,J34))","v":" "},{"$f":"IF(ISBLANK(B34),\"\",DATEDIF(C34,'Ref.datum & disciplines'!$A$2,\"y\"))","v":""},null,null,null,null,null,{"$f":"IF(ISBLANK(B34),\"\",MATCH(B34,'Algemene inl.'!$A$23:$A$98,0))","v":""}]
[null,null,{"$f":"IF(ISBLANK(B35),\" \",INDEX('Algemene inl.'!$B$23:$B$98,J35))","v":" "},{"$f":"IF(ISBLANK(B35),\"\",DATEDIF(C35,'Ref.datum & disciplines'!$A$2,\"y\"))","v":""},null,null,null,null,null,{"$f":"IF(ISBLANK(B35),\"\",MATCH(B35,'Algemene inl.'!$A$23:$A$98,0))","v":""}]
[null,null,{"$f":"IF(ISBLANK(B36),\" \",INDEX('Algemene inl.'!$B$23:$B$98,J36))","v":" "},{"$f":"IF(ISBLANK(B36),\"\",DATEDIF(C36,'Ref.datum & disciplines'!$A$2,\"y\"))","v":""},null,null,null,null,null,{"$f":"IF(ISBLANK(B36),\"\",MATCH(B36,'Algemene inl.'!$A$23:$A$98,0))","v":""}]
[null,null,{"$f":"IF(ISBLANK(B37),\" \",INDEX('Algemene inl.'!$B$23:$B$98,J37))","v":" "},{"$f":"IF(ISBLANK(B37),\"\",DATEDIF(C37,'Ref.datum & disciplines'!$A$2,\"y\"))","v":""},null,null,null,null,null,{"$f":"IF(ISBLANK(B37),\"\",MATCH(B37,'Algemene inl.'!$A$23:$A$98,0))","v":""}]
[null,null,{"$f":"IF(ISBLANK(B38),\" \",INDEX('Algemene inl.'!$B$23:$B$98,J38))","v":" "},{"$f":"IF(ISBLANK(B38),\"\",DATEDIF(C38,'Ref.datum & disciplines'!$A$2,\"y\"))","v":""},null,null,null,null,null,{"$f":"IF(ISBLANK(B38),\"\",MATCH(B38,'Algemene inl.'!$A$23:$A$98,0))","v":""}]
[null,null,{"$f":"IF(ISBLANK(B39),\" \",INDEX('Algemene inl.'!$B$23:$B$98,J39))","v":" "},{"$f":"IF(ISBLANK(B39),\"\",DATEDIF(C39,'Ref.datum & disciplines'!$A$2,\"y\"))","v":""},null,null,null,null,null,{"$f":"IF(ISBLANK(B39),\"\",MATCH(B39,'Algemene inl.'!$A$23:$A$98,0))","v":""}]
[null,null,{"$f":"IF(ISBLANK(B40),\" \",INDEX('Algemene inl.'!$B$23:$B$98,J40))","v":" "},{"$f":"IF(ISBLANK(B40),\"\",DATEDIF(C40,'Ref.datum & disciplines'!$A$2,\"y\"))","v":""},null,null,null,null,null,{"$f":"IF(ISBLANK(B40),\"\",MATCH(B40,'Algemene inl.'!$A$23:$A$98,0))","v":""}]
["Reserve 1",null,{"$f":"IF(ISBLANK(B41),\" \",INDEX('Algemene inl.'!$B$23:$B$98,J41))","v":" "},{"$f":"IF(ISBLANK(B41),\"\",DATEDIF(C41,'Ref.datum & disciplines'!$A$2,\"y\"))","v":""},null,null,null,null,null,{"$f":"IF(ISBLANK(B41),\"\",MATCH(B41,'Algemene inl.'!$A$23:$A$98,0))","v":""}]
["Reserve 2",null,{"$f":"IF(ISBLANK(B42),\" \",INDEX('Algemene inl.'!$B$23:$B$98,J42))","v":" "},{"$f":"IF(ISBLANK(B42),\"\",DATEDIF(C42,'Ref.datum & disciplines'!$A$2,\"y\"))","v":""},null,null,null,null,null,{"$f":"IF(ISBLANK(B42),\"\",MATCH(B42,'Algemene inl.'!$A$23:$A$98,0))","v":""}]
[null,null,null,null,null,null,null,null,null,{"$f":"IF(ISBLANK(B43),\"\",MATCH(B43,'Algemene inl.'!$A$23:$A$98,0))","v":""}]
["TEAM G-LINE (3-9 deelnemers)",null,null,null,{"$f":"IF(ISBLANK('Algemene inl.'!$B$13),\"\",'Algemene inl.'!$B$13)","v":""},null,null,null,null,{"$f":"IF(ISBLANK(B44),\"\",MATCH(B44,'Algemene inl.'!$A$23:$A$98,0))","v":""}]
[null,null,null,null,null,null,null,null,null,{"$f":"IF(ISBLANK(B45),\"\",MATCH(B45,'Algemene inl.'!$A$23:$A$98,0))","v":""}]
["Discipline","Voornaam + achternaam","Geboorte-datum","Leeftijd","Categorie",null,null,null,null,{"$f":"IF(ISBLANK(B46),\"\",MATCH(B46,'Algemene inl.'!$A$23:$A$98,0))","v":{"$error":"#N/A"}}]
[null,null,{"$f":"IF(ISBLANK(B47),\" \",INDEX('Algemene inl.'!$B$23:$B$98,J47))","v":" "},{"$f":"IF(ISBLANK(B47),\"\",DATEDIF(C47,'Ref.datum & disciplines'!$A$2,\"y\"))","v":""},"geen",{"$f":"IF(ISBLANK(B47),\"\",\"X\")","v":""},null,null,null,{"$f":"IF(ISBLANK(B47),\"\",MATCH(B47,'Algemene inl.'!$A$23:$A$98,0))","v":""}]
[null,null,{"$f":"IF(ISBLANK(B48),\" \",INDEX('Algemene inl.'!$B$23:$B$98,J48))","v":" "},{"$f":"IF(ISBLANK(B48),\"\",DATEDIF(C48,'Ref.datum & disciplines'!$A$2,\"y\"))","v":""},null,null,null,null,null,{"$f":"IF(ISBLANK(B48),\"\",MATCH(B48,'Algemene inl.'!$A$23:$A$98,0))","v":""}]
[null,null,{"$f":"IF(ISBLANK(B49),\" \",INDEX('Algemene inl.'!$B$23:$B$98,J49))","v":" "},{"$f":"IF(ISBLANK(B49),\"\",DATEDIF(C49,'Ref.datum & disciplines'!$A$2,\"y\"))","v":""},null,null,null,null,null,{"$f":"IF(ISBLANK(B49),\"\",MATCH(B49,'Algemene inl.'!$A$23:$A$98,0))","v":""}]
[null,null,{"$f":"IF(ISBLANK(B50),\" \",INDEX('Algemene inl.'!$B$23:$B$98,J50))","v":" "},{"$f":"IF(ISBLANK(B50),\"\",DATEDIF(C50,'Ref.datum & disciplines'!$A$2,\"y\"))","v":""},null,null,null,null,null,{"$f":"IF(ISBLANK(B50),\"\",MATCH(B50,'Algemene inl.'!$A$23:$A$98,0))","v":""}]
[null,null,{"$f":"IF(ISBLANK(B51),\" \",INDEX('Algemene inl.'!$B$23:$B$98,J51))","v":" "},{"$f":"IF(ISBLANK(B51),\"\",DATEDIF(C51,'Ref.datum & disciplines'!$A$2,\"y\"))","v":""},null,null,null,null,null,{"$f":"IF(ISBLANK(B51),\"\",MATCH(B51,'Algemene inl.'!$A$23:$A$98,0))","v":""}]
[null,null,{"$f":"IF(ISBLANK(B52),\" \",INDEX('Algemene inl.'!$B$23:$B$98,J52))","v":" "},{"$f":"IF(ISBLANK(B52),\"\",DATEDIF(C52,'Ref.datum & disciplines'!$A$2,\"y\"))","v":""},null,null,null,null,null,{"$f":"IF(ISBLANK(B52),\"\",MATCH(B52,'Algemene inl.'!$A$23:$A$98,0))","v":""}]
[null,null,{"$f":"IF(ISBLANK(B53),\" \",INDEX('Algemene inl.'!$B$23:$B$98,J53))","v":" "},{"$f":"IF(ISBLANK(B53),\"\",DATEDIF(C53,'Ref.datum & disciplines'!$A$2,\"y\"))","v":""},null,null,null,null,null,{"$f":"IF(ISBLANK(B53),\"\",MATCH(B53,'Algemene inl.'!$A$23:$A$98,0))","v":""}]
[null,null,{"$f":"IF(ISBLANK(B54),\" \",INDEX('Algemene inl.'!$B$23:$B$98,J54))","v":" "},{"$f":"IF(ISBLANK(B54),\"\",DATEDIF(C54,'Ref.datum & disciplines'!$A$2,\"y\"))","v":""},null,null,null,null,null,{"$f":"IF(ISBLANK(B54),\"\",MATCH(B54,'Algemene inl.'!$A$23:$A$98,0))","v":""}]
[null,null,{"$f":"IF(ISBLANK(B55),\" \",INDEX('Algemene inl.'!$B$23:$B$98,J55))","v":" "},{"$f":"IF(ISBLANK(B55),\"\",DATEDIF(C55,'Ref.datum & disciplines'!$A$2,\"y\"))","v":""},null,null,null,null,null,{"$f":"IF(ISBLANK(B55),\"\",MATCH(B55,'Algemene inl.'!$A$23:$A$98,0))","v":""}]
["Reserve 1",null,{"$f":"IF(ISBLANK(B56),\" \",INDEX('Algemene inl.'!$B$23:$B$98,J56))","v":" "},{"$f":"IF(ISBLANK(B56),\"\",DATEDIF(C56,'Ref.datum & disciplines'!$A$2,\"y\"))","v":""},null,null,null,null,null,{"$f":"IF(ISBLANK(B56),\"\",MATCH(B56,'Algemene inl.'!$A$23:$A$98,0))","v":""}]
["Reserve 2",null,{"$f":"IF(ISBLANK(B57),\" \",INDEX('Algemene inl.'!$B$23:$B$98,J57))","v":" "},{"$f":"IF(ISBLANK(B57),\"\",DATEDIF(C57,'Ref.datum & disciplines'!$A$2,\"y\"))","v":""},null,null,null,null,null,{"$f":"IF(ISBLANK(B57),\"\",MATCH(B57,'Algemene inl.'!$A$23:$A$98,0))","v":""}]
[null,null,null,null,null,null,null,null,null,{"$f":"IF(ISBLANK(B58),\"\",MATCH(B58,'Algemene inl.'!$A$23:$A$98,0))","v":""}]
["GROEP G-LINE (min. 10 deelnemers)",null,null,null,{"$f":"IF(ISBLANK('Algemene inl.'!$B$13),\"\",'Algemene inl.'!$B$13)","v":""},null,null,null,null,{"$f":"IF(ISBLANK(B59),\"\",MATCH(B59,'Algemene inl.'!$A$23:$A$98,0))","v":""}]
[null,null,null,null,null,null,null,null,null,{"$f":"IF(ISBLANK(B60),\"\",MATCH(B60,'Algemene inl.'!$A$23:$A$98,0))","v":""}]
["Discipline","Voornaam + achternaam","Geboorte-datum","Leeftijd","Categorie",null,null,null,null,{"$f":"IF(ISBLANK(B61),\"\",MATCH(B61,'Algemene inl.'!$A$23:$A$98,0))","v":{"$error":"#N/A"}}]
[null,null,{"$f":"IF(ISBLANK(B62),\" \",INDEX('Algemene inl.'!$B$23:$B$98,J62))","v":" "},{"$f":"IF(ISBLANK(B62),\"\",DATEDIF(C62,'Ref.datum & disciplines'!$A$2,\"y\"))","v":""},"geen",{"$f":"IF(ISBLANK(B62),\"\",\"X\")","v":""},null,null,null,{"$f":"IF(ISBLANK(B62),\"\",MATCH(B62,'Algemene inl.'!$A$23:$A$98,0))","v":""}]
[null,null,{"$f":"IF(ISBLANK(B63),\" \",INDEX('Algemene inl.'!$B$23:$B$98,J63))","v":" "},{"$f":"IF(ISBLANK(B63),\"\",DATEDIF(C63,'Ref.datum & disciplines'!$A$2,\"y\"))","v":""},null,null,null,null,null,{"$f":"IF(ISBLANK(B63),\"\",MATCH(B63,'Algemene inl.'!$A$23:$A$98,0))","v":""}]
[null,null,{"$f":"IF(ISBLANK(B64),\" \",INDEX('Algemene inl.'!$B$23:$B$98,J64))","v":" "},{"$f":"IF(ISBLANK(B64),\"\",DATEDIF(C64,'Ref.datum & disciplines'!$A$2,\"y\"))","v":""},null,null,null,null,null,{"$f":"IF(ISBLANK(B64),\"\",MATCH(B64,'Algemene inl.'!$A$23:$A$98,0))","v":""}]
[null,null,{"$f":"IF(ISBLANK(B65),\" \",INDEX('Algemene inl.'!$B$23:$B$98,J65))","v":" "},{"$f":"IF(ISBLANK(B65),\"\",DATEDIF(C65,'Ref.datum & disciplines'!$A$2,\"y\"))","v":""},null,null,null,null,null,{"$f":"IF(ISBLANK(B65),\"\",MATCH(B65,'Algemene inl.'!$A$23:$A$98,0))","v":""}]
[null,null,{"$f":"IF(ISBLANK(B66),\" \",INDEX('Algemene inl.'!$B$23:$B$98,J66))","v":" "},{"$f":"IF(ISBLANK(B66),\"\",DATEDIF(C66,'Ref.datum & disciplines'!$A$2,\"y\"))","v":""},null,null,null,null,null,{"$f":"IF(ISBLANK(B66),\"\",MATCH(B66,'Algemene inl.'!$A$23:$A$98,0))","v":""}]
[null,null,{"$f":"IF(ISBLANK(B67),\" \",INDEX('Algemene inl.'!$B$23:$B$98,J67))","v":" "},{"$f":"IF(ISBLANK(B67),\"\",DATEDIF(C67,'Ref.datum & disciplines'!$A$2,\"y\"))","v":""},null,null,null,null,null,{"$f":"IF(ISBLANK(B67),\"\",MATCH(B67,'Algemene inl.'!$A$23:$A$98,0))","v":""}]
[null,null,{"$f":"IF(ISBLANK(B68),\" \",INDEX('Algemene inl.'!$B$23:$B$98,J68))","v":" "},{"$f":"IF(ISBLANK(B68),\"\",DATEDIF(C68,'Ref.datum & disciplines'!$A$2,\"y\"))","v":""},null,null,null,null,null,{"$f":"IF(ISBLANK(B68),\"\",MATCH(B68,'Algemene inl.'!$A$23:$A$98,0))","v":""}]
[null,null,{"$f":"IF(ISBLANK(B69),\" \",INDEX('Algemene inl.'!$B$23:$B$98,J69))","v":" "},{"$f":"IF(ISBLANK(B69),\"\",DATEDIF(C69,'Ref.datum & disciplines'!$A$2,\"y\"))","v":""},null,null,null,null,null,{"$f":"IF(ISBLANK(B69),\"\",MATCH(B69,'Algemene inl.'!$A$23:$A$98,0))","v":""}]
[null,null,{"$f":"IF(ISBLANK(B70),\" \",INDEX('Algemene inl.'!$B$23:$B$98,J70))","v":" "},{"$f":"IF(ISBLANK(B70),\"\",DATEDIF(C70,'Ref.datum & disciplines'!$A$2,\"y\"))","v":""},null,null,null,null,null,{"$f":"IF(ISBLANK(B70),\"\",MATCH(B70,'Algemene inl.'!$A$23:$A$98,0))","v":""}]
[null,null,{"$f":"IF(ISBLANK(B71),\" \",INDEX('Algemene inl.'!$B$23:$B$98,J71))","v":" "},{"$f":"IF(ISBLANK(B71),\"\",DATEDIF(C71,'Ref.datum & disciplines'!$A$2,\"y\"))","v":""},null,null,null,null,null,{"$f":"IF(ISBLANK(B71),\"\",MATCH(B71,'Algemene inl.'!$A$23:$A$98,0))","v":""}]
[null,null,{"$f":"IF(ISBLANK(B72),\" \",INDEX('Algemene inl.'!$B$23:$B$98,J72))","v":" "},{"$f":"IF(ISBLANK(B72),\"\",DATEDIF(C72,'Ref.datum & disciplines'!$A$2,\"y\"))","v":""},null,null,null,null,null,{"$f":"IF(ISBLANK(B72),\"\",MATCH(B72,'Algemene inl.'!$A$23:$A$98,0))","v":""}]
[null,null,{"$f":"IF(ISBLANK(B73),\" \",INDEX('Algemene inl.'!$B$23:$B$98,J73))","v":" "},{"$f":"IF(ISBLANK(B73),\"\",DATEDIF(C73,'Ref.datum & disciplines'!$A$2,\"y\"))","v":""},null,null,null,null,null,{"$f":"IF(ISBLANK(B73),\"\",MATCH(B73,'Algemene inl.'!$A$23:$A$98,0))","v":""}]
[null,null,{"$f":"IF(ISBLANK(B74),\" \",INDEX('Algemene inl.'!$B$23:$B$98,J74))","v":" "},{"$f":"IF(ISBLANK(B74),\"\",DATEDIF(C74,'Ref.datum & disciplines'!$A$2,\"y\"))","v":""},null,null,null,null,null,{"$f":"IF(ISBLANK(B74),\"\",MATCH(B74,'Algemene inl.'!$A$23:$A$98,0))","v":""}]
[null,null,{"$f":"IF(ISBLANK(B75),\" \",INDEX('Algemene inl.'!$B$23:$B$98,J75))","v":" "},{"$f":"IF(ISBLANK(B75),\"\",DATEDIF(C75,'Ref.datum & disciplines'!$A$2,\"y\"))","v":""},null,null,null,null,null,{"$f":"IF(ISBLANK(B75),\"\",MATCH(B75,'Algemene inl.'!$A$23:$A$98,0))","v":""}]
[null,null,{"$f":"IF(ISBLANK(B76),\" \",INDEX('Algemene inl.'!$B$23:$B$98,J76))","v":" "},{"$f":"IF(ISBLANK(B76),\"\",DATEDIF(C76,'Ref.datum & disciplines'!$A$2,\"y\"))","v":""},null,null,null,null,null,{"$f":"IF(ISBLANK(B76),\"\",MATCH(B76,'Algemene inl.'!$A$23:$A$98,0))","v":""}]
["Reserve 1",null,{"$f":"IF(ISBLANK(B77),\" \",INDEX('Algemene inl.'!$B$23:$B$98,J77))","v":" "},{"$f":"IF(ISBLANK(B77),\"\",DATEDIF(C77,'Ref.datum & disciplines'!$A$2,\"y\"))","v":""},null,null,null,null,null,{"$f":"IF(ISBLANK(B77),\"\",MATCH(B77,'Algemene inl.'!$A$23:$A$98,0))","v":""}]
["Reserve 2",null,{"$f":"IF(ISBLANK(B78),\" \",INDEX('Algemene inl.'!$B$23:$B$98,J78))","v":" "},{"$f":"IF(ISBLANK(B78),\"\",DATEDIF(C78,'Ref.datum & disciplines'!$A$2,\"y\"))","v":""},null,null,null,null,null,{"$f":"IF(ISBLANK(B78),\"\",MATCH(B78,'Algemene inl.'!$A$23:$A$98,0))","v":""}]
["Reserve 3",null,{"$f":"IF(ISBLANK(B79),\" \",INDEX('Algemene inl.'!$B$23:$B$57,J79))","v":" "},{"$f":"IF(ISBLANK(B79),\"\",DATEDIF(C79,'Ref.datum & disciplines'!$A$2,\"y\"))","v":""},null,null,null,null,null,{"$f":"IF(ISBLANK(B79),\"\",MATCH(B79,'Algemene inl.'!$A$23:$A$98,0))","v":""}]
[null,null,null,null,null,null,null,null,null,{"$f":"IF(ISBLANK(B80),\"\",MATCH(B80,'Algemene inl.'!$A$23:$A$98,0))","v":""}]
[null,null,null,null,null,null,null,null,null,{"$f":"IF(ISBLANK(B81),\"\",MATCH(B81,'Algemene inl.'!$A$23:$A$98,0))","v":""}]
[null,null,null,null,null,null,null,null,null,{"$f":"IF(ISBLANK(B82),\"\",MATCH(B82,'Algemene inl.'!$A$23:$A$98,0))","v":""}]
[null,null,null,null,null,null,null,null,null,{"$f":"IF(ISBLANK(B83),\"\",MATCH(B83,'Algemene inl.'!$A$23:$A$98,0))","v":""}]
[null,null,null,null,null,null,null,null,null,{"$f":"IF(ISBLANK(B84),\"\",MATCH(B84,'Algemene inl.'!$A$23:$A$98,0))","v":""}]
[null,null,null,null,null,null,null,null,null,{"$f":"IF(ISBLANK(B85),\"\",MATCH(B85,'Algemene inl.'!$A$23:$A$98,0))","v":""}]
[null,null,null,null,null,null,null,null,null,{"$f":"IF(ISBLANK(B86),\"\",MATCH(B86,'Algemene inl.'!$A$23:$A$98,0))","v":""}]
[null,null,null,null,null,null,null,null,null,{"$f":"IF(ISBLANK(B87),\"\",MATCH(B87,'Algemene inl.'!$A$23:$A$98,0))","v":""}]
[null,null,null,null,null,null,null,null,null,{"$f":"IF(ISBLANK(B88),\"\",MATCH(B88,'Algemene inl.'!$A$23:$A$98,0))","v":""}]
[null,null,null,null,null,null,null,null,null,{"$f":"IF(ISBLANK(B89),\"\",MATCH(B89,'Algemene inl.'!$A$23:$A$98,0))","v":""}]
[null,null,null,null,null,null,null,null,null,{"$f":"IF(ISBLANK(B90),\"\",MATCH(B90,'Algemene inl.'!$A$23:$A$98,0))","v":""}]
[null,null,null,null,null,null,null,null,null,{"$f":"IF(ISBLANK(B91),\"\",MATCH(B91,'Algemene inl.'!$A$23:$A$98,0))","v":""}]
[null,null,null,null,null,null,null,null,null,{"$f":"IF(ISBLANK(B92),\"\",MATCH(B92,'Algemene inl.'!$A$23:$A$98,0))","v":""}]
[null,null,null,null,null,null,null,null,null,{"$f":"IF(ISBLANK(B93),\"\",MATCH(B93,'Algemene inl.'!$A$23:$A$98,0))","v":""}]
[null,null,null,null,null,null,null,null,null,{"$f":"IF(ISBLANK(B94),\"\",MATCH(B94,'Algemene inl.'!$A$23:$A$98,0))","v":""}]
[null,null,null,null,null,null,null,null,null,{"$f":"IF(ISBLANK(B95),\"\",MATCH(B95,'Algemene inl.'!$A$23:$A$98,0))","v":""}]
[null,null,null,null,null,null,null,null,null,{"$f":"IF(ISBLANK(B96),\"\",MATCH(B96,'Algemene inl.'!$A$23:$A$98,0))","v":""}]
[null,null,null,null,null,null,null,null,null,{"$f":"IF(ISBLANK(B97),\"\",MATCH(B97,'Algemene inl.'!$A$23:$A$98,0))","v":""}]
[null,null,null,null,null,null,null,null,null,{"$f":"IF(ISBLANK(B98),\"\",MATCH(B98,'Algemene inl.'!$A$23:$A$98,0))","v":""}]
[null,null,null,null,null,null,null,null,null,{"$f":"IF(ISBLANK(B99),\"\",MATCH(B99,'Algemene inl.'!$A$23:$A$98,0))","v":""}]
[null,null,null,null,null,null,null,null,null,{"$f":"IF(ISBLANK(B100),\"\",MATCH(B100,'Algemene inl.'!$A$23:$A$98,0))","v":""}]
[null,null,null,null,null,null,null,null,null,{"$f":"IF(ISBLANK(B101),\"\",MATCH(B101,'Algemene inl.'!$A$23:$A$98,0))","v":""}]
[null,null,null,null,null,null,null,null,null,{"$f":"IF(ISBLANK(B102),\"\",MATCH(B102,'Algemene inl.'!$A$23:$A$98,0))","v":""}]
[null,null,null,null,null,null,null,null,null,{"$f":"IF(ISBLANK(B103),\"\",MATCH(B103,'Algemene inl.'!$A$23:$A$98,0))","v":""}]
[null,null,null,null,null,null,null,null,null,{"$f":"IF(ISBLANK(B104),\"\",MATCH(B104,'Algemene inl.'!$A$23:$A$98,0))","v":""}]
[null,null,null,null,null,null,null,null,null,{"$f":"IF(ISBLANK(B105),\"\",MATCH(B105,'Algemene inl.'!$A$23:$A$98,0))","v":""}]
[null,null,null,null,null,null,null,null,null,{"$f":"IF(ISBLANK(B106),\"\",MATCH(B106,'Algemene inl.'!$A$23:$A$98,0))","v":""}]
[null,null,null,null,null,null,null,null,null,{"$f":"IF(ISBLANK(B107),\"\",MATCH(B107,'Algemene inl.'!$A$23:$A$98,0))","v":""}]
[null,null,null,null,null,null,null,null,null,{"$f":"IF(ISBLANK(B108),\"\",MATCH(B108,'Algemene inl.'!$A$23:$A$98,0))","v":""}]
[null,null,null,null,null,null,null,null,null,{"$f":"IF(ISBLANK(B109),\"\",MATCH(B109,'Algemene inl.'!$A$23:$A$98,0))","v":""}]
[null,null,null,null,null,null,null,null,null,{"$f":"IF(ISBLANK(B110),\"\",MATCH(B110,'Algemene inl.'!$A$23:$A$98,0))","v":""}]
[null,null,null,null,null,null,null,null,null,{"$f":"IF(ISBLANK(B111),\"\",MATCH(B111,'Algemene inl.'!$A$23:$A$98,0))","v":""}]
[null,null,null,null,null,null,null,null,null,{"$f":"IF(ISBLANK(B112),\"\",MATCH(B112,'Algemene inl.'!$A$23:$A$98,0))","v":""}]
[null,null,null,null,null,null,null,null,null,{"$f":"IF(ISBLANK(B113),\"\",MATCH(B113,'Algemene inl.'!$A$23:$A$98,0))","v":""}]
[null,null,null,null,null,null,null,null,null,{"$f":"IF(ISBLANK(B114),\"\",MATCH(B114,'Algemene inl.'!$A$23:$A$98,0))","v":""}]
[null,null,null,null,null,null,null,null,null,{"$f":"IF(ISBLANK(B115),\"\",MATCH(B115,'Algemene inl.'!$A$23:$A$98,0))","v":""}]
[null,null,null,null,null,null,null,null,null,{"$f":"IF(ISBLANK(B116),\"\",MATCH(B116,'Algemene inl.'!$A$23:$A$98,0))","v":""}]
[null,null,null,null,null,null,null,null,null,{"$f":"IF(ISBLANK(B117),\"\",MATCH(B117,'Algemene inl.'!$A$23:$A$98,0))","v":""}]
[null,null,null,null,null,null,null,null,null,{"$f":"IF(ISBLANK(B118),\"\",MATCH(B118,'Algemene inl.'!$A$23:$A$98,0))","v":""}]
[null,null,null,null,null,null,null,null,null,{"$f":"IF(ISBLANK(B119),\"\",MATCH(B119,'Algemene inl.'!$A$23:$A$98,0))","v":""}]
[null,null,null,null,null,null,null,null,null,{"$f":"IF(ISBLANK(B120),\"\",MATCH(B120,'Algemene inl.'!$A$23:$A$98,0))","v":""}]
[null,null,null,null,null,null,null,null,null,{"$f":"IF(ISBLANK(B121),\"\",MATCH(B121,'Algemene inl.'!$A$23:$A$98,0))","v":""}]
[null,null,null,null,null,null,null,null,null,{"$f":"IF(ISBLANK(B122),\"\",MATCH(B122,'Algemene inl.'!$A$23:$A$98,0))","v":""}]
[null,null,null,null,null,null,null,null,null,{"$f":"IF(ISBLANK(B123),\"\",MATCH(B123,'Algemene inl.'!$A$23:$A$98,0))","v":""}]
[null,null,null,null,null,null,null,null,null,{"$f":"IF(ISBLANK(B124),\"\",MATCH(B124,'Algemene inl.'!$A$23:$A$98,0))","v":""}]
[null,null,null,null,null,null,null,null,null,{"$f":"IF(ISBLANK(B125),\"\",MATCH(B125,'Algemene inl.'!$A$23:$A$98,0))","v":""}]
[null,null,null,null,null,null,null,null,null,{"$f":"IF(ISBLANK(B126),\"\",MATCH(B126,'Algemene inl.'!$A$23:$A$98,0))","v":""}]
[null,null,null,null,null,null,null,null,null,{"$f":"IF(ISBLANK(B127),\"\",MATCH(B127,'Algemene inl.'!$A$23:$A$98,0))","v":""}]
[null,null,null,null,null,null,null,null,null,{"$f":"IF(ISBLANK(B128),\"\",MATCH(B128,'Algemene inl.'!$A$23:$A$98,0))","v":""}]
[null,null,null,null,null,null,null,null,null,{"$f":"IF(ISBLANK(B129),\"\",MATCH(B129,'Algemene inl.'!$A$23:$A$98,0))","v":""}]
[null,null,null,null,null,null,null,null,null,{"$f":"IF(ISBLANK(B130),\"\",MATCH(B130,'Algemene inl.'!$A$23:$A$98,0))","v":""}]
[null,null,null,null,null,null,null,null,null,{"$f":"IF(ISBLANK(B131),\"\",MATCH(B131,'Algemene inl.'!$A$23:$A$98,0))","v":""}]
[null,null,null,null,null,null,null,null,null,{"$f":"IF(ISBLANK(B132),\"\",MATCH(B132,'Algemene inl.'!$A$23:$A$98,0))","v":""}]
[null,null,null,null,null,null,null,null,null,{"$f":"IF(ISBLANK(B133),\"\",MATCH(B133,'Algemene inl.'!$A$23:$A$98,0))","v":""}]
[null,null,null,null,null,null,null,null,null,{"$f":"IF(ISBLANK(B134),\"\",MATCH(B134,'Algemene inl.'!$A$23:$A$98,0))","v":""}]
[null,null,null,null,null,null,null,null,null,{"$f":"IF(ISBLANK(B135),\"\",MATCH(B135,'Algemene inl.'!$A$23:$A$98,0))","v":""}]
[null,null,null,null,null,null,null,null,null,{"$f":"IF(ISBLANK(B136),\"\",MATCH(B136,'Algemene inl.'!$A$23:$A$98,0))","v":""}]
[null,null,null,null,null,null,null,null,null,{"$f":"IF(ISBLANK(B137),\"\",MATCH(B137,'Algemene inl.'!$A$23:$A$98,0))","v":""}]
[null,null,null,null,null,null,null,null,null,{"$f":"IF(ISBLANK(B138),\"\",MATCH(B138,'Algemene inl.'!$A$23:$A$98,0))","v":""}]
[null,null,null,null,null,null,null,null,null,{"$f":"IF(ISBLANK(B139),\"\",MATCH(B139,'Algemene inl.'!$A$23:$A$98,0))","v":""}]
[null,null,null,null,null,null,null,null,null,{"$f":"IF(ISBLANK(B140),\"\",MATCH(B140,'Algemene inl.'!$A$23:$A$98,0))","v":""}]
[null,null,null,null,null,null,null,null,null,{"$f":"IF(ISBLANK(B141),\"\",MATCH(B141,'Algemene inl.'!$A$23:$A$98,0))","v":""}]
[null,null,null,null,null,null,null,null,null,{"$f":"IF(ISBLANK(B142),\"\",MATCH(B142,'Algemene inl.'!$A$23:$A$98,0))","v":""}]
[null,null,null,null,null,null,null,null,null,{"$f":"IF(ISBLANK(B143),\"\",MATCH(B143,'Algemene inl.'!$A$23:$A$98,0))","v":""}]
[null,null,null,null,null,null,null,null,null,{"$f":"IF(ISBLANK(B144),\"\",MATCH(B144,'Algemene inl.'!$A$23:$A$98,0))","v":""}]
[null,null,null,null,null,null,null,null,null,{"$f":"IF(ISBLANK(B145),\"\",MATCH(B145,'Algemene inl.'!$A$23:$A$98,0))","v":""}]
[null,null,null,null,null,null,null,null,null,{"$f":"IF(ISBLANK(B146),\"\",MATCH(B146,'Algemene inl.'!$A$23:$A$98,0))","v":""}]
[null,null,null,null,null,null,null,null,null,{"$f":"IF(ISBLANK(B147),\"\",MATCH(B147,'Algemene inl.'!$A$23:$A$98,0))","v":""}]
[null,null,null,null,null,null,null,null,null,{"$f":"IF(ISBLANK(B148),\"\",MATCH(B148,'Algemene inl.'!$A$23:$A$98,0))","v":""}]
[null,null,null,null,null,null,null,null,null,{"$f":"IF(ISBLANK(B149),\"\",MATCH(B149,'Algemene inl.'!$A$23:$A$98,0))","v":""}]
[null,null,null,null,null,null,null,null,null,{"$f":"IF(ISBLANK(B150),\"\",MATCH(B150,'Algemene inl.'!$A$23:$A$98,0))","v":""}]
[null,null,null,null,null,null,null,null,null,{"$f":"IF(ISBLANK(B151),\"\",MATCH(B151,'Algemene inl.'!$A$23:$A$98,0))","v":""}]
[null,null,null,null,null,null,null,null,null,{"$f":"IF(ISBLANK(B152),\"\",MATCH(B152,'Algemene inl.'!$A$23:$A$98,0))","v":""}]
[null,null,null,null,null,null,null,null,null,{"$f":"IF(ISBLANK(B153),\"\",MATCH(B153,'Algemene inl.'!$A$23:$A$98,0))","v":""}]
[null,null,null,null,null,null,null,null,null,{"$f":"IF(ISBLANK(B154),\"\",MATCH(B154,'Algemene inl.'!$A$23:$A$98,0))","v":""}]
[null,null,null,null,null,null,null,null,null,{"$f":"IF(ISBLANK(B155),\"\",MATCH(B155,'Algemene inl.'!$A$23:$A$98,0))","v":""}]
[null,null,null,null,null,null,null,null,null,{"$f":"IF(ISBLANK(B156),\"\",MATCH(B156,'Algemene inl.'!$A$23:$A$98,0))","v":""}]
[null,null,null,null,null,null,null,null,null,{"$f":"IF(ISBLANK(B157),\"\",MATCH(B157,'Algemene inl.'!$A$23:$A$98,0))","v":""}]
[null,null,null,null,null,null,null,null,null,{"$f":"IF(ISBLANK(B158),\"\",MATCH(B158,'Algemene inl.'!$A$23:$A$98,0))","v":""}]
[null,null,null,null,null,null,null,null,null,{"$f":"IF(ISBLANK(B159),\"\",MATCH(B159,'Algemene inl.'!$A$23:$A$98,0))","v":""}]
[null,null,null,null,null,null,null,null,null,{"$f":"IF(ISBLANK(B160),\"\",MATCH(B160,'Algemene inl.'!$A$23:$A$98,0))","v":""}]
[null,null,null,null,null,null,null,null,null,{"$f":"IF(ISBLANK(B161),\"\",MATCH(B161,'Algemene inl.'!$A$23:$A$98,0))","v":""}]
[null,null,null,null,null,null,null,null,null,{"$f":"IF(ISBLANK(B162),\"\",MATCH(B162,'Algemene inl.'!$A$23:$A$98,0))","v":""}]
[null,null,null,null,null,null,null,null,null,{"$f":"IF(ISBLANK(B163),\"\",MATCH(B163,'Algemene inl.'!$A$23:$A$98,0))","v":""}]
[null,null,null,null,null,null,null,null,null,{"$f":"IF(ISBLANK(B164),\"\",MATCH(B164,'Algemene inl.'!$A$23:$A$98,0))","v":""}]
[null,null,null,null,null,null,null,null,null,{"$f":"IF(ISBLANK(B165),\"\",MATCH(B165,'Algemene inl.'!$A$23:$A$98,0))","v":""}]
[null,null,null,null,null,null,null,null,null,{"$f":"IF(ISBLANK(B166),\"\",MATCH(B166,'Algemene inl.'!$A$23:$A$98,0))","v":""}]
[null,null,null,null,null,null,null,null,null,{"$f":"IF(ISBLANK(B167),\"\",MATCH(B167,'Algemene inl.'!$A$23:$A$98,0))","v":""}]
[null,null,null,null,null,null,null,null,null,{"$f":"IF(ISBLANK(B168),\"\",MATCH(B168,'Algemene inl.'!$A$23:$A$98,0))","v":""}]
[null,null,null,null,null,null,null,null,null,{"$f":"IF(ISBLANK(B169),\"\",MATCH(B169,'Algemene inl.'!$A$23:$A$98,0))","v":""}]
[null,null,null,null,null,null,null,null,null,{"$f":"IF(ISBLANK(B170),\"\",MATCH(B170,'Algemene inl.'!$A$23:$A$98,0))","v":""}]
[null,null,null,null,null,null,null,null,null,{"$f":"IF(ISBLANK(B171),\"\",MATCH(B171,'Algemene inl.'!$A$23:$A$98,0))","v":""}]
[null,null,null,null,null,null,null,null,null,{"$f":"IF(ISBLANK(B172),\"\",MATCH(B172,'Algemene inl.'!$A$23:$A$98,0))","v":""}]
[null,null,null,null,null,null,null,null,null,{"$f":"IF(ISBLANK(B173),\"\",MATCH(B173,'Algemene inl.'!$A$23:$A$98,0))","v":""}]
[null,null,null,null,null,null,null,null,null,{"$f":"IF(ISBLANK(B174),\"\",MATCH(B174,'Algemene inl.'!$A$23:$A$98,0))","v":""}]
[null,null,null,null,null,null,null,null,null,{"$f":"IF(ISBLANK(B175),\"\",MATCH(B175,'Algemene inl.'!$A$23:$A$98,0))","v":""}]
[null,null,null,null,null,null,null,null,null,{"$f":"IF(ISBLANK(B176),\"\",MATCH(B176,'Algemene inl.'!$A$23:$A$98,0))","v":""}]
[null,null,null,null,null,null,null,null,null,{"$f":"IF(ISBLANK(B177),\"\",MATCH(B177,'Algemene inl.'!$A$23:$A$98,0))","v":""}]
[null,null,null,null,null,null,null,null,null,{"$f":"IF(ISBLANK(B178),\"\",MATCH(B178,'Algemene inl.'!$A$23:$A$98,0))","v":""}]
[null,null,null,null,null,null,null,null,null,{"$f":"IF(ISBLANK(B179),\"\",MATCH(B179,'Algemene inl.'!$A$23:$A$98,0))","v":""}]
[null,null,null,null,null,null,null,null,null,{"$f":"IF(ISBLANK(B180),\"\",MATCH(B180,'Algemene inl.'!$A$23:$A$98,0))","v":""}]
[null,null,null,null,null,null,null,null,null,{"$f":"IF(ISBLANK(B181),\"\",MATCH(B181,'Algemene inl.'!$A$23:$A$98,0))","v":""}]
[null,null,null,null,null,null,null,null,null,{"$f":"IF(ISBLANK(B182),\"\",MATCH(B182,'Algemene inl.'!$A$23:$A$98,0))","v":""}]
[null,null,null,null,null,null,null,null,null,{"$f":"IF(ISBLANK(B183),\"\",MATCH(B183,'Algemene inl.'!$A$23:$A$98,0))","v":""}]
[null,null,null,null,null,null,null,null,null,{"$f":"IF(ISBLANK(B184),\"\",MATCH(B184,'Algemene inl.'!$A$23:$A$98,0))","v":""}]
[null,null,null,null,null,null,null,null,null,{"$f":"IF(ISBLANK(B185),\"\",MATCH(B185,'Algemene inl.'!$A$23:$A$98,0))","v":""}]
[null,null,null,null,null,null,null,null,null,{"$f":"IF(ISBLANK(B186),\"\",MATCH(B186,'Algemene inl.'!$A$23:$A$98,0))","v":""}]
[null,null,null,null,null,null,null,null,null,{"$f":"IF(ISBLANK(B187),\"\",MATCH(B187,'Algemene inl.'!$A$23:$A$98,0))","v":""}]
[null,null,null,null,null,null,null,null,null,{"$f":"IF(ISBLANK(B188),\"\",MATCH(B188,'Algemene inl.'!$A$23:$A$98,0))","v":""}]
[null,null,null,null,null,null,null,null,null,{"$f":"IF(ISBLANK(B189),\"\",MATCH(B189,'Algemene inl.'!$A$23:$A$98,0))","v":""}]
[null,null,null,null,null,null,null,null,null,{"$f":"IF(ISBLANK(B190),\"\",MATCH(B190,'Algemene inl.'!$A$23:$A$98,0))","v":""}]
[null,null,null,null,null,null,null,null,null,{"$f":"IF(ISBLANK(B191),\"\",MATCH(B191,'Algemene inl.'!$A$23:$A$98,0))","v":""}]
[null,null,null,null,null,null,null,null,null,{"$f":"IF(ISBLANK(B192),\"\",MATCH(B192,'Algemene inl.'!$A$23:$A$98,0))","v":""}]
[null,null,null,null,null,null,null,null,null,{"$f":"IF(ISBLANK(B193),\"\",MATCH(B193,'Algemene inl.'!$A$23:$A$98,0))","v":""}]
[null,null,null,null,null,null,null,null,null,{"$f":"IF(ISBLANK(B194),\"\",MATCH(B194,'Algemene inl.'!$A$23:$A$98,0))","v":""}]
[null,null,null,null,null,null,null,null,null,{"$f":"IF(ISBLANK(B195),\"\",MATCH(B195,'Algemene inl.'!$A$23:$A$98,0))","v":""}]
[null,null,null,null,null,null,null,null,null,{"$f":"IF(ISBLANK(B196),\"\",MATCH(B196,'Algemene inl.'!$A$23:$A$98,0))","v":""}]
[null,null,null,null,null,null,null,null,null,{"$f":"IF(ISBLANK(B197),\"\",MATCH(B197,'Algemene inl.'!$A$23:$A$98,0))","v":""}]
[null,null,null,null,null,null,null,null,null,{"$f":"IF(ISBLANK(B198),\"\",MATCH(B198,'Algemene inl.'!$A$23:$A$98,0))","v":""}]
[null,null,null,null,null,null,null,null,null,{"$f":"IF(ISBLANK(B199),\"\",MATCH(B199,'Algemene inl.'!$A$23:$A$98,0))","v":""}]
[null,null,null,null,null,null,null,null,null,{"$f":"IF(ISBLANK(B200),\"\",MATCH(B200,'Algemene inl.'!$A$23:$A$98,0))","v":""}]
[null,null,null,null,null,null,null,null,null,{"$f":"IF(ISBLANK(B201),\"\",MATCH(B201,'Algemene inl.'!$A$23:$A$98,0))","v":""}]
[null,null,null,null,null,null,null,null,null,{"$f":"IF(ISBLANK(B202),\"\",MATCH(B202,'Algemene inl.'!$A$23:$A$98,0))","v":""}]
[null,null,null,null,null,null,null,null,null,{"$f":"IF(ISBLANK(B203),\"\",MATCH(B203,'Algemene inl.'!$A$23:$A$98,0))","v":""}]
[null,null,null,null,null,null,null,null,null,{"$f":"IF(ISBLANK(B204),\"\",MATCH(B204,'Algemene inl.'!$A$23:$A$98,0))","v":""}]
[null,null,null,null,null,null,null,null,null,{"$f":"IF(ISBLANK(B205),\"\",MATCH(B205,'Algemene inl.'!$A$23:$A$98,0))","v":""}]
[null,null,null,null,null,null,null,null,null,{"$f":"IF(ISBLANK(B206),\"\",MATCH(B206,'Algemene inl.'!$A$23:$A$98,0))","v":""}]
[null,null,null,null,null,null,null,null,null,{"$f":"IF(ISBLANK(B207),\"\",MATCH(B207,'Algemene inl.'!$A$23:$A$98,0))","v":""}]
[null,null,null,null,null,null,null,null,null,{"$f":"IF(ISBLANK(B208),\"\",MATCH(B208,'Algemene inl.'!$A$23:$A$98,0))","v":""}]
[null,null,null,null,null,null,null,null,null,{"$f":"IF(ISBLANK(B209),\"\",MATCH(B209,'Algemene inl.'!$A$23:$A$98,0))","v":""}]
[null,null,null,null,null,null,null,null,null,{"$f":"IF(ISBLANK(B210),\"\",MATCH(B210,'Algemene inl.'!$A$23:$A$98,0))","v":""}]
[null,null,null,null,null,null,null,null,null,{"$f":"IF(ISBLANK(B211),\"\",MATCH(B211,'Algemene inl.'!$A$23:$A$98,0))","v":""}]
[null,null,null,null,null,null,null,null,null,{"$f":"IF(ISBLANK(B212),\"\",MATCH(B212,'Algemene inl.'!$A$23:$A$98,0))","v":""}]
[null,null,null,null,null,null,null,null,null,{"$f":"IF(ISBLANK(B213),\"\",MATCH(B213,'Algemene inl.'!$A$23:$A$98,0))","v":""}]
[null,null,null,null,null,null,null,null,null,{"$f":"IF(ISBLANK(B214),\"\",MATCH(B214,'Algemene inl.'!$A$23:$A$98,0))","v":""}]
[null,null,null,null,null,null,null,null,null,{"$f":"IF(ISBLANK(B215),\"\",MATCH(B215,'Algemene inl.'!$A$23:$A$98,0))","v":""}]
[null,null,null,null,null,null,null,null,null,{"$f":"IF(ISBLANK(B216),\"\",MATCH(B216,'Algemene inl.'!$A$23:$A$98,0))","v":""}]
[null,null,null,null,null,null,null,null,null,{"$f":"IF(ISBLANK(B217),\"\",MATCH(B217,'Algemene inl.'!$A$23:$A$98,0))","v":""}]
[null,null,null,null,null,null,null,null,null,{"$f":"IF(ISBLANK(B218),\"\",MATCH(B218,'Algemene inl.'!$A$23:$A$98,0))","v":""}]
[null,null,null,null,null,null,null,null,null,{"$f":"IF(ISBLANK(B219),\"\",MATCH(B219,'Algemene inl.'!$A$23:$A$98,0))","v":""}]
[null,null,null,null,null,null,null,null,null,{"$f":"IF(ISBLANK(B220),\"\",MATCH(B220,'Algemene inl.'!$A$23:$A$98,0))","v":""}]
[null,null,null,null,null,null,null,null,null,{"$f":"IF(ISBLANK(B221),\"\",MATCH(B221,'Algemene inl.'!$A$23:$A$98,0))","v":""}]
[null,null,null,null,null,null,null,null,null,{"$f":"IF(ISBLANK(B222),\"\",MATCH(B222,'Algemene inl.'!$A$23:$A$98,0))","v":""}]
[null,null,null,null,null,null,null,null,null,{"$f":"IF(ISBLANK(B223),\"\",MATCH(B223,'Algemene inl.'!$A$23:$A$98,0))","v":""}]
[null,null,null,null,null,null,null,null,null,{"$f":"IF(ISBLANK(B224),\"\",MATCH(B224,'Algemene inl.'!$A$23:$A$98,0))","v":""}]
[null,null,null,null,null,null,null,null,null,{"$f":"IF(ISBLANK(B225),\"\",MATCH(B225,'Algemene inl.'!$A$23:$A$98,0))","v":""}]
[null,null,null,null,null,null,null,null,null,{"$f":"IF(ISBLANK(B226),\"\",MATCH(B226,'Algemene inl.'!$A$23:$A$98,0))","v":""}]
[null,null,null,null,null,null,null,null,null,{"$f":"IF(ISBLANK(B227),\"\",MATCH(B227,'Algemene inl.'!$A$23:$A$98,0))","v":""}]
[null,null,null,null,null,null,null,null,null,{"$f":"IF(ISBLANK(B228),\"\",MATCH(B228,'Algemene inl.'!$A$23:$A$98,0))","v":""}]
[null,null,null,null,null,null,null,null,null,{"$f":"IF(ISBLANK(B229),\"\",MATCH(B229,'Algemene inl.'!$A$23:$A$98,0))","v":""}]
[null,null,null,null,null,null,null,null,null,{"$f":"IF(ISBLANK(B230),\"\",MATCH(B230,'Algemene inl.'!$A$23:$A$98,0))","v":""}]
[null,null,null,null,null,null,null,null,null,{"$f":"IF(ISBLANK(B231),\"\",MATCH(B231,'Algemene inl.'!$A$23:$A$98,0))","v":""}]
[null,null,null,null,null,null,null,null,null,{"$f":"IF(ISBLANK(B232),\"\",MATCH(B232,'Algemene inl.'!$A$23:$A$98,0))","v":""}]
[null,null,null,null,null,null,null,null,null,{"$f":"IF(ISBLANK(B233),\"\",MATCH(B233,'Algemene inl.'!$A$23:$A$98,0))","v":""}]
[null,null,null,null,null,null,null,null,null,{"$f":"IF(ISBLANK(B234),\"\",MATCH(B234,'Algemene inl.'!$A$23:$A$98,0))","v":""}]
[null,null,null,null,null,null,null,null,null,{"$f":"IF(ISBLANK(B235),\"\",MATCH(B235,'Algemene inl.'!$A$23:$A$98,0))","v":""}]
[null,null,null,null,null,null,null,null,null,{"$f":"IF(ISBLANK(B236),\"\",MATCH(B236,'Algemene inl.'!$A$23:$A$98,0))","v":""}]
[null,null,null,null,null,null,null,null,null,{"$f":"IF(ISBLANK(B237),\"\",MATCH(B237,'Algemene inl.'!$A$23:$A$98,0))","v":""}]
[null,null,null,null,null,null,null,null,null,{"$f":"IF(ISBLANK(B238),\"\",MATCH(B238,'Algemene inl.'!$A$23:$A$98,0))","v":""}]
[null,null,null,null,null,null,null,null,null,{"$f":"IF(ISBLANK(B239),\"\",MATCH(B239,'Algemene inl.'!$A$23:$A$98,0))","v":""}]
[null,null,null,null,null,null,null,null,null,{"$f":"IF(ISBLANK(B240),\"\",MATCH(B240,'Algemene inl.'!$A$23:$A$98,0))","v":""}]
[null,null,null,null,null,null,null,null,null,{"$f":"IF(ISBLANK(B241),\"\",MATCH(B241,'Algemene inl.'!$A$23:$A$98,0))","v":""}]
[null,null,null,null,null,null,null,null,null,{"$f":"IF(ISBLANK(B242),\"\",MATCH(B242,'Algemene inl.'!$A$23:$A$98,0))","v":""}]
[null,null,null,null,null,null,null,null,null,{"$f":"IF(ISBLANK(B243),\"\",MATCH(B243,'Algemene inl.'!$A$23:$A$98,0))","v":""}]
[null,null,null,null,null,null,null,null,null,{"$f":"IF(ISBLANK(B244),\"\",MATCH(B244,'Algemene inl.'!$A$23:$A$98,0))","v":""}]
[null,null,null,null,null,null,null,null,null,{"$f":"IF(ISBLANK(B245),\"\",MATCH(B245,'Algemene inl.'!$A$23:$A$98,0))","v":""}]
[null,null,null,null,null,null,null,null,null,{"$f":"IF(ISBLANK(B246),\"\",MATCH(B246,'Algemene inl.'!$A$23:$A$98,0))","v":""}]
[null,null,null,null,null,null,null,null,null,{"$f":"IF(ISBLANK(B247),\"\",MATCH(B247,'Algemene inl.'!$A$23:$A$98,0))","v":""}]
[null,null,null,null,null,null,null,null,null,{"$f":"IF(ISBLANK(B248),\"\",MATCH(B248,'Algemene inl.'!$A$23:$A$98,0))","v":""}]
[null,null,null,null,null,null,null,null,null,{"$f":"IF(ISBLANK(B249),\"\",MATCH(B249,'Algemene inl.'!$A$23:$A$98,0))","v":""}]
[null,null,null,null,null,null,null,null,null,{"$f":"IF(ISBLANK(B250),\"\",MATCH(B250,'Algemene inl.'!$A$23:$A$98,0))","v":""}]
[null,null,null,null,null,null,null,null,null,{"$f":"IF(ISBLANK(B251),\"\",MATCH(B251,'Algemene inl.'!$A$23:$A$98,0))","v":""}]
[null,null,null,null,null,null,null,null,null,{"$f":"IF(ISBLANK(B252),\"\",MATCH(B252,'Algemene inl.'!$A$23:$A$98,0))","v":""}]
[null,null,null,null,null,null,null,null,null,{"$f":"IF(ISBLANK(B253),\"\",MATCH(B253,'Algemene inl.'!$A$23:$A$98,0))","v":""}]
[null,null,null,null,null,null,null,null,null,{"$f":"IF(ISBLANK(B254),\"\",MATCH(B254,'Algemene inl.'!$A$23:$A$98,0))","v":""}]
[null,null,null,null,null,null,null,null,null,{"$f":"IF(ISBLANK(B255),\"\",MATCH(B255,'Algemene inl.'!$A$23:$A$98,0))","v":""}]
[null,null,null,null,null,null,null,null,null,{"$f":"IF(ISBLANK(B256),\"\",MATCH(B256,'Algemene inl.'!$A$23:$A$98,0))","v":""}]
[null,null,null,null,null,null,null,null,null,{"$f":"IF(ISBLANK(B257),\"\",MATCH(B257,'Algemene inl.'!$A$23:$A$98,0))","v":""}]
[null,null,null,null,null,null,null,null,null,{"$f":"IF(ISBLANK(B258),\"\",MATCH(B258,'Algemene inl.'!$A$23:$A$98,0))","v":""}]
[null,null,null,null,null,null,null,null,null,{"$f":"IF(ISBLANK(B259),\"\",MATCH(B259,'Algemene inl.'!$A$23:$A$98,0))","v":""}]
[null,null,null,null,null,null,null,null,null,{"$f":"IF(ISBLANK(B260),\"\",MATCH(B260,'Algemene inl.'!$A$23:$A$98,0))","v":""}]
[null,null,null,null,null,null,null,null,null,{"$f":"IF(ISBLANK(B261),\"\",MATCH(B261,'Algemene inl.'!$A$23:$A$98,0))","v":""}]
[null,null,null,null,null,null,null,null,null,{"$f":"IF(ISBLANK(B262),\"\",MATCH(B262,'Algemene inl.'!$A$23:$A$98,0))","v":""}]
[null,null,null,null,null,null,null,null,null,{"$f":"IF(ISBLANK(B263),\"\",MATCH(B263,'Algemene inl.'!$A$23:$A$98,0))","v":""}]
[null,null,null,null,null,null,null,null,null,{"$f":"IF(ISBLANK(B264),\"\",MATCH(B264,'Algemene inl.'!$A$23:$A$98,0))","v":""}]
[null,null,null,null,null,null,null,null,null,{"$f":"IF(ISBLANK(B265),\"\",MATCH(B265,'Algemene inl.'!$A$23:$A$98,0))","v":""}]
[null,null,null,null,null,null,null,null,null,{"$f":"IF(ISBLANK(B266),\"\",MATCH(B266,'Algemene inl.'!$A$23:$A$98,0))","v":""}]
[null,null,null,null,null,null,null,null,null,{"$f":"IF(ISBLANK(B267),\"\",MATCH(B267,'Algemene inl.'!$A$23:$A$98,0))","v":""}]
[null,null,null,null,null,null,null,null,null,{"$f":"IF(ISBLANK(B268),\"\",MATCH(B268,'Algemene inl.'!$A$23:$A$98,0))","v":""}]
[null,null,null,null,null,null,null,null,null,{"$f":"IF(ISBLANK(B269),\"\",MATCH(B269,'Algemene inl.'!$A$23:$A$98,0))","v":""}]
[null,null,null,null,null,null,null,null,null,{"$f":"IF(ISBLANK(B270),\"\",MATCH(B270,'Algemene inl.'!$A$23:$A$98,0))","v":""}]
[null,null,null,null,null,null,null,null,null,{"$f":"IF(ISBLANK(B271),\"\",MATCH(B271,'Algemene inl.'!$A$23:$A$98,0))","v":""}]
[null,null,null,null,null,null,null,null,null,{"$f":"IF(ISBLANK(B272),\"\",MATCH(B272,'Algemene inl.'!$A$23:$A$98,0))","v":""}]
[null,null,null,null,null,null,null,null,null,{"$f":"IF(ISBLANK(B273),\"\",MATCH(B273,'Algemene inl.'!$A$23:$A$98,0))","v":""}]
[null,null,null,null,null,null,null,null,null,{"$f":"IF(ISBLANK(B274),\"\",MATCH(B274,'Algemene inl.'!$A$23:$A$98,0))","v":""}]
[null,null,null,null,null,null,null,null,null,{"$f":"IF(ISBLANK(B275),\"\",MATCH(B275,'Algemene inl.'!$A$23:$A$98,0))","v":""}]
[null,null,null,null,null,null,null,null,null,{"$f":"IF(ISBLANK(B276),\"\",MATCH(B276,'Algemene inl.'!$A$23:$A$98,0))","v":""}]
[null,null,null,null,null,null,null,null,null,{"$f":"IF(ISBLANK(B277),\"\",MATCH(B277,'Algemene inl.'!$A$23:$A$98,0))","v":""}]
[null,null,null,null,null,null,null,null,null,{"$f":"IF(ISBLANK(B278),\"\",MATCH(B278,'Algemene inl.'!$A$23:$A$98,0))","v":""}]
[null,null,null,null,null,null,null,null,null,{"$f":"IF(ISBLANK(B279),\"\",MATCH(B279,'Algemene inl.'!$A$23:$A$98,0))","v":""}]
[null,null,null,null,null,null,null,null,null,{"$f":"IF(ISBLANK(B280),\"\",MATCH(B280,'Algemene inl.'!$A$23:$A$98,0))","v":""}]
[null,null,null,null,null,null,null,null,null,{"$f":"IF(ISBLANK(B281),\"\",MATCH(B281,'Algemene inl.'!$A$23:$A$98,0))","v":""}]
[null,null,null,null,null,null,null,null,null,{"$f":"IF(ISBLANK(B282),\"\",MATCH(B282,'Algemene inl.'!$A$23:$A$98,0))","v":""}]
[null,null,null,null,null,null,null,null,null,{"$f":"IF(ISBLANK(B283),\"\",MATCH(B283,'Algemene inl.'!$A$23:$A$57,0))","v":""}]
[null,null,null,null,null,null,null,null,null,{"$f":"IF(ISBLANK(B284),\"\",MATCH(B284,'Algemene inl.'!$A$23:$A$57,0))","v":""}]
[null,null,null,null,null,null,null,null,null,{"$f":"IF(ISBLANK(B285),\"\",MATCH(B285,'Algemene inl.'!$A$23:$A$57,0))","v":""}]
[null,null,null,null,null,null,null,null,null,{"$f":"IF(ISBLANK(B286),\"\",MATCH(B286,'Algemene inl.'!$A$23:$A$57,0))","v":""}]
[null,null,null,null,null,null,null,null,null,{"$f":"IF(ISBLANK(B287),\"\",MATCH(B287,'Algemene inl.'!$A$23:$A$57,0))","v":""}]
[null,null,null,null,null,null,null,null,null,{"$f":"IF(ISBLANK(B288),\"\",MATCH(B288,'Algemene inl.'!$A$23:$A$57,0))","v":""}]

{"sheet":"Overzicht deelnames","index":9,"n_rows":32767,"n_cols":4,"rows_kept":32767,"cut":false,"hidden":false,"merged":[]}
[]
["Discipline","Leeftijdscategorie","Voornaam+Naam/Namen","Vereniging"]
[]
[]
[]
[]
[]
[]
[]
[]
[]
[]
[]
[]
[]
[]
[]
[]
[]
[]
[]
[]
[]
[]
[]
[]
[]
[]
[]
[]
[]
[]
[]
[]
[]
[]
[]
[]
[]
[]
[]
[]
[]
[]
[]
[]
[]
[]
[]
[]
[]
[]
[]
[]
[]
[]
[]
[]
[]
[]
[]
[]
[]
[]
[]
[]
[]
[]
[]
[]
[]
[]
[]
[]
[]
[]
[]
[]
[]
[]
[]
[]
[]
[]
[]
[]
[]
[]
[]
[]
[]
[]
[]
[]
[]
[]
[]
[]
[]
[]
[]
[]
[]
[]
[]
[]
[]
[]
[]
[]
[]
[]
[]
[]
[]
[]
[]
[]
[]
[]
[]
[]
[]
[]
[]
[]
[]
[]
[]
[]
[]
[]
[]
[]
[]
[]
[]
[]
[]
[]
[]
[]
[]
[]
[]
[]
[]
[]
[]
[]
[]
[]
[]
[]
[]
[]
[]
[]
[]
[]
[]
[]
[]
[]
[]
[]
[]
[]
[]
[]
[]
[]
[]
[]
[]
[]
[]
[]
[]
[]
[]
[]
[]
[]
[]
[]
[]
[]
[]
[]
[]
[]
[]
[]
[]
[]
[]
[]
[]
[]
[]
[]
[]
[]
[]
[]
[]
[]
[]
[]
[]
[]
[]
[]
[]
[]
[]
[]
[]
[]
[]
[]
[]
[]
[]
[]
[]
[]
[]
[]
[]
[]
[]
[]
[]
[]
[]
[]
[]
[]
[]
[]
[]
[]
[]
[]
[]
[]
[]
[null,""]
[null,""]
[null,""]
[null,""]
[null,""]
[null,""]
[null,""]
[null,""]
[null,""]
[null,""]
[null,""]
[null,""]
[null,""]
[null,""]
[null,""]
[null,""]
[null,""]
[null,""]
[null,""]
[null,""]
[null,""]
[null,""]
[null,""]
[null,""]
[null,""]
[null,""]
[null,""]
[null,""]
[null,""]
[null,""]
[null,""]
[null,""]
[null,""]
[null,""]
[null,""]
[null,""]
[null,""]
[null,""]
[null,""]
[null,""]
[]
[null,""]
[null,""]
[null,""]
[null,""]
[null,""]
[null,""]
[null,""]
[null,""]
[null,""]
[null,""]
[null,""]
[null,""]
[null,""]
[null,""]
[null,""]
[null,""]
[null,""]
[null,""]
[null,""]
[null,""]
[null,""]
[null,""]
[null,""]
[null,""]
[null,""]
[null,""]
[null,""]
[null,""]
[null,""]
[null,""]
[null,""]
[null,""]
[null,""]
[null,""]
[null,""]
[null,""]
[null,""]
[null,""]
[null,""]
[null,""]
[null,""]
[null,""]
[null,""]
[null,""]
[null,""]
[null,""]
[null,""]
[]
[null,""]
[null,""]
[null,""]
[null,""]
[null,""]
[null,""]
[null,""]
[null,""]
[null,""]
[null,""]
[null,""]
[null,""]
[null,""]
[null,""]
[null,""]
[null,""]
[null,""]
[null,""]
[null,""]
[null,""]
[null,""]
[null,""]
[null,""]
[null,""]
[null,""]
[null,""]
[null,""]
[null,""]
[null,""]
[null,""]
[null,""]
[null,""]
[null,""]
[null,""]
[null,""]
[null,""]
[null,""]
[null,""]
[null,""]
[null,""]
[null,""]
[null,""]
[null,""]
[null,""]
[null,""]
[null,""]
[null,""]
[]
[null,""]
[null,""]
[null,""]
[null,""]
[null,""]
[null,""]
[null,""]
[null,""]
[null,""]
[null,""]
[null,""]
[null,""]
[null,""]
[null,""]
[null,""]
[null,""]
[null,""]
[null,""]
[null,""]
[null,""]
[null,""]
[null,""]
[null,""]
[null,""]
[null,""]
[null,""]
[null,""]
[null,""]
[null,""]
[null,""]
[null,""]
[null,""]
[null,""]
[null,""]
[null,""]
[null,""]
[null,""]
[null,""]
[null,""]
[null,""]
[null,""]
[null,""]
[null,""]
[null,""]
[null,""]
[null,""]
[null,""]
[]
[null,""]
[null,""]
[null,""]
[null,""]
[null,""]
[null,""]
[null,""]
[null,""]
[null,""]
[null,""]
[null,""]
[null,""]
[null,""]
[null,""]
[null,""]
[null,""]
[null,""]
[null,""]
[null,""]
[null,""]
[null,""]
[null,""]
[null,""]
[null,""]
[null,""]
[null,""]
[null,""]
[null,""]
[null,""]
[null,""]
[null,""]
[null,""]
[null,""]
[null,""]
[null,""]
[null,""]
[null,""]
[null,""]
[null,""]
[null,""]
[null,""]
[null,""]
[null,""]
[null,""]
[null,""]
[null,""]
[null,""]
[]
[null,""]
[null,""]
[null,""]
[null,""]
[null,""]
[null,""]
[null,""]
[null,""]
[null,""]
[null,""]
[null,""]
[null,""]
[null,""]
[null,""]
[null,""]
[null,""]
[null,""]
[null,""]
[null,""]
[null,""]
[null,""]
[null,""]
[null,""]
[null,""]
[null,""]
[null,""]
[null,""]
[null,""]
[null,""]
[null,""]
[null,""]
[null,""]
[null,""]
[null,""]
[null,""]
[null,""]
[null,""]
[null,""]
[null,""]
[null,""]
[null,""]
[null,""]
[null,""]
[null,""]
[null,""]
[null,""]
[null,""]
[]
[null,""]
[null,""]
[null,""]
[null,""]
[null,""]
[null,""]
[null,""]
[null,""]
[null,""]
[null,""]
[null,""]
[null,""]
[null,""]
[null,""]
[null,""]
[null,""]
[null,""]
[null,""]
[null,""]
[null,""]
[null,""]
[null,""]
[null,""]
[null,""]
[null,""]
[null,""]
[null,""]
[null,""]
[null,""]
[null,""]
[null,""]
[null,""]
[null,""]
[null,""]
[null,""]
[null,""]
[null,""]
[null,""]
[null,""]
[null,""]
[null,""]
[null,""]
[null,""]
[null,""]
[null,""]
[null,""]
[null,""]
[]
[null,""]
[null,""]
[null,""]
[null,""]
[null,""]
[null,""]
[null,""]
[null,""]
[null,""]
[null,""]
[null,""]
[null,""]
[null,""]
[null,""]
[null,""]
[null,""]
[null,""]
[null,""]
[null,""]
[null,""]
[null,""]
[null,""]
[null,""]
[null,""]
[null,""]
[null,""]
[null,""]
[null,""]
[null,""]
[null,""]
[null,""]
[null,""]
[null,""]
[null,""]
[null,""]
[null,""]
[null,""]
[null,""]
[null,""]
[null,""]
[null,""]
[null,""]
[null,""]
[null,""]
[null,""]
[null,""]
[null,""]
[]
[null,""]
[null,""]
[null,""]
[null,""]
[null,""]
[null,""]
[null,""]
[null,""]
[null,""]
[null,""]
[null,""]
[null,""]
[null,""]
[null,""]
[null,""]
[null,""]
[null,""]
[null,""]
[null,""]
[null,""]
[null,""]
[null,""]
[null,""]
[null,""]
[null,""]
[null,""]
[null,""]
[null,""]
[null,""]
[null,""]
[null,""]
[null,""]
[null,""]
[null,""]
[null,""]
[null,""]
[null,""]
[null,""]
[null,""]
[null,""]
[null,""]
[null,""]
[null,""]
[null,""]
[null,""]
[null,""]
[null,""]
[]
[null,""]
[null,""]
[null,""]
[null,""]
[null,""]
[null,""]
[null,""]
[null,""]
[null,""]
[null,""]
[null,""]
[null,""]
[null,""]
[null,""]
[null,""]
[null,""]
[null,""]
[null,""]
[null,""]
[null,""]
[null,""]
[null,""]
[null,""]
[null,""]
[null,""]
[null,""]
[null,""]
[null,""]
[null,""]
[null,""]
[null,""]
[null,""]
[null,""]
[null,""]
[null,""]
[null,""]
[null,""]
[null,""]
[null,""]
[null,""]
[null,""]
[null,""]
[null,""]
[null,""]
[null,""]
[null,""]
[null,""]
[]
[null,""]
[null,""]
[null,""]
[null,""]
[null,""]
[null,""]
[null,""]
[null,""]
[null,""]
[null,""]
[null,""]
[null,""]
[null,""]
[null,""]
[null,""]
[null,""]
[null,""]
[null,""]
[null,""]
[null,""]
[null,""]
[null,""]
[null,""]
[null,""]
[null,""]
[null,""]
[null,""]
[null,""]
[null,""]
[null,""]
[null,""]
[null,""]
[null,""]
[null,""]
[null,""]
[null,""]
[null,""]
[null,""]
[null,""]
[null,""]
[null,""]
[null,""]
[null,""]
[null,""]
[null,""]
[null,""]
[null,""]
[]
[null,""]
[null,""]
[null,""]
[null,""]
[null,""]
[null,""]
[null,""]
[null,""]
[null,""]
[null,""]
[null,""]
[null,""]
[null,""]
[null,""]
[null,""]
[null,""]
[null,""]
[null,""]
[null,""]
[null,""]
[null,""]
[null,""]
[null,""]
[null,""]
[null,""]
[null,""]
[null,""]
[null,""]
[null,""]
[null,""]
[null,""]
[null,""]
[null,""]
[null,""]
[null,""]
[null,""]
[null,""]
[null,""]
[null,""]
[null,""]
[null,""]
[null,""]
[null,""]
[null,""]
[null,""]
[null,""]
[null,""]
[]
[null,""]
[null,""]
[null,""]
[null,""]
[null,""]
[null,""]
[null,""]
[null,""]
[null,""]
[null,""]
[null,""]
[null,""]
[null,""]
[null,""]
[null,""]
[null,""]
[null,""]
[null,""]
[null,""]
[null,""]
[null,""]
[null,""]
[null,""]
[null,""]
[null,""]
[null,""]
[null,""]
[null,""]
[null,""]
[null,""]
[null,""]
[null,""]
[null,""]
[null,""]
[null,""]
[null,""]
[null,""]
[null,""]
[null,""]
[null,""]
[null,""]
[null,""]
[null,""]
[null,""]
[null,""]
[null,""]
[null,""]
[]
[null,""]
[null,""]
[null,""]
[null,""]
[null,""]
[null,""]
[null,""]
[null,""]
[null,""]
[null,""]
[null,""]
[null,""]
[null,""]
[null,""]
[null,""]
[null,""]
[null,""]
[null,""]
[null,""]
[null,""]
[null,""]
[null,""]
[null,""]
[null,""]
[null,""]
[null,""]
[null,""]
[null,""]
[null,""]
[null,""]
[null,""]
[null,""]
[null,""]
[null,""]
[null,""]
[null,""]
[null,""]
[null,""]
[null,""]
[null,""]
[null,""]
[null,""]
[null,""]
[null,""]
[null,""]
[null,""]
[null,""]
[]
[null,""]
[null,""]
[null,""]
[null,""]
[null,""]
[null,""]
[null,""]
[null,""]
[null,""]
[null,""]
[null,""]
[null,""]
[null,""]
[null,""]
[null,""]
[null,""]
[null,""]
[null,""]
[null,""]
[null,""]
[null,""]
[null,""]
[null,""]
[null,""]
[null,""]
[null,""]
[null,""]
[null,""]
[null,""]
[null,""]
[null,""]
[null,""]
[null,""]
[null,""]
[null,""]
[null,""]
[null,""]
[null,""]
[null,""]
[null,""]
[null,""]
[null,""]
[null,""]
[null,""]
[null,""]
[null,""]
[null,""]
[]
[null,""]
[null,""]
[null,""]
[null,""]
[null,""]
[null,""]
[null,""]
[null,""]
[null,""]
[null,""]
[null,""]
[null,""]
[null,""]
[null,""]
[null,""]
[null,""]
[null,""]
[null,""]
[null,""]
[null,""]
[null,""]
[null,""]
[null,""]
[null,""]
[null,""]
[null,""]
[null,""]
[null,""]
[null,""]
[null,""]
[null,""]
[null,""]
[null,""]
[null,""]
[null,""]
[null,""]
[null,""]
[null,""]
[null,""]
[null,""]
[null,""]
[null,""]
[null,""]
[null,""]
[null,""]
[null,""]
[null,""]
[]
[null,""]
[null,""]
[null,""]
[null,""]
[null,""]
[null,""]
[null,""]
[null,""]
[null,""]
[null,""]
[null,""]
[null,""]
[null,""]
[null,""]
[null,""]
[null,""]
[null,""]
[null,""]
[null,""]
[null,""]
[null,""]
[null,""]
[null,""]
[null,""]
[null,""]
[null,""]
[null,""]
[null,""]
[null,""]
[null,""]
[null,""]
[null,""]
[null,""]
[null,""]
[null,""]
[null,""]
[null,""]
[null,""]
[null,""]
[null,""]
[null,""]
[null,""]
[null,""]
[null,""]
[null,""]
[null,""]
[null,""]
[]
[null,""]
[null,""]
[null,""]
[null,""]
[null,""]
[null,""]
[null,""]
[null,""]
[null,""]
[null,""]
[null,""]
[null,""]
[null,""]
[null,""]
[null,""]
[null,""]
[null,""]
[null,""]
[null,""]
[null,""]
[null,""]
[null,""]
[null,""]
[null,""]
[null,""]
[null,""]
[null,""]
[null,""]
[null,""]
[null,""]
[null,""]
[null,""]
[null,""]
[null,""]
[null,""]
[null,""]
[null,""]
[null,""]
[null,""]
[null,""]
[null,""]
[null,""]
[null,""]
[null,""]
[null,""]
[null,""]
[null,""]
[]
[null,""]
[null,""]
[null,""]
[null,""]
[null,""]
[null,""]
[null,""]
[null,""]
[null,""]
[null,""]
[null,""]
[null,""]
[null,""]
[null,""]
[null,""]
[null,""]
[null,""]
[null,""]
[null,""]
[null,""]
[null,""]
[null,""]
[null,""]
[null,""]
[null,""]
[null,""]
[null,""]
[null,""]
[null,""]
[null,""]
[null,""]
[null,""]
[null,""]
[null,""]
[null,""]
[null,""]
[null,""]
[null,""]
[null,""]
[null,""]
[null,""]
[null,""]
[null,""]
[null,""]
[null,""]
[null,""]
[null,""]
[]
[null,""]
[null,""]
[null,""]
[null,""]
[null,""]
[null,""]
[null,""]
[null,""]
[null,""]
[null,""]
[null,""]
[null,""]
[null,""]
[null,""]
[null,""]
[null,""]
[null,""]
[null,""]
[null,""]
[null,""]
[null,""]
[null,""]
[null,""]
[null,""]
[null,""]
[null,""]
[null,""]
[null,""]
[null,""]
[null,""]
[null,""]
[null,""]
[null,""]
[null,""]
[null,""]
[null,""]
[null,""]
[null,""]
[null,""]
[null,""]
[null,""]
[null,""]
[null,""]
[null,""]
[null,""]
[null,""]
[null,""]
[]
[null,""]
[null,""]
[null,""]
[null,""]
[null,""]
[null,""]
[null,""]
[null,""]
[null,""]
[null,""]
[null,""]
[null,""]
[null,""]
[null,""]
[null,""]
[null,""]
[null,""]
[null,""]
[null,""]
[null,""]
[null,""]
[null,""]
[null,""]
[null,""]
[null,""]
[null,""]
[null,""]
[null,""]
[null,""]
[null,""]
[null,""]
[null,""]
[null,""]
[null,""]
[null,""]
[null,""]
[null,""]
[null,""]
[null,""]
[null,""]
[null,""]
[null,""]
[null,""]
[null,""]
[null,""]
[null,""]
[null,""]
[]
[null,""]
[null,""]
[null,""]
[null,""]
[null,""]
[null,""]
[null,""]
[null,""]
[null,""]
[null,""]
[null,""]
[null,""]
[null,""]
[null,""]
[null,""]
[null,""]
[null,""]
[null,""]
[null,""]
[null,""]
[null,""]
[null,""]
[null,""]
[null,""]
[null,""]
[null,""]
[null,""]
[null,""]
[null,""]
[null,""]
[null,""]
[null,""]
[null,""]
[null,""]
[null,""]
[null,""]
[null,""]
[null,""]
[null,""]
[null,""]
[null,""]
[null,""]
[null,""]
[null,""]
[null,""]
[null,""]
[null,""]
[]
[null,""]
[null,""]
[null,""]
[null,""]
[null,""]
[null,""]
[null,""]
[null,""]
[null,""]
[null,""]
[null,""]
[null,""]
[null,""]
[null,""]
[null,""]
[null,""]
[null,""]
[null,""]
[null,""]
[null,""]
[null,""]
[null,""]
[null,""]
[null,""]
[null,""]
[null,""]
[null,""]
[null,""]
[null,""]
[null,""]
[null,""]
[null,""]
[null,""]
[null,""]
[null,""]
[null,""]
[null,""]
[null,""]
[null,""]
[null,""]
[null,""]
[null,""]
[null,""]
[null,""]
[null,""]
[null,""]
[null,""]
[]
[null,""]
[null,""]
[null,""]
[null,""]
[null,""]
[null,""]
[null,""]
[null,""]
[null,""]
[null,""]
[null,""]
[null,""]
[null,""]
[null,""]
[null,""]
[null,""]
[null,""]
[null,""]
[null,""]
[null,""]
[null,""]
[null,""]
[null,""]
[null,""]
[null,""]
[null,""]
[null,""]
[null,""]
[null,""]
[null,""]
[null,""]
[null,""]
[null,""]
[null,""]
[null,""]
[null,""]
[null,""]
[null,""]
[null,""]
[null,""]
[null,""]
[null,""]
[null,""]
[null,""]
[null,""]
[null,""]
[null,""]
[]
[null,""]
[null,""]
[null,""]
[null,""]
[null,""]
[null,""]
[null,""]
[null,""]
[null,""]
[null,""]
[null,""]
[null,""]
[null,""]
[null,""]
[null,""]
[null,""]
[null,""]
[null,""]
[null,""]
[null,""]
[null,""]
[null,""]
[null,""]
[null,""]
[null,""]
[null,""]
[null,""]
[null,""]
[null,""]
[null,""]
[null,""]
[null,""]
[null,""]
[null,""]
[null,""]
[null,""]
[null,""]
[null,""]
[null,""]
[null,""]
[null,""]
[null,""]
[null,""]
[null,""]
[null,""]
[null,""]
[null,""]
[]
[null,""]
[null,""]
[null,""]
[null,""]
[null,""]
[null,""]
[null,""]
[null,""]
[null,""]
[null,""]
[null,""]
[null,""]
[null,""]
[null,""]
[null,""]
[null,""]
[null,""]
[null,""]
[null,""]
[null,""]
[null,""]
[null,""]
[null,""]
[null,""]
[null,""]
[null,""]
[null,""]
[null,""]
[null,""]
[null,""]
[null,""]
[null,""]
[null,""]
[null,""]
[null,""]
[null,""]
[null,""]
[null,""]
[null,""]
[null,""]
[null,""]
[null,""]
[null,""]
[null,""]
[null,""]
[null,""]
[null,""]
[]
[null,""]
[null,""]
[null,""]
[null,""]
[null,""]
[null,""]
[null,""]
[null,""]
[null,""]
[null,""]
[null,""]
[null,""]
[null,""]
[null,""]
[null,""]
[null,""]
[null,""]
[null,""]
[null,""]
[null,""]
[null,""]
[null,""]
[null,""]
[null,""]
[null,""]
[null,""]
[null,""]
[null,""]
[null,""]
[null,""]
[null,""]
[null,""]
[null,""]
[null,""]
[null,""]
[null,""]
[null,""]
[null,""]
[null,""]
[null,""]
[null,""]
[null,""]
[null,""]
[null,""]
[null,""]
[null,""]
[null,""]
[]
[null,""]
[null,""]
[null,""]
[null,""]
[null,""]
[null,""]
[null,""]
[null,""]
[null,""]
[null,""]
[null,""]
[null,""]
[null,""]
[null,""]
[null,""]
[null,""]
[null,""]
[null,""]
[null,""]
[null,""]
[null,""]
[null,""]
[null,""]
[null,""]
[null,""]
[null,""]
[null,""]
[null,""]
[null,""]
[null,""]
[null,""]
[null,""]
[null,""]
[null,""]
[null,""]
[null,""]
[null,""]
[null,""]
[null,""]
[null,""]
[null,""]
[null,""]
[null,""]
[null,""]
[null,""]
[null,""]
[null,""]
[]
[null,""]
[null,""]
[null,""]
[null,""]
[null,""]
[null,""]
[null,""]
[null,""]
[null,""]
[null,""]
[null,""]
[null,""]
[null,""]
[null,""]
[null,""]
[null,""]
[null,""]
[null,""]
[null,""]
[null,""]
[null,""]
[null,""]
[null,""]
[null,""]
[null,""]
[null,""]
[null,""]
[null,""]
[null,""]
[null,""]
[null,""]
[null,""]
[null,""]
[null,""]
[null,""]
[null,""]
[null,""]
[null,""]
[null,""]
[null,""]
[null,""]
[null,""]
[null,""]
[null,""]
[null,""]
[null,""]
[null,""]
[]
[null,""]
[null,""]
[null,""]
[null,""]
[null,""]
[null,""]
[null,""]
[null,""]
[null,""]
[null,""]
[null,""]
[null,""]
[null,""]
[null,""]
[null,""]
[null,""]
[null,""]
[null,""]
[null,""]
[null,""]
[null,""]
[null,""]
[null,""]
[null,""]
[null,""]
[null,""]
[null,""]
[null,""]
[null,""]
[null,""]
[null,""]
[null,""]
[null,""]
[null,""]
[null,""]
[null,""]
[null,""]
[null,""]
[null,""]
[null,""]
[null,""]
[null,""]
[null,""]
[null,""]
[null,""]
[null,""]
[null,""]
[]
[null,""]
[null,""]
[null,""]
[null,""]
[null,""]
[null,""]
[null,""]
[null,""]
[null,""]
[null,""]
[null,""]
[null,""]
[null,""]
[null,""]
[null,""]
[null,""]
[null,""]
[null,""]
[null,""]
[null,""]
[null,""]
[null,""]
[null,""]
[null,""]
[null,""]
[null,""]
[null,""]
[null,""]
[null,""]
[null,""]
[null,""]
[null,""]
[null,""]
[null,""]
[null,""]
[null,""]
[null,""]
[null,""]
[null,""]
[null,""]
[null,""]
[null,""]
[null,""]
[null,""]
[null,""]
[null,""]
[null,""]
[]
[null,""]
[null,""]
[null,""]
[null,""]
[null,""]
[null,""]
[null,""]
[null,""]
[null,""]
[null,""]
[null,""]
[null,""]
[null,""]
[null,""]
[null,""]
[null,""]
[null,""]
[null,""]
[null,""]
[null,""]
[null,""]
[null,""]
[null,""]
[null,""]
[null,""]
[null,""]
[null,""]
[null,""]
[null,""]
[null,""]
[null,""]
[null,""]
[null,""]
[null,""]
[null,""]
[null,""]
[null,""]
[null,""]
[null,""]
[null,""]
[null,""]
[null,""]
[null,""]
[null,""]
[null,""]
[null,""]
[null,""]
[]
[null,""]
[null,""]
[null,""]
[null,""]
[null,""]
[null,""]
[null,""]
[null,""]
[null,""]
[null,""]
[null,""]
[null,""]
[null,""]
[null,""]
[null,""]
[null,""]
[null,""]
[null,""]
[null,""]
[null,""]
[null,""]
[null,""]
[null,""]
[null,""]
[null,""]
[null,""]
[null,""]
[null,""]
[null,""]
[null,""]
[null,""]
[null,""]
[null,""]
[null,""]
[null,""]
[null,""]
[null,""]
[null,""]
[null,""]
[null,""]
[null,""]
[null,""]
[null,""]
[null,""]
[null,""]
[null,""]
[null,""]
[]
[null,""]
[null,""]
[null,""]
[null,""]
[null,""]
[null,""]
[null,""]
[null,""]
[null,""]
[null,""]
[null,""]
[null,""]
[null,""]
[null,""]
[null,""]
[null,""]
[null,""]
[null,""]
[null,""]
[null,""]
[null,""]
[null,""]
[null,""]
[null,""]
[null,""]
[null,""]
[null,""]
[null,""]
[null,""]
[null,""]
[null,""]
[null,""]
[null,""]
[null,""]
[null,""]
[null,""]
[null,""]
[null,""]
[null,""]
[null,""]
[null,""]
[null,""]
[null,""]
[null,""]
[null,""]
[null,""]
[null,""]
[]
[null,""]
[null,""]
[null,""]
[null,""]
[null,""]
[null,""]
[null,""]
[null,""]
[null,""]
[null,""]
[null,""]
[null,""]
[null,""]
[null,""]
[null,""]
[null,""]
[null,""]
[null,""]
[null,""]
[null,""]
[null,""]
[null,""]
[null,""]
[null,""]
[null,""]
[null,""]
[null,""]
[null,""]
[null,""]
[null,""]
[null,""]
[null,""]
[null,""]
[null,""]
[null,""]
[null,""]
[null,""]
[null,""]
[null,""]
[null,""]
[null,""]
[null,""]
[null,""]
[null,""]
[null,""]
[null,""]
[null,""]
[]
[null,""]
[null,""]
[null,""]
[null,""]
[null,""]
[null,""]
[null,""]
[null,""]
[null,""]
[null,""]
[null,""]
[null,""]
[null,""]
[null,""]
[null,""]
[null,""]
[null,""]
[null,""]
[null,""]
[null,""]
[null,""]
[null,""]
[null,""]
[null,""]
[null,""]
[null,""]
[null,""]
[null,""]
[null,""]
[null,""]
[null,""]
[null,""]
[null,""]
[null,""]
[null,""]
[null,""]
[null,""]
[null,""]
[null,""]
[null,""]
[null,""]
[null,""]
[null,""]
[null,""]
[null,""]
[null,""]
[null,""]
[]
[null,""]
[null,""]
[null,""]
[null,""]
[null,""]
[null,""]
[null,""]
[null,""]
[null,""]
[null,""]
[null,""]
[null,""]
[null,""]
[null,""]
[null,""]
[null,""]
[null,""]
[null,""]
[null,""]
[null,""]
[null,""]
[null,""]
[null,""]
[null,""]
[null,""]
[null,""]
[null,""]
[null,""]
[null,""]
[null,""]
[null,""]
[null,""]
[null,""]
[null,""]
[null,""]
[null,""]
[null,""]
[null,""]
[null,""]
[null,""]
[null,""]
[null,""]
[null,""]
[null,""]
[null,""]
[null,""]
[null,""]
[]
[null,""]
[null,""]
[null,""]
[null,""]
[null,""]
[null,""]
[null,""]
[null,""]
[null,""]
[null,""]
[null,""]
[null,""]
[null,""]
[null,""]
[null,""]
[null,""]
[null,""]
[null,""]
[null,""]
[null,""]
[null,""]
[null,""]
[null,""]
[null,""]
[null,""]
[null,""]
[null,""]
[null,""]
[null,""]
[null,""]
[null,""]
[null,""]
[null,""]
[null,""]
[null,""]
[null,""]
[null,""]
[null,""]
[null,""]
[null,""]
[null,""]
[null,""]
[null,""]
[null,""]
[null,""]
[null,""]
[null,""]
[]
[null,""]
[null,""]
[null,""]
[null,""]
[null,""]
[null,""]
[null,""]
[null,""]
[null,""]
[null,""]
[null,""]
[null,""]
[null,""]
[null,""]
[null,""]
[null,""]
[null,""]
[null,""]
[null,""]
[null,""]
[null,""]
[null,""]
[null,""]
[null,""]
[null,""]
[null,""]
[null,""]
[null,""]
[null,""]
[null,""]
[null,""]
[null,""]
[null,""]
[null,""]
[null,""]
[null,""]
[null,""]
[null,""]
[null,""]
[null,""]
[null,""]
[null,""]
[null,""]
[null,""]
[null,""]
[null,""]
[null,""]
[]
[null,""]
[null,""]
[null,""]
[null,""]
[null,""]
[null,""]
[null,""]
[null,""]
[null,""]
[null,""]
[null,""]
[null,""]
[null,""]
[null,""]
[null,""]
[null,""]
[null,""]
[null,""]
[null,""]
[null,""]
[null,""]
[null,""]
[null,""]
[null,""]
[null,""]
[null,""]
[null,""]
[null,""]
[null,""]
[null,""]
[null,""]
[null,""]
[null,""]
[null,""]
[null,""]
[null,""]
[null,""]
[null,""]
[null,""]
[null,""]
[null,""]
[null,""]
[null,""]
[null,""]
[null,""]
[null,""]
[null,""]
[]
[null,""]
[null,""]
[null,""]
[null,""]
[null,""]
[null,""]
[null,""]
[null,""]
[null,""]
[null,""]
[null,""]
[null,""]
[null,""]
[null,""]
[null,""]
[null,""]
[null,""]
[null,""]
[null,""]
[null,""]
[null,""]
[null,""]
[null,""]
[null,""]
[null,""]
[null,""]
[null,""]
[null,""]
[null,""]
[null,""]
[null,""]
[null,""]
[null,""]
[null,""]
[null,""]
[null,""]
[null,""]
[null,""]
[null,""]
[null,""]
[null,""]
[null,""]
[null,""]
[null,""]
[null,""]
[null,""]
[null,""]
[]
[null,""]
[null,""]
[null,""]
[null,""]
[null,""]
[null,""]
[null,""]
[null,""]
[null,""]
[null,""]
[null,""]
[null,""]
[null,""]
[null,""]
[null,""]
[null,""]
[null,""]
[null,""]
[null,""]
[null,""]
[null,""]
[null,""]
[null,""]
[null,""]
[null,""]
[null,""]
[null,""]
[null,""]
[null,""]
[null,""]
[null,""]
[null,""]
[null,""]
[null,""]
[null,""]
[null,""]
[null,""]
[null,""]
[null,""]
[null,""]
[null,""]
[null,""]
[null,""]
[null,""]
[null,""]
[null,""]
[null,""]
[]
[null,""]
[null,""]
[null,""]
[null,""]
[null,""]
[null,""]
[null,""]
[null,""]
[null,""]
[null,""]
[null,""]
[null,""]
[null,""]
[null,""]
[null,""]
[null,""]
[null,""]
[null,""]
[null,""]
[null,""]
[null,""]
[null,""]
[null,""]
[null,""]
[null,""]
[null,""]
[null,""]
[null,""]
[null,""]
[null,""]
[null,""]
[null,""]
[null,""]
[null,""]
[null,""]
[null,""]
[null,""]
[null,""]
[null,""]
[null,""]
[null,""]
[null,""]
[null,""]
[null,""]
[null,""]
[null,""]
[null,""]
[]
[null,""]
[null,""]
[null,""]
[null,""]
[null,""]
[null,""]
[null,""]
[null,""]
[null,""]
[null,""]
[null,""]
[null,""]
[null,""]
[null,""]
[null,""]
[null,""]
[null,""]
[null,""]
[null,""]
[null,""]
[null,""]
[null,""]
[null,""]
[null,""]
[null,""]
[null,""]
[null,""]
[null,""]
[null,""]
[null,""]
[null,""]
[null,""]
[null,""]
[null,""]
[null,""]
[null,""]
[null,""]
[null,""]
[null,""]
[null,""]
[null,""]
[null,""]
[null,""]
[null,""]
[null,""]
[null,""]
[null,""]
[]
[null,""]
[null,""]
[null,""]
[null,""]
[null,""]
[null,""]
[null,""]
[null,""]
[null,""]
[null,""]
[null,""]
[null,""]
[null,""]
[null,""]
[null,""]
[null,""]
[null,""]
[null,""]
[null,""]
[null,""]
[null,""]
[null,""]
[null,""]
[null,""]
[null,""]
[null,""]
[null,""]
[null,""]
[null,""]
[null,""]
[null,""]
[null,""]
[null,""]
[null,""]
[null,""]
[null,""]
[null,""]
[null,""]
[null,""]
[null,""]
[null,""]
[null,""]
[null,""]
[null,""]
[null,""]
[null,""]
[null,""]
[]
[null,""]
[null,""]
[null,""]
[null,""]
[null,""]
[null,""]
[null,""]
[null,""]
[null,""]
[null,""]
[null,""]
[null,""]
[null,""]
[null,""]
[null,""]
[null,""]
[null,""]
[null,""]
[null,""]
[null,""]
[null,""]
[null,""]
[null,""]
[null,""]
[null,""]
[null,""]
[null,""]
[null,""]
[null,""]
[null,""]
[null,""]
[null,""]
[null,""]
[null,""]
[null,""]
[null,""]
[null,""]
[null,""]
[null,""]
[null,""]
[null,""]
[null,""]
[null,""]
[null,""]
[null,""]
[null,""]
[null,""]
[]
[null,""]
[null,""]
[null,""]
[null,""]
[null,""]
[null,""]
[null,""]
[null,""]
[null,""]
[null,""]
[null,""]
[null,""]
[null,""]
[null,""]
[null,""]
[null,""]
[null,""]
[null,""]
[null,""]
[null,""]
[null,""]
[null,""]
[null,""]
[null,""]
[null,""]
[null,""]
[null,""]
[null,""]
[null,""]
[null,""]
[null,""]
[null,""]
[null,""]
[null,""]
[null,""]
[null,""]
[null,""]
[null,""]
[null,""]
[null,""]
[null,""]
[null,""]
[null,""]
[null,""]
[null,""]
[null,""]
[null,""]
[]
[null,""]
[null,""]
[null,""]
[null,""]
[null,""]
[null,""]
[null,""]
[null,""]
[null,""]
[null,""]
[null,""]
[null,""]
[null,""]
[null,""]
[null,""]
[null,""]
[null,""]
[null,""]
[null,""]
[null,""]
[null,""]
[null,""]
[null,""]
[null,""]
[null,""]
[null,""]
[null,""]
[null,""]
[null,""]
[null,""]
[null,""]
[null,""]
[null,""]
[null,""]
[null,""]
[null,""]
[null,""]
[null,""]
[null,""]
[null,""]
[null,""]
[null,""]
[null,""]
[null,""]
[null,""]
[null,""]
[null,""]
[]
[null,""]
[null,""]
[null,""]
[null,""]
[null,""]
[null,""]
[null,""]
[null,""]
[null,""]
[null,""]
[null,""]
[null,""]
[null,""]
[null,""]
[null,""]
[null,""]
[null,""]
[null,""]
[null,""]
[null,""]
[null,""]
[null,""]
[null,""]
[null,""]
[null,""]
[null,""]
[null,""]
[null,""]
[null,""]
[null,""]
[null,""]
[null,""]
[null,""]
[null,""]
[null,""]
[null,""]
[null,""]
[null,""]
[null,""]
[null,""]
[null,""]
[null,""]
[null,""]
[null,""]
[null,""]
[null,""]
[null,""]
[]
[null,""]
[null,""]
[null,""]
[null,""]
[null,""]
[null,""]
[null,""]
[null,""]
[null,""]
[null,""]
[null,""]
[null,""]
[null,""]
[null,""]
[null,""]
[null,""]
[null,""]
[null,""]
[null,""]
[null,""]
[null,""]
[null,""]
[null,""]
[null,""]
[null,""]
[null,""]
[null,""]
[null,""]
[null,""]
[null,""]
[null,""]
[null,""]
[null,""]
[null,""]
[null,""]
[null,""]
[null,""]
[null,""]
[null,""]
[null,""]
[null,""]
[null,""]
[null,""]
[null,""]
[null,""]
[null,""]
[null,""]
[]
[null,""]
[null,""]
[null,""]
[null,""]
[null,""]
[null,""]
[null,""]
[null,""]
[null,""]
[null,""]
[null,""]
[null,""]
[null,""]
[null,""]
[null,""]
[null,""]
[null,""]
[null,""]
[null,""]
[null,""]
[null,""]
[null,""]
[null,""]
[null,""]
[null,""]
[null,""]
[null,""]
[null,""]
[null,""]
[null,""]
[null,""]
[null,""]
[null,""]
[null,""]
[null,""]
[null,""]
[null,""]
[null,""]
[null,""]
[null,""]
[null,""]
[null,""]
[null,""]
[null,""]
[null,""]
[null,""]
[null,""]
[]
[null,""]
[null,""]
[null,""]
[null,""]
[null,""]
[null,""]
[null,""]
[null,""]
[null,""]
[null,""]
[null,""]
[null,""]
[null,""]
[null,""]
[null,""]
[null,""]
[null,""]
[null,""]
[null,""]
[null,""]
[null,""]
[null,""]
[null,""]
[null,""]
[null,""]
[null,""]
[null,""]
[null,""]
[null,""]
[null,""]
[null,""]
[null,""]
[null,""]
[null,""]
[null,""]
[null,""]
[null,""]
[null,""]
[null,""]
[null,""]
[null,""]
[null,""]
[null,""]
[null,""]
[null,""]
[null,""]
[null,""]
[]
[null,""]
[null,""]
[null,""]
[null,""]
[null,""]
[null,""]
[null,""]
[null,""]
[null,""]
[null,""]
[null,""]
[null,""]
[null,""]
[null,""]
[null,""]
[null,""]
[null,""]
[null,""]
[null,""]
[null,""]
[null,""]
[null,""]
[null,""]
[null,""]
[null,""]
[null,""]
[null,""]
[null,""]
[null,""]
[null,""]
[null,""]
[null,""]
[null,""]
[null,""]
[null,""]
[null,""]
[null,""]
[null,""]
[null,""]
[null,""]
[null,""]
[null,""]
[null,""]
[null,""]
[null,""]
[null,""]
[null,""]
[]
[null,""]
[null,""]
[null,""]
[null,""]
[null,""]
[null,""]
[null,""]
[null,""]
[null,""]
[null,""]
[null,""]
[null,""]
[null,""]
[null,""]
[null,""]
[null,""]
[null,""]
[null,""]
[null,""]
[null,""]
[null,""]
[null,""]
[null,""]
[null,""]
[null,""]
[null,""]
[null,""]
[null,""]
[null,""]
[null,""]
[null,""]
[null,""]
[null,""]
[null,""]
[null,""]
[null,""]
[null,""]
[null,""]
[null,""]
[null,""]
[null,""]
[null,""]
[null,""]
[null,""]
[null,""]
[null,""]
[null,""]
[]
[null,""]
[null,""]
[null,""]
[null,""]
[null,""]
[null,""]
[null,""]
[null,""]
[null,""]
[null,""]
[null,""]
[null,""]
[null,""]
[null,""]
[null,""]
[null,""]
[null,""]
[null,""]
[null,""]
[null,""]
[null,""]
[null,""]
[null,""]
[null,""]
[null,""]
[null,""]
[null,""]
[null,""]
[null,""]
[null,""]
[null,""]
[null,""]
[null,""]
[null,""]
[null,""]
[null,""]
[null,""]
[null,""]
[null,""]
[null,""]
[null,""]
[null,""]
[null,""]
[null,""]
[null,""]
[null,""]
[null,""]
[]
[null,""]
[null,""]
[null,""]
[null,""]
[null,""]
[null,""]
[null,""]
[null,""]
[null,""]
[null,""]
[null,""]
[null,""]
[null,""]
[null,""]
[null,""]
[null,""]
[null,""]
[null,""]
[null,""]
[null,""]
[null,""]
[null,""]
[null,""]
[null,""]
[null,""]
[null,""]
[null,""]
[null,""]
[null,""]
[null,""]
[null,""]
[null,""]
[null,""]
[null,""]
[null,""]
[null,""]
[null,""]
[null,""]
[null,""]
[null,""]
[null,""]
[null,""]
[null,""]
[null,""]
[null,""]
[null,""]
[null,""]
[]
[null,""]
[null,""]
[null,""]
[null,""]
[null,""]
[null,""]
[null,""]
[null,""]
[null,""]
[null,""]
[null,""]
[null,""]
[null,""]
[null,""]
[null,""]
[null,""]
[null,""]
[null,""]
[null,""]
[null,""]
[null,""]
[null,""]
[null,""]
[null,""]
[null,""]
[null,""]
[null,""]
[null,""]
[null,""]
[null,""]
[null,""]
[null,""]
[null,""]
[null,""]
[null,""]
[null,""]
[null,""]
[null,""]
[null,""]
[null,""]
[null,""]
[null,""]
[null,""]
[null,""]
[null,""]
[null,""]
[null,""]
[]
[null,""]
[null,""]
[null,""]
[null,""]
[null,""]
[null,""]
[null,""]
[null,""]
[null,""]
[null,""]
[null,""]
[null,""]
[null,""]
[null,""]
[null,""]
[null,""]
[null,""]
[null,""]
[null,""]
[null,""]
[null,""]
[null,""]
[null,""]
[null,""]
[null,""]
[null,""]
[null,""]
[null,""]
[null,""]
[null,""]
[null,""]
[null,""]
[null,""]
[null,""]
[null,""]
[null,""]
[null,""]
[null,""]
[null,""]
[null,""]
[null,""]
[null,""]
[null,""]
[null,""]
[null,""]
[null,""]
[null,""]
[]
[null,""]
[null,""]
[null,""]
[null,""]
[null,""]
[null,""]
[null,""]
[null,""]
[null,""]
[null,""]
[null,""]
[null,""]
[null,""]
[null,""]
[null,""]
[null,""]
[null,""]
[null,""]
[null,""]
[null,""]
[null,""]
[null,""]
[null,""]
[null,""]
[null,""]
[null,""]
[null,""]
[null,""]
[null,""]
[null,""]
[null,""]
[null,""]
[null,""]
[null,""]
[null,""]
[null,""]
[null,""]
[null,""]
[null,""]
[null,""]
[null,""]
[null,""]
[null,""]
[null,""]
[null,""]
[null,""]
[null,""]
[]
[null,""]
[null,""]
[null,""]
[null,""]
[null,""]
[null,""]
[null,""]
[null,""]
[null,""]
[null,""]
[null,""]
[null,""]
[null,""]
[null,""]
[null,""]
[null,""]
[null,""]
[null,""]
[null,""]
[null,""]
[null,""]
[null,""]
[null,""]
[null,""]
[null,""]
[null,""]
[null,""]
[null,""]
[null,""]
[null,""]
[null,""]
[null,""]
[null,""]
[null,""]
[null,""]
[null,""]
[null,""]
[null,""]
[null,""]
[null,""]
[null,""]
[null,""]
[null,""]
[null,""]
[null,""]
[null,""]
[null,""]
[]
[null,""]
[null,""]
[null,""]
[null,""]
[null,""]
[null,""]
[null,""]
[null,""]
[null,""]
[null,""]
[null,""]
[null,""]
[null,""]
[null,""]
[null,""]
[null,""]
[null,""]
[null,""]
[null,""]
[null,""]
[null,""]
[null,""]
[null,""]
[null,""]
[null,""]
[null,""]
[null,""]
[null,""]
[null,""]
[null,""]
[null,""]
[null,""]
[null,""]
[null,""]
[null,""]
[null,""]
[null,""]
[null,""]
[null,""]
[null,""]
[null,""]
[null,""]
[null,""]
[null,""]
[null,""]
[null,""]
[null,""]
[]
[null,""]
[null,""]
[null,""]
[null,""]
[null,""]
[null,""]
[null,""]
[null,""]
[null,""]
[null,""]
[null,""]
[null,""]
[null,""]
[null,""]
[null,""]
[null,""]
[null,""]
[null,""]
[null,""]
[null,""]
[null,""]
[null,""]
[null,""]
[null,""]
[null,""]
[null,""]
[null,""]
[null,""]
[null,""]
[null,""]
[null,""]
[null,""]
[null,""]
[null,""]
[null,""]
[null,""]
[null,""]
[null,""]
[null,""]
[null,""]
[null,""]
[null,""]
[null,""]
[null,""]
[null,""]
[null,""]
[null,""]
[]
[null,""]
[null,""]
[null,""]
[null,""]
[null,""]
[null,""]
[null,""]
[null,""]
[null,""]
[null,""]
[null,""]
[null,""]
[null,""]
[null,""]
[null,""]
[null,""]
[null,""]
[null,""]
[null,""]
[null,""]
[null,""]
[null,""]
[null,""]
[null,""]
[null,""]
[null,""]
[null,""]
[null,""]
[null,""]
[null,""]
[null,""]
[null,""]
[null,""]
[null,""]
[null,""]
[null,""]
[null,""]
[null,""]
[null,""]
[null,""]
[null,""]
[null,""]
[null,""]
[null,""]
[null,""]
[null,""]
[null,""]
[]
[null,""]
[null,""]
[null,""]
[null,""]
[null,""]
[null,""]
[null,""]
[null,""]
[null,""]
[null,""]
[null,""]
[null,""]
[null,""]
[null,""]
[null,""]
[null,""]
[null,""]
[null,""]
[null,""]
[null,""]
[null,""]
[null,""]
[null,""]
[null,""]
[null,""]
[null,""]
[null,""]
[null,""]
[null,""]
[null,""]
[null,""]
[null,""]
[null,""]
[null,""]
[null,""]
[null,""]
[null,""]
[null,""]
[null,""]
[null,""]
[null,""]
[null,""]
[null,""]
[null,""]
[null,""]
[null,""]
[null,""]
[]
[null,""]
[null,""]
[null,""]
[null,""]
[null,""]
[null,""]
[null,""]
[null,""]
[null,""]
[null,""]
[null,""]
[null,""]
[null,""]
[null,""]
[null,""]
[null,""]
[null,""]
[null,""]
[null,""]
[null,""]
[null,""]
[null,""]
[null,""]
[null,""]
[null,""]
[null,""]
[null,""]
[null,""]
[null,""]
[null,""]
[null,""]
[null,""]
[null,""]
[null,""]
[null,""]
[null,""]
[null,""]
[null,""]
[null,""]
[null,""]
[null,""]
[null,""]
[null,""]
[null,""]
[null,""]
[null,""]
[null,""]
[]
[null,""]
[null,""]
[null,""]
[null,""]
[null,""]
[null,""]
[null,""]
[null,""]
[null,""]
[null,""]
[null,""]
[null,""]
[null,""]
[null,""]
[null,""]
[null,""]
[null,""]
[null,""]
[null,""]
[null,""]
[null,""]
[null,""]
[null,""]
[null,""]
[null,""]
[null,""]
[null,""]
[null,""]
[null,""]
[null,""]
[null,""]
[null,""]
[null,""]
[null,""]
[null,""]
[null,""]
[null,""]
[null,""]
[null,""]
[null,""]
[null,""]
[null,""]
[null,""]
[null,""]
[null,""]
[null,""]
[null,""]
[]
[null,""]
[null,""]
[null,""]
[null,""]
[null,""]
[null,""]
[null,""]
[null,""]
[null,""]
[null,""]
[null,""]
[null,""]
[null,""]
[null,""]
[null,""]
[null,""]
[null,""]
[null,""]
[null,""]
[null,""]
[null,""]
[null,""]
[null,""]
[null,""]
[null,""]
[null,""]
[null,""]
[null,""]
[null,""]
[null,""]
[null,""]
[null,""]
[null,""]
[null,""]
[null,""]
[null,""]
[null,""]
[null,""]
[null,""]
[null,""]
[null,""]
[null,""]
[null,""]
[null,""]
[null,""]
[null,""]
[null,""]
[]
[null,""]
[null,""]
[null,""]
[null,""]
[null,""]
[null,""]
[null,""]
[null,""]
[null,""]
[null,""]
[null,""]
[null,""]
[null,""]
[null,""]
[null,""]
[null,""]
[null,""]
[null,""]
[null,""]
[null,""]
[null,""]
[null,""]
[null,""]
[null,""]
[null,""]
[null,""]
[null,""]
[null,""]
[null,""]
[null,""]
[null,""]
[null,""]
[null,""]
[null,""]
[null,""]
[null,""]
[null,""]
[null,""]
[null,""]
[null,""]
[null,""]
[null,""]
[null,""]
[null,""]
[null,""]
[null,""]
[null,""]
[]
[null,""]
[null,""]
[null,""]
[null,""]
[null,""]
[null,""]
[null,""]
[null,""]
[null,""]
[null,""]
[null,""]
[null,""]
[null,""]
[null,""]
[null,""]
[null,""]
[null,""]
[null,""]
[null,""]
[null,""]
[null,""]
[null,""]
[null,""]
[null,""]
[null,""]
[null,""]
[null,""]
[null,""]
[null,""]
[null,""]
[null,""]
[null,""]
[null,""]
[null,""]
[null,""]
[null,""]
[null,""]
[null,""]
[null,""]
[null,""]
[null,""]
[null,""]
[null,""]
[null,""]
[null,""]
[null,""]
[null,""]
[]
[null,""]
[null,""]
[null,""]
[null,""]
[null,""]
[null,""]
[null,""]
[null,""]
[null,""]
[null,""]
[null,""]
[null,""]
[null,""]
[null,""]
[null,""]
[null,""]
[null,""]
[null,""]
[null,""]
[null,""]
[null,""]
[null,""]
[null,""]
[null,""]
[null,""]
[null,""]
[null,""]
[null,""]
[null,""]
[null,""]
[null,""]
[null,""]
[null,""]
[null,""]
[null,""]
[null,""]
[null,""]
[null,""]
[null,""]
[null,""]
[null,""]
[null,""]
[null,""]
[null,""]
[null,""]
[null,""]
[null,""]
[]
[null,""]
[null,""]
[null,""]
[null,""]
[null,""]
[null,""]
[null,""]
[null,""]
[null,""]
[null,""]
[null,""]
[null,""]
[null,""]
[null,""]
[null,""]
[null,""]
[null,""]
[null,""]
[null,""]
[null,""]
[null,""]
[null,""]
[null,""]
[null,""]
[null,""]
[null,""]
[null,""]
[null,""]
[null,""]
[null,""]
[null,""]
[null,""]
[null,""]
[null,""]
[null,""]
[null,""]
[null,""]
[null,""]
[null,""]
[null,""]
[null,""]
[null,""]
[null,""]
[null,""]
[null,""]
[null,""]
[null,""]
[]
[null,""]
[null,""]
[null,""]
[null,""]
[null,""]
[null,""]
[null,""]
[null,""]
[null,""]
[null,""]
[null,""]
[null,""]
[null,""]
[null,""]
[null,""]
[null,""]
[null,""]
[null,""]
[null,""]
[null,""]
[null,""]
[null,""]
[null,""]
[null,""]
[null,""]
[null,""]
[null,""]
[null,""]
[null,""]
[null,""]
[null,""]
[null,""]
[null,""]
[null,""]
[null,""]
[null,""]
[null,""]
[null,""]
[null,""]
[null,""]
[null,""]
[null,""]
[null,""]
[null,""]
[null,""]
[null,""]
[null,""]
[]
[null,""]
[null,""]
[null,""]
[null,""]
[null,""]
[null,""]
[null,""]
[null,""]
[null,""]
[null,""]
[null,""]
[null,""]
[null,""]
[null,""]
[null,""]
[null,""]
[null,""]
[null,""]
[null,""]
[null,""]
[null,""]
[null,""]
[null,""]
[null,""]
[null,""]
[null,""]
[null,""]
[null,""]
[null,""]
[null,""]
[null,""]
[null,""]
[null,""]
[null,""]
[null,""]
[null,""]
[null,""]
[null,""]
[null,""]
[null,""]
[null,""]
[null,""]
[null,""]
[null,""]
[null,""]
[null,""]
[null,""]
[]
[null,""]
[null,""]
[null,""]
[null,""]
[null,""]
[null,""]
[null,""]
[null,""]
[null,""]
[null,""]
[null,""]
[null,""]
[null,""]
[null,""]
[null,""]
[null,""]
[null,""]
[null,""]
[null,""]
[null,""]
[null,""]
[null,""]
[null,""]
[null,""]
[null,""]
[null,""]
[null,""]
[null,""]
[null,""]
[null,""]
[null,""]
[null,""]
[null,""]
[null,""]
[null,""]
[null,""]
[null,""]
[null,""]
[null,""]
[null,""]
[null,""]
[null,""]
[null,""]
[null,""]
[null,""]
[null,""]
[null,""]
[]
[null,""]
[null,""]
[null,""]
[null,""]
[null,""]
[null,""]
[null,""]
[null,""]
[null,""]
[null,""]
[null,""]
[null,""]
[null,""]
[null,""]
[null,""]
[null,""]
[null,""]
[null,""]
[null,""]
[null,""]
[null,""]
[null,""]
[null,""]
[null,""]
[null,""]
[null,""]
[null,""]
[null,""]
[null,""]
[null,""]
[null,""]
[null,""]
[null,""]
[null,""]
[null,""]
[null,""]
[null,""]
[null,""]
[null,""]
[null,""]
[null,""]
[null,""]
[null,""]
[null,""]
[null,""]
[null,""]
[null,""]
[]
[null,""]
[null,""]
[null,""]
[null,""]
[null,""]
[null,""]
[null,""]
[null,""]
[null,""]
[null,""]
[null,""]
[null,""]
[null,""]
[null,""]
[null,""]
[null,""]
[null,""]
[null,""]
[null,""]
[null,""]
[null,""]
[null,""]
[null,""]
[null,""]
[null,""]
[null,""]
[null,""]
[null,""]
[null,""]
[null,""]
[null,""]
[null,""]
[null,""]
[null,""]
[null,""]
[null,""]
[null,""]
[null,""]
[null,""]
[null,""]
[null,""]
[null,""]
[null,""]
[null,""]
[null,""]
[null,""]
[null,""]
[]
[null,""]
[null,""]
[null,""]
[null,""]
[null,""]
[null,""]
[null,""]
[null,""]
[null,""]
[null,""]
[null,""]
[null,""]
[null,""]
[null,""]
[null,""]
[null,""]
[null,""]
[null,""]
[null,""]
[null,""]
[null,""]
[null,""]
[null,""]
[null,""]
[null,""]
[null,""]
[null,""]
[null,""]
[null,""]
[null,""]
[null,""]
[null,""]
[null,""]
[null,""]
[null,""]
[null,""]
[null,""]
[null,""]
[null,""]
[null,""]
[null,""]
[null,""]
[null,""]
[null,""]
[null,""]
[null,""]
[null,""]
[]
[null,""]
[null,""]
[null,""]
[null,""]
[null,""]
[null,""]
[null,""]
[null,""]
[null,""]
[null,""]
[null,""]
[null,""]
[null,""]
[null,""]
[null,""]
[null,""]
[null,""]
[null,""]
[null,""]
[null,""]
[null,""]
[null,""]
[null,""]
[null,""]
[null,""]
[null,""]
[null,""]
[null,""]
[null,""]
[null,""]
[null,""]
[null,""]
[null,""]
[null,""]
[null,""]
[null,""]
[null,""]
[null,""]
[null,""]
[null,""]
[null,""]
[null,""]
[null,""]
[null,""]
[null,""]
[null,""]
[null,""]
[]
[null,""]
[null,""]
[null,""]
[null,""]
[null,""]
[null,""]
[null,""]
[null,""]
[null,""]
[null,""]
[null,""]
[null,""]
[null,""]
[null,""]
[null,""]
[null,""]
[null,""]
[null,""]
[null,""]
[null,""]
[null,""]
[null,""]
[null,""]
[null,""]
[null,""]
[null,""]
[null,""]
[null,""]
[null,""]
[null,""]
[null,""]
[null,""]
[null,""]
[null,""]
[null,""]
[null,""]
[null,""]
[null,""]
[null,""]
[null,""]
[null,""]
[null,""]
[null,""]
[null,""]
[null,""]
[null,""]
[null,""]
[]
[null,""]
[null,""]
[null,""]
[null,""]
[null,""]
[null,""]
[null,""]
[null,""]
[null,""]
[null,""]
[null,""]
[null,""]
[null,""]
[null,""]
[null,""]
[null,""]
[null,""]
[null,""]
[null,""]
[null,""]
[null,""]
[null,""]
[null,""]
[null,""]
[null,""]
[null,""]
[null,""]
[null,""]
[null,""]
[null,""]
[null,""]
[null,""]
[null,""]
[null,""]
[null,""]
[null,""]
[null,""]
[null,""]
[null,""]
[null,""]
[null,""]
[null,""]
[null,""]
[null,""]
[null,""]
[null,""]
[null,""]
[]
[null,""]
[null,""]
[null,""]
[null,""]
[null,""]
[null,""]
[null,""]
[null,""]
[null,""]
[null,""]
[null,""]
[null,""]
[null,""]
[null,""]
[null,""]
[null,""]
[null,""]
[null,""]
[null,""]
[null,""]
[null,""]
[null,""]
[null,""]
[null,""]
[null,""]
[null,""]
[null,""]
[null,""]
[null,""]
[null,""]
[null,""]
[null,""]
[null,""]
[null,""]
[null,""]
[null,""]
[null,""]
[null,""]
[null,""]
[null,""]
[null,""]
[null,""]
[null,""]
[null,""]
[null,""]
[null,""]
[null,""]
[]
[null,""]
[null,""]
[null,""]
[null,""]
[null,""]
[null,""]
[null,""]
[null,""]
[null,""]
[null,""]
[null,""]
[null,""]
[null,""]
[null,""]
[null,""]
[null,""]
[null,""]
[null,""]
[null,""]
[null,""]
[null,""]
[null,""]
[null,""]
[null,""]
[null,""]
[null,""]
[null,""]
[null,""]
[null,""]
[null,""]
[null,""]
[null,""]
[null,""]
[null,""]
[null,""]
[null,""]
[null,""]
[null,""]
[null,""]
[null,""]
[null,""]
[null,""]
[null,""]
[null,""]
[null,""]
[null,""]
[null,""]
[]
[null,""]
[null,""]
[null,""]
[null,""]
[null,""]
[null,""]
[null,""]
[null,""]
[null,""]
[null,""]
[null,""]
[null,""]
[null,""]
[null,""]
[null,""]
[null,""]
[null,""]
[null,""]
[null,""]
[null,""]
[null,""]
[null,""]
[null,""]
[null,""]
[null,""]
[null,""]
[null,""]
[null,""]
[null,""]
[null,""]
[null,""]
[null,""]
[null,""]
[null,""]
[null,""]
[null,""]
[null,""]
[null,""]
[null,""]
[null,""]
[null,""]
[null,""]
[null,""]
[null,""]
[null,""]
[null,""]
[null,""]
[]
[null,""]
[null,""]
[null,""]
[null,""]
[null,""]
[null,""]
[null,""]
[null,""]
[null,""]
[null,""]
[null,""]
[null,""]
[null,""]
[null,""]
[null,""]
[null,""]
[null,""]
[null,""]
[null,""]
[null,""]
[null,""]
[null,""]
[null,""]
[null,""]
[null,""]
[null,""]
[null,""]
[null,""]
[null,""]
[null,""]
[null,""]
[null,""]
[null,""]
[null,""]
[null,""]
[null,""]
[null,""]
[null,""]
[null,""]
[null,""]
[null,""]
[null,""]
[null,""]
[null,""]
[null,""]
[null,""]
[null,""]
[]
[null,""]
[null,""]
[null,""]
[null,""]
[null,""]
[null,""]
[null,""]
[null,""]
[null,""]
[null,""]
[null,""]
[null,""]
[null,""]
[null,""]
[null,""]
[null,""]
[null,""]
[null,""]
[null,""]
[null,""]
[null,""]
[null,""]
[null,""]
[null,""]
[null,""]
[null,""]
[null,""]
[null,""]
[null,""]
[null,""]
[null,""]
[null,""]
[null,""]
[null,""]
[null,""]
[null,""]
[null,""]
[null,""]
[null,""]
[null,""]
[null,""]
[null,""]
[null,""]
[null,""]
[null,""]
[null,""]
[null,""]
[]
[null,""]
[null,""]
[null,""]
[null,""]
[null,""]
[null,""]
[null,""]
[null,""]
[null,""]
[null,""]
[null,""]
[null,""]
[null,""]
[null,""]
[null,""]
[null,""]
[null,""]
[null,""]
[null,""]
[null,""]
[null,""]
[null,""]
[null,""]
[null,""]
[null,""]
[null,""]
[null,""]
[null,""]
[null,""]
[null,""]
[null,""]
[null,""]
[null,""]
[null,""]
[null,""]
[null,""]
[null,""]
[null,""]
[null,""]
[null,""]
[null,""]
[null,""]
[null,""]
[null,""]
[null,""]
[null,""]
[null,""]
[]
[null,""]
[null,""]
[null,""]
[null,""]
[null,""]
[null,""]
[null,""]
[null,""]
[null,""]
[null,""]
[null,""]
[null,""]
[null,""]
[null,""]
[null,""]
[null,""]
[null,""]
[null,""]
[null,""]
[null,""]
[null,""]
[null,""]
[null,""]
[null,""]
[null,""]
[null,""]
[null,""]
[null,""]
[null,""]
[null,""]
[null,""]
[null,""]
[null,""]
[null,""]
[null,""]
[null,""]
[null,""]
[null,""]
[null,""]
[null,""]
[null,""]
[null,""]
[null,""]
[null,""]
[null,""]
[null,""]
[null,""]
[]
[null,""]
[null,""]
[null,""]
[null,""]
[null,""]
[null,""]
[null,""]
[null,""]
[null,""]
[null,""]
[null,""]
[null,""]
[null,""]
[null,""]
[null,""]
[null,""]
[null,""]
[null,""]
[null,""]
[null,""]
[null,""]
[null,""]
[null,""]
[null,""]
[null,""]
[null,""]
[null,""]
[null,""]
[null,""]
[null,""]
[null,""]
[null,""]
[null,""]
[null,""]
[null,""]
[null,""]
[null,""]
[null,""]
[null,""]
[null,""]
[null,""]
[null,""]
[null,""]
[null,""]
[null,""]
[null,""]
[null,""]
[]
[null,""]
[null,""]
[null,""]
[null,""]
[null,""]
[null,""]
[null,""]
[null,""]
[null,""]
[null,""]
[null,""]
[null,""]
[null,""]
[null,""]
[null,""]
[null,""]
[null,""]
[null,""]
[null,""]
[null,""]
[null,""]
[null,""]
[null,""]
[null,""]
[null,""]
[null,""]
[null,""]
[null,""]
[null,""]
[null,""]
[null,""]
[null,""]
[null,""]
[null,""]
[null,""]
[null,""]
[null,""]
[null,""]
[null,""]
[null,""]
[null,""]
[null,""]
[null,""]
[null,""]
[null,""]
[null,""]
[null,""]
[]
[null,""]
[null,""]
[null,""]
[null,""]
[null,""]
[null,""]
[null,""]
[null,""]
[null,""]
[null,""]
[null,""]
[null,""]
[null,""]
[null,""]
[null,""]
[null,""]
[null,""]
[null,""]
[null,""]
[null,""]
[null,""]
[null,""]
[null,""]
[null,""]
[null,""]
[null,""]
[null,""]
[null,""]
[null,""]
[null,""]
[null,""]
[null,""]
[null,""]
[null,""]
[null,""]
[null,""]
[null,""]
[null,""]
[null,""]
[null,""]
[null,""]
[null,""]
[null,""]
[null,""]
[null,""]
[null,""]
[null,""]
[]
[null,""]
[null,""]
[null,""]
[null,""]
[null,""]
[null,""]
[null,""]
[null,""]
[null,""]
[null,""]
[null,""]
[null,""]
[null,""]
[null,""]
[null,""]
[null,""]
[null,""]
[null,""]
[null,""]
[null,""]
[null,""]
[null,""]
[null,""]
[null,""]
[null,""]
[null,""]
[null,""]
[null,""]
[null,""]
[null,""]
[null,""]
[null,""]
[null,""]
[null,""]
[null,""]
[null,""]
[null,""]
[null,""]
[null,""]
[null,""]
[null,""]
[null,""]
[null,""]
[null,""]
[null,""]
[null,""]
[null,""]
[]
[null,""]
[null,""]
[null,""]
[null,""]
[null,""]
[null,""]
[null,""]
[null,""]
[null,""]
[null,""]
[null,""]
[null,""]
[null,""]
[null,""]
[null,""]
[null,""]
[null,""]
[null,""]
[null,""]
[null,""]
[null,""]
[null,""]
[null,""]
[null,""]
[null,""]
[null,""]
[null,""]
[null,""]
[null,""]
[null,""]
[null,""]
[null,""]
[null,""]
[null,""]
[null,""]
[null,""]
[null,""]
[null,""]
[null,""]
[null,""]
[null,""]
[null,""]
[null,""]
[null,""]
[null,""]
[null,""]
[null,""]
[]
[null,""]
[null,""]
[null,""]
[null,""]
[null,""]
[null,""]
[null,""]
[null,""]
[null,""]
[null,""]
[null,""]
[null,""]
[null,""]
[null,""]
[null,""]
[null,""]
[null,""]
[null,""]
[null,""]
[null,""]
[null,""]
[null,""]
[null,""]
[null,""]
[null,""]
[null,""]
[null,""]
[null,""]
[null,""]
[null,""]
[null,""]
[null,""]
[null,""]
[null,""]
[null,""]
[null,""]
[null,""]
[null,""]
[null,""]
[null,""]
[null,""]
[null,""]
[null,""]
[null,""]
[null,""]
[null,""]
[null,""]
[]
[null,""]
[null,""]
[null,""]
[null,""]
[null,""]
[null,""]
[null,""]
[null,""]
[null,""]
[null,""]
[null,""]
[null,""]
[null,""]
[null,""]
[null,""]
[null,""]
[null,""]
[null,""]
[null,""]
[null,""]
[null,""]
[null,""]
[null,""]
[null,""]
[null,""]
[null,""]
[null,""]
[null,""]
[null,""]
[null,""]
[null,""]
[null,""]
[null,""]
[null,""]
[null,""]
[null,""]
[null,""]
[null,""]
[null,""]
[null,""]
[null,""]
[null,""]
[null,""]
[null,""]
[null,""]
[null,""]
[null,""]
[]
[null,""]
[null,""]
[null,""]
[null,""]
[null,""]
[null,""]
[null,""]
[null,""]
[null,""]
[null,""]
[null,""]
[null,""]
[null,""]
[null,""]
[null,""]
[null,""]
[null,""]
[null,""]
[null,""]
[null,""]
[null,""]
[null,""]
[null,""]
[null,""]
[null,""]
[null,""]
[null,""]
[null,""]
[null,""]
[null,""]
[null,""]
[null,""]
[null,""]
[null,""]
[null,""]
[null,""]
[null,""]
[null,""]
[null,""]
[null,""]
[null,""]
[null,""]
[null,""]
[null,""]
[null,""]
[null,""]
[null,""]
[]
[null,""]
[null,""]
[null,""]
[null,""]
[null,""]
[null,""]
[null,""]
[null,""]
[null,""]
[null,""]
[null,""]
[null,""]
[null,""]
[null,""]
[null,""]
[null,""]
[null,""]
[null,""]
[null,""]
[null,""]
[null,""]
[null,""]
[null,""]
[null,""]
[null,""]
[null,""]
[null,""]
[null,""]
[null,""]
[null,""]
[null,""]
[null,""]
[null,""]
[null,""]
[null,""]
[null,""]
[null,""]
[null,""]
[null,""]
[null,""]
[null,""]
[null,""]
[null,""]
[null,""]
[null,""]
[null,""]
[null,""]
[]
[null,""]
[null,""]
[null,""]
[null,""]
[null,""]
[null,""]
[null,""]
[null,""]
[null,""]
[null,""]
[null,""]
[null,""]
[null,""]
[null,""]
[null,""]
[null,""]
[null,""]
[null,""]
[null,""]
[null,""]
[null,""]
[null,""]
[null,""]
[null,""]
[null,""]
[null,""]
[null,""]
[null,""]
[null,""]
[null,""]
[null,""]
[null,""]
[null,""]
[null,""]
[null,""]
[null,""]
[null,""]
[null,""]
[null,""]
[null,""]
[null,""]
[null,""]
[null,""]
[null,""]
[null,""]
[null,""]
[null,""]
[]
[null,""]
[null,""]
[null,""]
[null,""]
[null,""]
[null,""]
[null,""]
[null,""]
[null,""]
[null,""]
[null,""]
[null,""]
[null,""]
[null,""]
[null,""]
[null,""]
[null,""]
[null,""]
[null,""]
[null,""]
[null,""]
[null,""]
[null,""]
[null,""]
[null,""]
[null,""]
[null,""]
[null,""]
[null,""]
[null,""]
[null,""]
[null,""]
[null,""]
[null,""]
[null,""]
[null,""]
[null,""]
[null,""]
[null,""]
[null,""]
[null,""]
[null,""]
[null,""]
[null,""]
[null,""]
[null,""]
[null,""]
[]
[null,""]
[null,""]
[null,""]
[null,""]
[null,""]
[null,""]
[null,""]
[null,""]
[null,""]
[null,""]
[null,""]
[null,""]
[null,""]
[null,""]
[null,""]
[null,""]
[null,""]
[null,""]
[null,""]
[null,""]
[null,""]
[null,""]
[null,""]
[null,""]
[null,""]
[null,""]
[null,""]
[null,""]
[null,""]
[null,""]
[null,""]
[null,""]
[null,""]
[null,""]
[null,""]
[null,""]
[null,""]
[null,""]
[null,""]
[null,""]
[null,""]
[null,""]
[null,""]
[null,""]
[null,""]
[null,""]
[null,""]
[]
[null,""]
[null,""]
[null,""]
[null,""]
[null,""]
[null,""]
[null,""]
[null,""]
[null,""]
[null,""]
[null,""]
[null,""]
[null,""]
[null,""]
[null,""]
[null,""]
[null,""]
[null,""]
[null,""]
[null,""]
[null,""]
[null,""]
[null,""]
[null,""]
[null,""]
[null,""]
[null,""]
[null,""]
[null,""]
[null,""]
[null,""]
[null,""]
[null,""]
[null,""]
[null,""]
[null,""]
[null,""]
[null,""]
[null,""]
[null,""]
[null,""]
[null,""]
[null,""]
[null,""]
[null,""]
[null,""]
[null,""]
[]
[null,""]
[null,""]
[null,""]
[null,""]
[null,""]
[null,""]
[null,""]
[null,""]
[null,""]
[null,""]
[null,""]
[null,""]
[null,""]
[null,""]
[null,""]
[null,""]
[null,""]
[null,""]
[null,""]
[null,""]
[null,""]
[null,""]
[null,""]
[null,""]
[null,""]
[null,""]
[null,""]
[null,""]
[null,""]
[null,""]
[null,""]
[null,""]
[null,""]
[null,""]
[null,""]
[null,""]
[null,""]
[null,""]
[null,""]
[null,""]
[null,""]
[null,""]
[null,""]
[null,""]
[null,""]
[null,""]
[null,""]
[]
[null,""]
[null,""]
[null,""]
[null,""]
[null,""]
[null,""]
[null,""]
[null,""]
[null,""]
[null,""]
[null,""]
[null,""]
[null,""]
[null,""]
[null,""]
[null,""]
[null,""]
[null,""]
[null,""]
[null,""]
[null,""]
[null,""]
[null,""]
[null,""]
[null,""]
[null,""]
[null,""]
[null,""]
[null,""]
[null,""]
[null,""]
[null,""]
[null,""]
[null,""]
[null,""]
[null,""]
[null,""]
[null,""]
[null,""]
[null,""]
[null,""]
[null,""]
[null,""]
[null,""]
[null,""]
[null,""]
[null,""]
[]
[null,""]
[null,""]
[null,""]
[null,""]
[null,""]
[null,""]
[null,""]
[null,""]
[null,""]
[null,""]
[null,""]
[null,""]
[null,""]
[null,""]
[null,""]
[null,""]
[null,""]
[null,""]
[null,""]
[null,""]
[null,""]
[null,""]
[null,""]
[null,""]
[null,""]
[null,""]
[null,""]
[null,""]
[null,""]
[null,""]
[null,""]
[null,""]
[null,""]
[null,""]
[null,""]
[null,""]
[null,""]
[null,""]
[null,""]
[null,""]
[null,""]
[null,""]
[null,""]
[null,""]
[null,""]
[null,""]
[null,""]
[]
[null,""]
[null,""]
[null,""]
[null,""]
[null,""]
[null,""]
[null,""]
[null,""]
[null,""]
[null,""]
[null,""]
[null,""]
[null,""]
[null,""]
[null,""]
[null,""]
[null,""]
[null,""]
[null,""]
[null,""]
[null,""]
[null,""]
[null,""]
[null,""]
[null,""]
[null,""]
[null,""]
[null,""]
[null,""]
[null,""]
[null,""]
[null,""]
[null,""]
[null,""]
[null,""]
[null,""]
[null,""]
[null,""]
[null,""]
[null,""]
[null,""]
[null,""]
[null,""]
[null,""]
[null,""]
[null,""]
[null,""]
[]
[null,""]
[null,""]
[null,""]
[null,""]
[null,""]
[null,""]
[null,""]
[null,""]
[null,""]
[null,""]
[null,""]
[null,""]
[null,""]
[null,""]
[null,""]
[null,""]
[null,""]
[null,""]
[null,""]
[null,""]
[null,""]
[null,""]
[null,""]
[null,""]
[null,""]
[null,""]
[null,""]
[null,""]
[null,""]
[null,""]
[null,""]
[null,""]
[null,""]
[null,""]
[null,""]
[null,""]
[null,""]
[null,""]
[null,""]
[null,""]
[null,""]
[null,""]
[null,""]
[null,""]
[null,""]
[null,""]
[null,""]
[]
[null,""]
[null,""]
[null,""]
[null,""]
[null,""]
[null,""]
[null,""]
[null,""]
[null,""]
[null,""]
[null,""]
[null,""]
[null,""]
[null,""]
[null,""]
[null,""]
[null,""]
[null,""]
[null,""]
[null,""]
[null,""]
[null,""]
[null,""]
[null,""]
[null,""]
[null,""]
[null,""]
[null,""]
[null,""]
[null,""]
[null,""]
[null,""]
[null,""]
[null,""]
[null,""]
[null,""]
[null,""]
[null,""]
[null,""]
[null,""]
[null,""]
[null,""]
[null,""]
[null,""]
[null,""]
[null,""]
[null,""]
[]
[null,""]
[null,""]
[null,""]
[null,""]
[null,""]
[null,""]
[null,""]
[null,""]
[null,""]
[null,""]
[null,""]
[null,""]
[null,""]
[null,""]
[null,""]
[null,""]
[null,""]
[null,""]
[null,""]
[null,""]
[null,""]
[null,""]
[null,""]
[null,""]
[null,""]
[null,""]
[null,""]
[null,""]
[null,""]
[null,""]
[null,""]
[null,""]
[null,""]
[null,""]
[null,""]
[null,""]
[null,""]
[null,""]
[null,""]
[null,""]
[null,""]
[null,""]
[null,""]
[null,""]
[null,""]
[null,""]
[null,""]
[]
[null,""]
[null,""]
[null,""]
[null,""]
[null,""]
[null,""]
[null,""]
[null,""]
[null,""]
[null,""]
[null,""]
[null,""]
[null,""]
[null,""]
[null,""]
[null,""]
[null,""]
[null,""]
[null,""]
[null,""]
[null,""]
[null,""]
[null,""]
[null,""]
[null,""]
[null,""]
[null,""]
[null,""]
[null,""]
[null,""]
[null,""]
[null,""]
[null,""]
[null,""]
[null,""]
[null,""]
[null,""]
[null,""]
[null,""]
[null,""]
[null,""]
[null,""]
[null,""]
[null,""]
[null,""]
[null,""]
[null,""]
[]
[null,""]
[null,""]
[null,""]
[null,""]
[null,""]
[null,""]
[null,""]
[null,""]
[null,""]
[null,""]
[null,""]
[null,""]
[null,""]
[null,""]
[null,""]
[null,""]
[null,""]
[null,""]
[null,""]
[null,""]
[null,""]
[null,""]
[null,""]
[null,""]
[null,""]
[null,""]
[null,""]
[null,""]
[null,""]
[null,""]
[null,""]
[null,""]
[null,""]
[null,""]
[null,""]
[null,""]
[null,""]
[null,""]
[null,""]
[null,""]
[null,""]
[null,""]
[null,""]
[null,""]
[null,""]
[null,""]
[null,""]
[]
[null,""]
[null,""]
[null,""]
[null,""]
[null,""]
[null,""]
[null,""]
[null,""]
[null,""]
[null,""]
[null,""]
[null,""]
[null,""]
[null,""]
[null,""]
[null,""]
[null,""]
[null,""]
[null,""]
[null,""]
[null,""]
[null,""]
[null,""]
[null,""]
[null,""]
[null,""]
[null,""]
[null,""]
[null,""]
[null,""]
[null,""]
[null,""]
[null,""]
[null,""]
[null,""]
[null,""]
[null,""]
[null,""]
[null,""]
[null,""]
[null,""]
[null,""]
[null,""]
[null,""]
[null,""]
[null,""]
[null,""]
[]
[null,""]
[null,""]
[null,""]
[null,""]
[null,""]
[null,""]
[null,""]
[null,""]
[null,""]
[null,""]
[null,""]
[null,""]
[null,""]
[null,""]
[null,""]
[null,""]
[null,""]
[null,""]
[null,""]
[null,""]
[null,""]
[null,""]
[null,""]
[null,""]
[null,""]
[null,""]
[null,""]
[null,""]
[null,""]
[null,""]
[null,""]
[null,""]
[null,""]
[null,""]
[null,""]
[null,""]
[null,""]
[null,""]
[null,""]
[null,""]
[null,""]
[null,""]
[null,""]
[null,""]
[null,""]
[null,""]
[null,""]
[]
[null,""]
[null,""]
[null,""]
[null,""]
[null,""]
[null,""]
[null,""]
[null,""]
[null,""]
[null,""]
[null,""]
[null,""]
[null,""]
[null,""]
[null,""]
[null,""]
[null,""]
[null,""]
[null,""]
[null,""]
[null,""]
[null,""]
[null,""]
[null,""]
[null,""]
[null,""]
[null,""]
[null,""]
[null,""]
[null,""]
[null,""]
[null,""]
[null,""]
[null,""]
[null,""]
[null,""]
[null,""]
[null,""]
[null,""]
[null,""]
[null,""]
[null,""]
[null,""]
[null,""]
[null,""]
[null,""]
[null,""]
[]
[null,""]
[null,""]
[null,""]
[null,""]
[null,""]
[null,""]
[null,""]
[null,""]
[null,""]
[null,""]
[null,""]
[null,""]
[null,""]
[null,""]
[null,""]
[null,""]
[null,""]
[null,""]
[null,""]
[null,""]
[null,""]
[null,""]
[null,""]
[null,""]
[null,""]
[null,""]
[null,""]
[null,""]
[null,""]
[null,""]
[null,""]
[null,""]
[null,""]
[null,""]
[null,""]
[null,""]
[null,""]
[null,""]
[null,""]
[null,""]
[null,""]
[null,""]
[null,""]
[null,""]
[null,""]
[null,""]
[null,""]
[]
[null,""]
[null,""]
[null,""]
[null,""]
[null,""]
[null,""]
[null,""]
[null,""]
[null,""]
[null,""]
[null,""]
[null,""]
[null,""]
[null,""]
[null,""]
[null,""]
[null,""]
[null,""]
[null,""]
[null,""]
[null,""]
[null,""]
[null,""]
[null,""]
[null,""]
[null,""]
[null,""]
[null,""]
[null,""]
[null,""]
[null,""]
[null,""]
[null,""]
[null,""]
[null,""]
[null,""]
[null,""]
[null,""]
[null,""]
[null,""]
[null,""]
[null,""]
[null,""]
[null,""]
[null,""]
[null,""]
[null,""]
[]
[null,""]
[null,""]
[null,""]
[null,""]
[null,""]
[null,""]
[null,""]
[null,""]
[null,""]
[null,""]
[null,""]
[null,""]
[null,""]
[null,""]
[null,""]
[null,""]
[null,""]
[null,""]
[null,""]
[null,""]
[null,""]
[null,""]
[null,""]
[null,""]
[null,""]
[null,""]
[null,""]
[null,""]
[null,""]
[null,""]
[null,""]
[null,""]
[null,""]
[null,""]
[null,""]
[null,""]
[null,""]
[null,""]
[null,""]
[null,""]
[null,""]
[null,""]
[null,""]
[null,""]
[null,""]
[null,""]
[null,""]
[]
[null,""]
[null,""]
[null,""]
[null,""]
[null,""]
[null,""]
[null,""]
[null,""]
[null,""]
[null,""]
[null,""]
[null,""]
[null,""]
[null,""]
[null,""]
[null,""]
[null,""]
[null,""]
[null,""]
[null,""]
[null,""]
[null,""]
[null,""]
[null,""]
[null,""]
[null,""]
[null,""]
[null,""]
[null,""]
[null,""]
[null,""]
[null,""]
[null,""]
[null,""]
[null,""]
[null,""]
[null,""]
[null,""]
[null,""]
[null,""]
[null,""]
[null,""]
[null,""]
[null,""]
[null,""]
[null,""]
[null,""]
[]
[null,""]
[null,""]
[null,""]
[null,""]
[null,""]
[null,""]
[null,""]
[null,""]
[null,""]
[null,""]
[null,""]
[null,""]
[null,""]
[null,""]
[null,""]
[null,""]
[null,""]
[null,""]
[null,""]
[null,""]
[null,""]
[null,""]
[null,""]
[null,""]
[null,""]
[null,""]
[null,""]
[null,""]
[null,""]
[null,""]
[null,""]
[null,""]
[null,""]
[null,""]
[null,""]
[null,""]
[null,""]
[null,""]
[null,""]
[null,""]
[null,""]
[null,""]
[null,""]
[null,""]
[null,""]
[null,""]
[null,""]
[]
[null,""]
[null,""]
[null,""]
[null,""]
[null,""]
[null,""]
[null,""]
[null,""]
[null,""]
[null,""]
[null,""]
[null,""]
[null,""]
[null,""]
[null,""]
[null,""]
[null,""]
[null,""]
[null,""]
[null,""]
[null,""]
[null,""]
[null,""]
[null,""]
[null,""]
[null,""]
[null,""]
[null,""]
[null,""]
[null,""]
[null,""]
[null,""]
[null,""]
[null,""]
[null,""]
[null,""]
[null,""]
[null,""]
[null,""]
[null,""]
[null,""]
[null,""]
[null,""]
[null,""]
[null,""]
[null,""]
[null,""]
[]
[null,""]
[null,""]
[null,""]
[null,""]
[null,""]
[null,""]
[null,""]
[null,""]
[null,""]
[null,""]
[null,""]
[null,""]
[null,""]
[null,""]
[null,""]
[null,""]
[null,""]
[null,""]
[null,""]
[null,""]
[null,""]
[null,""]
[null,""]
[null,""]
[null,""]
[null,""]
[null,""]
[null,""]
[null,""]
[null,""]
[null,""]
[null,""]
[null,""]
[null,""]
[null,""]
[null,""]
[null,""]
[null,""]
[null,""]
[null,""]
[null,""]
[null,""]
[null,""]
[null,""]
[null,""]
[null,""]
[null,""]
[]
[null,""]
[null,""]
[null,""]
[null,""]
[null,""]
[null,""]
[null,""]
[null,""]
[null,""]
[null,""]
[null,""]
[null,""]
[null,""]
[null,""]
[null,""]
[null,""]
[null,""]
[null,""]
[null,""]
[null,""]
[null,""]
[null,""]
[null,""]
[null,""]
[null,""]
[null,""]
[null,""]
[null,""]
[null,""]
[null,""]
[null,""]
[null,""]
[null,""]
[null,""]
[null,""]
[null,""]
[null,""]
[null,""]
[null,""]
[null,""]
[null,""]
[null,""]
[null,""]
[null,""]
[null,""]
[null,""]
[null,""]
[]
[null,""]
[null,""]
[null,""]
[null,""]
[null,""]
[null,""]
[null,""]
[null,""]
[null,""]
[null,""]
[null,""]
[null,""]
[null,""]
[null,""]
[null,""]
[null,""]
[null,""]
[null,""]
[null,""]
[null,""]
[null,""]
[null,""]
[null,""]
[null,""]
[null,""]
[null,""]
[null,""]
[null,""]
[null,""]
[null,""]
[null,""]
[null,""]
[null,""]
[null,""]
[null,""]
[null,""]
[null,""]
[null,""]
[null,""]
[null,""]
[null,""]
[null,""]
[null,""]
[null,""]
[null,""]
[null,""]
[null,""]
[]
[null,""]
[null,""]
[null,""]
[null,""]
[null,""]
[null,""]
[null,""]
[null,""]
[null,""]
[null,""]
[null,""]
[null,""]
[null,""]
[null,""]
[null,""]
[null,""]
[null,""]
[null,""]
[null,""]
[null,""]
[null,""]
[null,""]
[null,""]
[null,""]
[null,""]
[null,""]
[null,""]
[null,""]
[null,""]
[null,""]
[null,""]
[null,""]
[null,""]
[null,""]
[null,""]
[null,""]
[null,""]
[null,""]
[null,""]
[null,""]
[null,""]
[null,""]
[null,""]
[null,""]
[null,""]
[null,""]
[null,""]
[]
[null,""]
[null,""]
[null,""]
[null,""]
[null,""]
[null,""]
[null,""]
[null,""]
[null,""]
[null,""]
[null,""]
[null,""]
[null,""]
[null,""]
[null,""]
[null,""]
[null,""]
[null,""]
[null,""]
[null,""]
[null,""]
[null,""]
[null,""]
[null,""]
[null,""]
[null,""]
[null,""]
[null,""]
[null,""]
[null,""]
[null,""]
[null,""]
[null,""]
[null,""]
[null,""]
[null,""]
[null,""]
[null,""]
[null,""]
[null,""]
[null,""]
[null,""]
[null,""]
[null,""]
[null,""]
[null,""]
[null,""]
[]
[null,""]
[null,""]
[null,""]
[null,""]
[null,""]
[null,""]
[null,""]
[null,""]
[null,""]
[null,""]
[null,""]
[null,""]
[null,""]
[null,""]
[null,""]
[null,""]
[null,""]
[null,""]
[null,""]
[null,""]
[null,""]
[null,""]
[null,""]
[null,""]
[null,""]
[null,""]
[null,""]
[null,""]
[null,""]
[null,""]
[null,""]
[null,""]
[null,""]
[null,""]
[null,""]
[null,""]
[null,""]
[null,""]
[null,""]
[null,""]
[null,""]
[null,""]
[null,""]
[null,""]
[null,""]
[null,""]
[null,""]
[]
[null,""]
[null,""]
[null,""]
[null,""]
[null,""]
[null,""]
[null,""]
[null,""]
[null,""]
[null,""]
[null,""]
[null,""]
[null,""]
[null,""]
[null,""]
[null,""]
[null,""]
[null,""]
[null,""]
[null,""]
[null,""]
[null,""]
[null,""]
[null,""]
[null,""]
[null,""]
[null,""]
[null,""]
[null,""]
[null,""]
[null,""]
[null,""]
[null,""]
[null,""]
[null,""]
[null,""]
[null,""]
[null,""]
[null,""]
[null,""]
[null,""]
[null,""]
[null,""]
[null,""]
[null,""]
[null,""]
[null,""]
[]
[null,""]
[null,""]
[null,""]
[null,""]
[null,""]
[null,""]
[null,""]
[null,""]
[null,""]
[null,""]
[null,""]
[null,""]
[null,""]
[null,""]
[null,""]
[null,""]
[null,""]
[null,""]
[null,""]
[null,""]
[null,""]
[null,""]
[null,""]
[null,""]
[null,""]
[null,""]
[null,""]
[null,""]
[null,""]
[null,""]
[null,""]
[null,""]
[null,""]
[null,""]
[null,""]
[null,""]
[null,""]
[null,""]
[null,""]
[null,""]
[null,""]
[null,""]
[null,""]
[null,""]
[null,""]
[null,""]
[null,""]
[]
[null,""]
[null,""]
[null,""]
[null,""]
[null,""]
[null,""]
[null,""]
[null,""]
[null,""]
[null,""]
[null,""]
[null,""]
[null,""]
[null,""]
[null,""]
[null,""]
[null,""]
[null,""]
[null,""]
[null,""]
[null,""]
[null,""]
[null,""]
[null,""]
[null,""]
[null,""]
[null,""]
[null,""]
[null,""]
[null,""]
[null,""]
[null,""]
[null,""]
[null,""]
[null,""]
[null,""]
[null,""]
[null,""]
[null,""]
[null,""]
[null,""]
[null,""]
[null,""]
[null,""]
[null,""]
[null,""]
[null,""]
[]
[null,""]
[null,""]
[null,""]
[null,""]
[null,""]
[null,""]
[null,""]
[null,""]
[null,""]
[null,""]
[null,""]
[null,""]
[null,""]
[null,""]
[null,""]
[null,""]
[null,""]
[null,""]
[null,""]
[null,""]
[null,""]
[null,""]
[null,""]
[null,""]
[null,""]
[null,""]
[null,""]
[null,""]
[null,""]
[null,""]
[null,""]
[null,""]
[null,""]
[null,""]
[null,""]
[null,""]
[null,""]
[null,""]
[null,""]
[null,""]
[null,""]
[null,""]
[null,""]
[null,""]
[null,""]
[null,""]
[null,""]
[]
[null,""]
[null,""]
[null,""]
[null,""]
[null,""]
[null,""]
[null,""]
[null,""]
[null,""]
[null,""]
[null,""]
[null,""]
[null,""]
[null,""]
[null,""]
[null,""]
[null,""]
[null,""]
[null,""]
[null,""]
[null,""]
[null,""]
[null,""]
[null,""]
[null,""]
[null,""]
[null,""]
[null,""]
[null,""]
[null,""]
[null,""]
[null,""]
[null,""]
[null,""]
[null,""]
[null,""]
[null,""]
[null,""]
[null,""]
[null,""]
[null,""]
[null,""]
[null,""]
[null,""]
[null,""]
[null,""]
[null,""]
[]
[null,""]
[null,""]
[null,""]
[null,""]
[null,""]
[null,""]
[null,""]
[null,""]
[null,""]
[null,""]
[null,""]
[null,""]
[null,""]
[null,""]
[null,""]
[null,""]
[null,""]
[null,""]
[null,""]
[null,""]
[null,""]
[null,""]
[null,""]
[null,""]
[null,""]
[null,""]
[null,""]
[null,""]
[null,""]
[null,""]
[null,""]
[null,""]
[null,""]
[null,""]
[null,""]
[null,""]
[null,""]
[null,""]
[null,""]
[null,""]
[null,""]
[null,""]
[null,""]
[null,""]
[null,""]
[null,""]
[null,""]
[]
[null,""]
[null,""]
[null,""]
[null,""]
[null,""]
[null,""]
[null,""]
[null,""]
[null,""]
[null,""]
[null,""]
[null,""]
[null,""]
[null,""]
[null,""]
[null,""]
[null,""]
[null,""]
[null,""]
[null,""]
[null,""]
[null,""]
[null,""]
[null,""]
[null,""]
[null,""]
[null,""]
[null,""]
[null,""]
[null,""]
[null,""]
[null,""]
[null,""]
[null,""]
[null,""]
[null,""]
[null,""]
[null,""]
[null,""]
[null,""]
[null,""]
[null,""]
[null,""]
[null,""]
[null,""]
[null,""]
[null,""]
[]
[null,""]
[null,""]
[null,""]
[null,""]
[null,""]
[null,""]
[null,""]
[null,""]
[null,""]
[null,""]
[null,""]
[null,""]
[null,""]
[null,""]
[null,""]
[null,""]
[null,""]
[null,""]
[null,""]
[null,""]
[null,""]
[null,""]
[null,""]
[null,""]
[null,""]
[null,""]
[null,""]
[null,""]
[null,""]
[null,""]
[null,""]
[null,""]
[null,""]
[null,""]
[null,""]
[null,""]
[null,""]
[null,""]
[null,""]
[null,""]
[null,""]
[null,""]
[null,""]
[null,""]
[null,""]
[null,""]
[null,""]
[]
[null,""]
[null,""]
[null,""]
[null,""]
[null,""]
[null,""]
[null,""]
[null,""]
[null,""]
[null,""]
[null,""]
[null,""]
[null,""]
[null,""]
[null,""]
[null,""]
[null,""]
[null,""]
[null,""]
[null,""]
[null,""]
[null,""]
[null,""]
[null,""]
[null,""]
[null,""]
[null,""]
[null,""]
[null,""]
[null,""]
[null,""]
[null,""]
[null,""]
[null,""]
[null,""]
[null,""]
[null,""]
[null,""]
[null,""]
[null,""]
[null,""]
[null,""]
[null,""]
[null,""]
[null,""]
[null,""]
[null,""]
[]
[null,""]
[null,""]
[null,""]
[null,""]
[null,""]
[null,""]
[null,""]
[null,""]
[null,""]
[null,""]
[null,""]
[null,""]
[null,""]
[null,""]
[null,""]
[null,""]
[null,""]
[null,""]
[null,""]
[null,""]
[null,""]
[null,""]
[null,""]
[null,""]
[null,""]
[null,""]
[null,""]
[null,""]
[null,""]
[null,""]
[null,""]
[null,""]
[null,""]
[null,""]
[null,""]
[null,""]
[null,""]
[null,""]
[null,""]
[null,""]
[null,""]
[null,""]
[null,""]
[null,""]
[null,""]
[null,""]
[null,""]
[]
[null,""]
[null,""]
[null,""]
[null,""]
[null,""]
[null,""]
[null,""]
[null,""]
[null,""]
[null,""]
[null,""]
[null,""]
[null,""]
[null,""]
[null,""]
[null,""]
[null,""]
[null,""]
[null,""]
[null,""]
[null,""]
[null,""]
[null,""]
[null,""]
[null,""]
[null,""]
[null,""]
[null,""]
[null,""]
[null,""]
[null,""]
[null,""]
[null,""]
[null,""]
[null,""]
[null,""]
[null,""]
[null,""]
[null,""]
[null,""]
[null,""]
[null,""]
[null,""]
[null,""]
[null,""]
[null,""]
[null,""]
[]
[null,""]
[null,""]
[null,""]
[null,""]
[null,""]
[null,""]
[null,""]
[null,""]
[null,""]
[null,""]
[null,""]
[null,""]
[null,""]
[null,""]
[null,""]
[null,""]
[null,""]
[null,""]
[null,""]
[null,""]
[null,""]
[null,""]
[null,""]
[null,""]
[null,""]
[null,""]
[null,""]
[null,""]
[null,""]
[null,""]
[null,""]
[null,""]
[null,""]
[null,""]
[null,""]
[null,""]
[null,""]
[null,""]
[null,""]
[null,""]
[null,""]
[null,""]
[null,""]
[null,""]
[null,""]
[null,""]
[null,""]
[]
[null,""]
[null,""]
[null,""]
[null,""]
[null,""]
[null,""]
[null,""]
[null,""]
[null,""]
[null,""]
[null,""]
[null,""]
[null,""]
[null,""]
[null,""]
[null,""]
[null,""]
[null,""]
[null,""]
[null,""]
[null,""]
[null,""]
[null,""]
[null,""]
[null,""]
[null,""]
[null,""]
[null,""]
[null,""]
[null,""]
[null,""]
[null,""]
[null,""]
[null,""]
[null,""]
[null,""]
[null,""]
[null,""]
[null,""]
[null,""]
[null,""]
[null,""]
[null,""]
[null,""]
[null,""]
[null,""]
[null,""]
[]
[null,""]
[null,""]
[null,""]
[null,""]
[null,""]
[null,""]
[null,""]
[null,""]
[null,""]
[null,""]
[null,""]
[null,""]
[null,""]
[null,""]
[null,""]
[null,""]
[null,""]
[null,""]
[null,""]
[null,""]
[null,""]
[null,""]
[null,""]
[null,""]
[null,""]
[null,""]
[null,""]
[null,""]
[null,""]
[null,""]
[null,""]
[null,""]
[null,""]
[null,""]
[null,""]
[null,""]
[null,""]
[null,""]
[null,""]
[null,""]
[null,""]
[null,""]
[null,""]
[null,""]
[null,""]
[null,""]
[null,""]
[]
[null,""]
[null,""]
[null,""]
[null,""]
[null,""]
[null,""]
[null,""]
[null,""]
[null,""]
[null,""]
[null,""]
[null,""]
[null,""]
[null,""]
[null,""]
[null,""]
[null,""]
[null,""]
[null,""]
[null,""]
[null,""]
[null,""]
[null,""]
[null,""]
[null,""]
[null,""]
[null,""]
[null,""]
[null,""]
[null,""]
[null,""]
[null,""]
[null,""]
[null,""]
[null,""]
[null,""]
[null,""]
[null,""]
[null,""]
[null,""]
[null,""]
[null,""]
[null,""]
[null,""]
[null,""]
[null,""]
[null,""]
[]
[null,""]
[null,""]
[null,""]
[null,""]
[null,""]
[null,""]
[null,""]
[null,""]
[null,""]
[null,""]
[null,""]
[null,""]
[null,""]
[null,""]
[null,""]
[null,""]
[null,""]
[null,""]
[null,""]
[null,""]
[null,""]
[null,""]
[null,""]
[null,""]
[null,""]
[null,""]
[null,""]
[null,""]
[null,""]
[null,""]
[null,""]
[null,""]
[null,""]
[null,""]
[null,""]
[null,""]
[null,""]
[null,""]
[null,""]
[null,""]
[null,""]
[null,""]
[null,""]
[null,""]
[null,""]
[null,""]
[null,""]
[]
[null,""]
[null,""]
[null,""]
[null,""]
[null,""]
[null,""]
[null,""]
[null,""]
[null,""]
[null,""]
[null,""]
[null,""]
[null,""]
[null,""]
[null,""]
[null,""]
[null,""]
[null,""]
[null,""]
[null,""]
[null,""]
[null,""]
[null,""]
[null,""]
[null,""]
[null,""]
[null,""]
[null,""]
[null,""]
[null,""]
[null,""]
[null,""]
[null,""]
[null,""]
[null,""]
[null,""]
[null,""]
[null,""]
[null,""]
[null,""]
[null,""]
[null,""]
[null,""]
[null,""]
[null,""]
[null,""]
[null,""]
[]
[null,""]
[null,""]
[null,""]
[null,""]
[null,""]
[null,""]
[null,""]
[null,""]
[null,""]
[null,""]
[null,""]
[null,""]
[null,""]
[null,""]
[null,""]
[null,""]
[null,""]
[null,""]
[null,""]
[null,""]
[null,""]
[null,""]
[null,""]
[null,""]
[null,""]
[null,""]
[null,""]
[null,""]
[null,""]
[null,""]
[null,""]
[null,""]
[null,""]
[null,""]
[null,""]
[null,""]
[null,""]
[null,""]
[null,""]
[null,""]
[null,""]
[null,""]
[null,""]
[null,""]
[null,""]
[null,""]
[null,""]
[]
[null,""]
[null,""]
[null,""]
[null,""]
[null,""]
[null,""]
[null,""]
[null,""]
[null,""]
[null,""]
[null,""]
[null,""]
[null,""]
[null,""]
[null,""]
[null,""]
[null,""]
[null,""]
[null,""]
[null,""]
[null,""]
[null,""]
[null,""]
[null,""]
[null,""]
[null,""]
[null,""]
[null,""]
[null,""]
[null,""]
[null,""]
[null,""]
[null,""]
[null,""]
[null,""]
[null,""]
[null,""]
[null,""]
[null,""]
[null,""]
[null,""]
[null,""]
[null,""]
[null,""]
[null,""]
[null,""]
[null,""]
[]
[null,""]
[null,""]
[null,""]
[null,""]
[null,""]
[null,""]
[null,""]
[null,""]
[null,""]
[null,""]
[null,""]
[null,""]
[null,""]
[null,""]
[null,""]
[null,""]
[null,""]
[null,""]
[null,""]
[null,""]
[null,""]
[null,""]
[null,""]
[null,""]
[null,""]
[null,""]
[null,""]
[null,""]
[null,""]
[null,""]
[null,""]
[null,""]
[null,""]
[null,""]
[null,""]
[null,""]
[null,""]
[null,""]
[null,""]
[null,""]
[null,""]
[null,""]
[null,""]
[null,""]
[null,""]
[null,""]
[null,""]
[]
[null,""]
[null,""]
[null,""]
[null,""]
[null,""]
[null,""]
[null,""]
[null,""]
[null,""]
[null,""]
[null,""]
[null,""]
[null,""]
[null,""]
[null,""]
[null,""]
[null,""]
[null,""]
[null,""]
[null,""]
[null,""]
[null,""]
[null,""]
[null,""]
[null,""]
[null,""]
[null,""]
[null,""]
[null,""]
[null,""]
[null,""]
[null,""]
[null,""]
[null,""]
[null,""]
[null,""]
[null,""]
[null,""]
[null,""]
[null,""]
[null,""]
[null,""]
[null,""]
[null,""]
[null,""]
[null,""]
[null,""]
[]
[null,""]
[null,""]
[null,""]
[null,""]
[null,""]
[null,""]
[null,""]
[null,""]
[null,""]
[null,""]
[null,""]
[null,""]
[null,""]
[null,""]
[null,""]
[null,""]
[null,""]
[null,""]
[null,""]
[null,""]
[null,""]
[null,""]
[null,""]
[null,""]
[null,""]
[null,""]
[null,""]
[null,""]
[null,""]
[null,""]
[null,""]
[null,""]
[null,""]
[null,""]
[null,""]
[null,""]
[null,""]
[null,""]
[null,""]
[null,""]
[null,""]
[null,""]
[null,""]
[null,""]
[null,""]
[null,""]
[null,""]
[]
[null,""]
[null,""]
[null,""]
[null,""]
[null,""]
[null,""]
[null,""]
[null,""]
[null,""]
[null,""]
[null,""]
[null,""]
[null,""]
[null,""]
[null,""]
[null,""]
[null,""]
[null,""]
[null,""]
[null,""]
[null,""]
[null,""]
[null,""]
[null,""]
[null,""]
[null,""]
[null,""]
[null,""]
[null,""]
[null,""]
[null,""]
[null,""]
[null,""]
[null,""]
[null,""]
[null,""]
[null,""]
[null,""]
[null,""]
[null,""]
[null,""]
[null,""]
[null,""]
[null,""]
[null,""]
[null,""]
[null,""]
[]
[null,""]
[null,""]
[null,""]
[null,""]
[null,""]
[null,""]
[null,""]
[null,""]
[null,""]
[null,""]
[null,""]
[null,""]
[null,""]
[null,""]
[null,""]
[null,""]
[null,""]
[null,""]
[null,""]
[null,""]
[null,""]
[null,""]
[null,""]
[null,""]
[null,""]
[null,""]
[null,""]
[null,""]
[null,""]
[null,""]
[null,""]
[null,""]
[null,""]
[null,""]
[null,""]
[null,""]
[null,""]
[null,""]
[null,""]
[null,""]
[null,""]
[null,""]
[null,""]
[null,""]
[null,""]
[null,""]
[null,""]
[]
[null,""]
[null,""]
[null,""]
[null,""]
[null,""]
[null,""]
[null,""]
[null,""]
[null,""]
[null,""]
[null,""]
[null,""]
[null,""]
[null,""]
[null,""]
[null,""]
[null,""]
[null,""]
[null,""]
[null,""]
[null,""]
[null,""]
[null,""]
[null,""]
[null,""]
[null,""]
[null,""]
[null,""]
[null,""]
[null,""]
[null,""]
[null,""]
[null,""]
[null,""]
[null,""]
[null,""]
[null,""]
[null,""]
[null,""]
[null,""]
[null,""]
[null,""]
[null,""]
[null,""]
[null,""]
[null,""]
[null,""]
[]
[null,""]
[null,""]
[null,""]
[null,""]
[null,""]
[null,""]
[null,""]
[null,""]
[null,""]
[null,""]
[null,""]
[null,""]
[null,""]
[null,""]
[null,""]
[null,""]
[null,""]
[null,""]
[null,""]
[null,""]
[null,""]
[null,""]
[null,""]
[null,""]
[null,""]
[null,""]
[null,""]
[null,""]
[null,""]
[null,""]
[null,""]
[null,""]
[null,""]
[null,""]
[null,""]
[null,""]
[null,""]
[null,""]
[null,""]
[null,""]
[null,""]
[null,""]
[null,""]
[null,""]
[null,""]
[null,""]
[null,""]
[]
[null,""]
[null,""]
[null,""]
[null,""]
[null,""]
[null,""]
[null,""]
[null,""]
[null,""]
[null,""]
[null,""]
[null,""]
[null,""]
[null,""]
[null,""]
[null,""]
[null,""]
[null,""]
[null,""]
[null,""]
[null,""]
[null,""]
[null,""]
[null,""]
[null,""]
[null,""]
[null,""]
[null,""]
[null,""]
[null,""]
[null,""]
[null,""]
[null,""]
[null,""]
[null,""]
[null,""]
[null,""]
[null,""]
[null,""]
[null,""]
[null,""]
[null,""]
[null,""]
[null,""]
[null,""]
[null,""]
[null,""]
[]
[null,""]
[null,""]
[null,""]
[null,""]
[null,""]
[null,""]
[null,""]
[null,""]
[null,""]
[null,""]
[null,""]
[null,""]
[null,""]
[null,""]
[null,""]
[null,""]
[null,""]
[null,""]
[null,""]
[null,""]
[null,""]
[null,""]
[null,""]
[null,""]
[null,""]
[null,""]
[null,""]
[null,""]
[null,""]
[null,""]
[null,""]
[null,""]
[null,""]
[null,""]
[null,""]
[null,""]
[null,""]
[null,""]
[null,""]
[null,""]
[null,""]
[null,""]
[null,""]
[null,""]
[null,""]
[null,""]
[null,""]
[]
[null,""]
[null,""]
[null,""]
[null,""]
[null,""]
[null,""]
[null,""]
[null,""]
[null,""]
[null,""]
[null,""]
[null,""]
[null,""]
[null,""]
[null,""]
[null,""]
[null,""]
[null,""]
[null,""]
[null,""]
[null,""]
[null,""]
[null,""]
[null,""]
[null,""]
[null,""]
[null,""]
[null,""]
[null,""]
[null,""]
[null,""]
[null,""]
[null,""]
[null,""]
[null,""]
[null,""]
[null,""]
[null,""]
[null,""]
[null,""]
[null,""]
[null,""]
[null,""]
[null,""]
[null,""]
[null,""]
[null,""]
[]
[null,""]
[null,""]
[null,""]
[null,""]
[null,""]
[null,""]
[null,""]
[null,""]
[null,""]
[null,""]
[null,""]
[null,""]
[null,""]
[null,""]
[null,""]
[null,""]
[null,""]
[null,""]
[null,""]
[null,""]
[null,""]
[null,""]
[null,""]
[null,""]
[null,""]
[null,""]
[null,""]
[null,""]
[null,""]
[null,""]
[null,""]
[null,""]
[null,""]
[null,""]
[null,""]
[null,""]
[null,""]
[null,""]
[null,""]
[null,""]
[null,""]
[null,""]
[null,""]
[null,""]
[null,""]
[null,""]
[null,""]
[]
[null,""]
[null,""]
[null,""]
[null,""]
[null,""]
[null,""]
[null,""]
[null,""]
[null,""]
[null,""]
[null,""]
[null,""]
[null,""]
[null,""]
[null,""]
[null,""]
[null,""]
[null,""]
[null,""]
[null,""]
[null,""]
[null,""]
[null,""]
[null,""]
[null,""]
[null,""]
[null,""]
[null,""]
[null,""]
[null,""]
[null,""]
[null,""]
[null,""]
[null,""]
[null,""]
[null,""]
[null,""]
[null,""]
[null,""]
[null,""]
[null,""]
[null,""]
[null,""]
[null,""]
[null,""]
[null,""]
[null,""]
[]
[null,""]
[null,""]
[null,""]
[null,""]
[null,""]
[null,""]
[null,""]
[null,""]
[null,""]
[null,""]
[null,""]
[null,""]
[null,""]
[null,""]
[null,""]
[null,""]
[null,""]
[null,""]
[null,""]
[null,""]
[null,""]
[null,""]
[null,""]
[null,""]
[null,""]
[null,""]
[null,""]
[null,""]
[null,""]
[null,""]
[null,""]
[null,""]
[null,""]
[null,""]
[null,""]
[null,""]
[null,""]
[null,""]
[null,""]
[null,""]
[null,""]
[null,""]
[null,""]
[null,""]
[null,""]
[null,""]
[null,""]
[]
[null,""]
[null,""]
[null,""]
[null,""]
[null,""]
[null,""]
[null,""]
[null,""]
[null,""]
[null,""]
[null,""]
[null,""]
[null,""]
[null,""]
[null,""]
[null,""]
[null,""]
[null,""]
[null,""]
[null,""]
[null,""]
[null,""]
[null,""]
[null,""]
[null,""]
[null,""]
[null,""]
[null,""]
[null,""]
[null,""]
[null,""]
[null,""]
[null,""]
[null,""]
[null,""]
[null,""]
[null,""]
[null,""]
[null,""]
[null,""]
[null,""]
[null,""]
[null,""]
[null,""]
[null,""]
[null,""]
[null,""]
[]
[null,""]
[null,""]
[null,""]
[null,""]
[null,""]
[null,""]
[null,""]
[null,""]
[null,""]
[null,""]
[null,""]
[null,""]
[null,""]
[null,""]
[null,""]
[null,""]
[null,""]
[null,""]
[null,""]
[null,""]
[null,""]
[null,""]
[null,""]
[null,""]
[null,""]
[null,""]
[null,""]
[null,""]
[null,""]
[null,""]
[null,""]
[null,""]
[null,""]
[null,""]
[null,""]
[null,""]
[null,""]
[null,""]
[null,""]
[null,""]
[null,""]
[null,""]
[null,""]
[null,""]
[null,""]
[null,""]
[null,""]
[]
[null,""]
[null,""]
[null,""]
[null,""]
[null,""]
[null,""]
[null,""]
[null,""]
[null,""]
[null,""]
[null,""]
[null,""]
[null,""]
[null,""]
[null,""]
[null,""]
[null,""]
[null,""]
[null,""]
[null,""]
[null,""]
[null,""]
[null,""]
[null,""]
[null,""]
[null,""]
[null,""]
[null,""]
[null,""]
[null,""]
[null,""]
[null,""]
[null,""]
[null,""]
[null,""]
[null,""]
[null,""]
[null,""]
[null,""]
[null,""]
[null,""]
[null,""]
[null,""]
[null,""]
[null,""]
[null,""]
[null,""]
[]
[null,""]
[null,""]
[null,""]
[null,""]
[null,""]
[null,""]
[null,""]
[null,""]
[null,""]
[null,""]
[null,""]
[null,""]
[null,""]
[null,""]
[null,""]
[null,""]
[null,""]
[null,""]
[null,""]
[null,""]
[null,""]
[null,""]
[null,""]
[null,""]
[null,""]
[null,""]
[null,""]
[null,""]
[null,""]
[null,""]
[null,""]
[null,""]
[null,""]
[null,""]
[null,""]
[null,""]
[null,""]
[null,""]
[null,""]
[null,""]
[null,""]
[null,""]
[null,""]
[null,""]
[null,""]
[null,""]
[null,""]
[]
[null,""]
[null,""]
[null,""]
[null,""]
[null,""]
[null,""]
[null,""]
[null,""]
[null,""]
[null,""]
[null,""]
[null,""]
[null,""]
[null,""]
[null,""]
[null,""]
[null,""]
[null,""]
[null,""]
[null,""]
[null,""]
[null,""]
[null,""]
[null,""]
[null,""]
[null,""]
[null,""]
[null,""]
[null,""]
[null,""]
[null,""]
[null,""]
[null,""]
[null,""]
[null,""]
[null,""]
[null,""]
[null,""]
[null,""]
[null,""]
[null,""]
[null,""]
[null,""]
[null,""]
[null,""]
[null,""]
[null,""]
[]
[null,""]
[null,""]
[null,""]
[null,""]
[null,""]
[null,""]
[null,""]
[null,""]
[null,""]
[null,""]
[null,""]
[null,""]
[null,""]
[null,""]
[null,""]
[null,""]
[null,""]
[null,""]
[null,""]
[null,""]
[null,""]
[null,""]
[null,""]
[null,""]
[null,""]
[null,""]
[null,""]
[null,""]
[null,""]
[null,""]
[null,""]
[null,""]
[null,""]
[null,""]
[null,""]
[null,""]
[null,""]
[null,""]
[null,""]
[null,""]
[null,""]
[null,""]
[null,""]
[null,""]
[null,""]
[null,""]
[null,""]
[]
[null,""]
[null,""]
[null,""]
[null,""]
[null,""]
[null,""]
[null,""]
[null,""]
[null,""]
[null,""]
[null,""]
[null,""]
[null,""]
[null,""]
[null,""]
[null,""]
[null,""]
[null,""]
[null,""]
[null,""]
[null,""]
[null,""]
[null,""]
[null,""]
[null,""]
[null,""]
[null,""]
[null,""]
[null,""]
[null,""]
[null,""]
[null,""]
[null,""]
[null,""]
[null,""]
[null,""]
[null,""]
[null,""]
[null,""]
[null,""]
[null,""]
[null,""]
[null,""]
[null,""]
[null,""]
[null,""]
[null,""]
[]
[null,""]
[null,""]
[null,""]
[null,""]
[null,""]
[null,""]
[null,""]
[null,""]
[null,""]
[null,""]
[null,""]
[null,""]
[null,""]
[null,""]
[null,""]
[null,""]
[null,""]
[null,""]
[null,""]
[null,""]
[null,""]
[null,""]
[null,""]
[null,""]
[null,""]
[null,""]
[null,""]
[null,""]
[null,""]
[null,""]
[null,""]
[null,""]
[null,""]
[null,""]
[null,""]
[null,""]
[null,""]
[null,""]
[null,""]
[null,""]
[null,""]
[null,""]
[null,""]
[null,""]
[null,""]
[null,""]
[null,""]
[]
[null,""]
[null,""]
[null,""]
[null,""]
[null,""]
[null,""]
[null,""]
[null,""]
[null,""]
[null,""]
[null,""]
[null,""]
[null,""]
[null,""]
[null,""]
[null,""]
[null,""]
[null,""]
[null,""]
[null,""]
[null,""]
[null,""]
[null,""]
[null,""]
[null,""]
[null,""]
[null,""]
[null,""]
[null,""]
[null,""]
[null,""]
[null,""]
[null,""]
[null,""]
[null,""]
[null,""]
[null,""]
[null,""]
[null,""]
[null,""]
[null,""]
[null,""]
[null,""]
[null,""]
[null,""]
[null,""]
[null,""]
[]
[null,""]
[null,""]
[null,""]
[null,""]
[null,""]
[null,""]
[null,""]
[null,""]
[null,""]
[null,""]
[null,""]
[null,""]
[null,""]
[null,""]
[null,""]
[null,""]
[null,""]
[null,""]
[null,""]
[null,""]
[null,""]
[null,""]
[null,""]
[null,""]
[null,""]
[null,""]
[null,""]
[null,""]
[null,""]
[null,""]
[null,""]
[null,""]
[null,""]
[null,""]
[null,""]
[null,""]
[null,""]
[null,""]
[null,""]
[null,""]
[null,""]
[null,""]
[null,""]
[null,""]
[null,""]
[null,""]
[null,""]
[]
[null,""]
[null,""]
[null,""]
[null,""]
[null,""]
[null,""]
[null,""]
[null,""]
[null,""]
[null,""]
[null,""]
[null,""]
[null,""]
[null,""]
[null,""]
[null,""]
[null,""]
[null,""]
[null,""]
[null,""]
[null,""]
[null,""]
[null,""]
[null,""]
[null,""]
[null,""]
[null,""]
[null,""]
[null,""]
[null,""]
[null,""]
[null,""]
[null,""]
[null,""]
[null,""]
[null,""]
[null,""]
[null,""]
[null,""]
[null,""]
[null,""]
[null,""]
[null,""]
[null,""]
[null,""]
[null,""]
[null,""]
[]
[null,""]
[null,""]
[null,""]
[null,""]
[null,""]
[null,""]
[null,""]
[null,""]
[null,""]
[null,""]
[null,""]
[null,""]
[null,""]
[null,""]
[null,""]
[null,""]
[null,""]
[null,""]
[null,""]
[null,""]
[null,""]
[null,""]
[null,""]
[null,""]
[null,""]
[null,""]
[null,""]
[null,""]
[null,""]
[null,""]
[null,""]
[null,""]
[null,""]
[null,""]
[null,""]
[null,""]
[null,""]
[null,""]
[null,""]
[null,""]
[null,""]
[null,""]
[null,""]
[null,""]
[null,""]
[null,""]
[null,""]
[]
[null,""]
[null,""]
[null,""]
[null,""]
[null,""]
[null,""]
[null,""]
[null,""]
[null,""]
[null,""]
[null,""]
[null,""]
[null,""]
[null,""]
[null,""]
[null,""]
[null,""]
[null,""]
[null,""]
[null,""]
[null,""]
[null,""]
[null,""]
[null,""]
[null,""]
[null,""]
[null,""]
[null,""]
[null,""]
[null,""]
[null,""]
[null,""]
[null,""]
[null,""]
[null,""]
[null,""]
[null,""]
[null,""]
[null,""]
[null,""]
[null,""]
[null,""]
[null,""]
[null,""]
[null,""]
[null,""]
[null,""]
[]
[null,""]
[null,""]
[null,""]
[null,""]
[null,""]
[null,""]
[null,""]
[null,""]
[null,""]
[null,""]
[null,""]
[null,""]
[null,""]
[null,""]
[null,""]
[null,""]
[null,""]
[null,""]
[null,""]
[null,""]
[null,""]
[null,""]
[null,""]
[null,""]
[null,""]
[null,""]
[null,""]
[null,""]
[null,""]
[null,""]
[null,""]
[null,""]
[null,""]
[null,""]
[null,""]
[null,""]
[null,""]
[null,""]
[null,""]
[null,""]
[null,""]
[null,""]
[null,""]
[null,""]
[null,""]
[null,""]
[null,""]
[]
[null,""]
[null,""]
[null,""]
[null,""]
[null,""]
[null,""]
[null,""]
[null,""]
[null,""]
[null,""]
[null,""]
[null,""]
[null,""]
[null,""]
[null,""]
[null,""]
[null,""]
[null,""]
[null,""]
[null,""]
[null,""]
[null,""]
[null,""]
[null,""]
[null,""]
[null,""]
[null,""]
[null,""]
[null,""]
[null,""]
[null,""]
[null,""]
[null,""]
[null,""]
[null,""]
[null,""]
[null,""]
[null,""]
[null,""]
[null,""]
[null,""]
[null,""]
[null,""]
[null,""]
[null,""]
[null,""]
[null,""]
[]
[null,""]
[null,""]
[null,""]
[null,""]
[null,""]
[null,""]
[null,""]
[null,""]
[null,""]
[null,""]
[null,""]
[null,""]
[null,""]
[null,""]
[null,""]
[null,""]
[null,""]
[null,""]
[null,""]
[null,""]
[null,""]
[null,""]
[null,""]
[null,""]
[null,""]
[null,""]
[null,""]
[null,""]
[null,""]
[null,""]
[null,""]
[null,""]
[null,""]
[null,""]
[null,""]
[null,""]
[null,""]
[null,""]
[null,""]
[null,""]
[null,""]
[null,""]
[null,""]
[null,""]
[null,""]
[null,""]
[null,""]
[]
[null,""]
[null,""]
[null,""]
[null,""]
[null,""]
[null,""]
[null,""]
[null,""]
[null,""]
[null,""]
[null,""]
[null,""]
[null,""]
[null,""]
[null,""]
[null,""]
[null,""]
[null,""]
[null,""]
[null,""]
[null,""]
[null,""]
[null,""]
[null,""]
[null,""]
[null,""]
[null,""]
[null,""]
[null,""]
[null,""]
[null,""]
[null,""]
[null,""]
[null,""]
[null,""]
[null,""]
[null,""]
[null,""]
[null,""]
[null,""]
[null,""]
[null,""]
[null,""]
[null,""]
[null,""]
[null,""]
[null,""]
[]
[null,""]
[null,""]
[null,""]
[null,""]
[null,""]
[null,""]
[null,""]
[null,""]
[null,""]
[null,""]
[null,""]
[null,""]
[null,""]
[null,""]
[null,""]
[null,""]
[null,""]
[null,""]
[null,""]
[null,""]
[null,""]
[null,""]
[null,""]
[null,""]
[null,""]
[null,""]
[null,""]
[null,""]
[null,""]
[null,""]
[null,""]
[null,""]
[null,""]
[null,""]
[null,""]
[null,""]
[null,""]
[null,""]
[null,""]
[null,""]
[null,""]
[null,""]
[null,""]
[null,""]
[null,""]
[null,""]
[null,""]
[]
[null,""]
[null,""]
[null,""]
[null,""]
[null,""]
[null,""]
[null,""]
[null,""]
[null,""]
[null,""]
[null,""]
[null,""]
[null,""]
[null,""]
[null,""]
[null,""]
[null,""]
[null,""]
[null,""]
[null,""]
[null,""]
[null,""]
[null,""]
[null,""]
[null,""]
[null,""]
[null,""]
[null,""]
[null,""]
[null,""]
[null,""]
[null,""]
[null,""]
[null,""]
[null,""]
[null,""]
[null,""]
[null,""]
[null,""]
[null,""]
[null,""]
[null,""]
[null,""]
[null,""]
[null,""]
[null,""]
[null,""]
[]
[null,""]
[null,""]
[null,""]
[null,""]
[null,""]
[null,""]
[null,""]
[null,""]
[null,""]
[null,""]
[null,""]
[null,""]
[null,""]
[null,""]
[null,""]
[null,""]
[null,""]
[null,""]
[null,""]
[null,""]
[null,""]
[null,""]
[null,""]
[null,""]
[null,""]
[null,""]
[null,""]
[null,""]
[null,""]
[null,""]
[null,""]
[null,""]
[null,""]
[null,""]
[null,""]
[null,""]
[null,""]
[null,""]
[null,""]
[null,""]
[null,""]
[null,""]
[null,""]
[null,""]
[null,""]
[null,""]
[null,""]
[]
[null,""]
[null,""]
[null,""]
[null,""]
[null,""]
[null,""]
[null,""]
[null,""]
[null,""]
[null,""]
[null,""]
[null,""]
[null,""]
[null,""]
[null,""]
[null,""]
[null,""]
[null,""]
[null,""]
[null,""]
[null,""]
[null,""]
[null,""]
[null,""]
[null,""]
[null,""]
[null,""]
[null,""]
[null,""]
[null,""]
[null,""]
[null,""]
[null,""]
[null,""]
[null,""]
[null,""]
[null,""]
[null,""]
[null,""]
[null,""]
[null,""]
[null,""]
[null,""]
[null,""]
[null,""]
[null,""]
[null,""]
[]
[null,""]
[null,""]
[null,""]
[null,""]
[null,""]
[null,""]
[null,""]
[null,""]
[null,""]
[null,""]
[null,""]
[null,""]
[null,""]
[null,""]
[null,""]
[null,""]
[null,""]
[null,""]
[null,""]
[null,""]
[null,""]
[null,""]
[null,""]
[null,""]
[null,""]
[null,""]
[null,""]
[null,""]
[null,""]
[null,""]
[null,""]
[null,""]
[null,""]
[null,""]
[null,""]
[null,""]
[null,""]
[null,""]
[null,""]
[null,""]
[null,""]
[null,""]
[null,""]
[null,""]
[null,""]
[null,""]
[null,""]
[]
[null,""]
[null,""]
[null,""]
[null,""]
[null,""]
[null,""]
[null,""]
[null,""]
[null,""]
[null,""]
[null,""]
[null,""]
[null,""]
[null,""]
[null,""]
[null,""]
[null,""]
[null,""]
[null,""]
[null,""]
[null,""]
[null,""]
[null,""]
[null,""]
[null,""]
[null,""]
[null,""]
[null,""]
[null,""]
[null,""]
[null,""]
[null,""]
[null,""]
[null,""]
[null,""]
[null,""]
[null,""]
[null,""]
[null,""]
[null,""]
[null,""]
[null,""]
[null,""]
[null,""]
[null,""]
[null,""]
[null,""]
[]
[null,""]
[null,""]
[null,""]
[null,""]
[null,""]
[null,""]
[null,""]
[null,""]
[null,""]
[null,""]
[null,""]
[null,""]
[null,""]
[null,""]
[null,""]
[null,""]
[null,""]
[null,""]
[null,""]
[null,""]
[null,""]
[null,""]
[null,""]
[null,""]
[null,""]
[null,""]
[null,""]
[null,""]
[null,""]
[null,""]
[null,""]
[null,""]
[null,""]
[null,""]
[null,""]
[null,""]
[null,""]
[null,""]
[null,""]
[null,""]
[null,""]
[null,""]
[null,""]
[null,""]
[null,""]
[null,""]
[null,""]
[]
[null,""]
[null,""]
[null,""]
[null,""]
[null,""]
[null,""]
[null,""]
[null,""]
[null,""]
[null,""]
[null,""]
[null,""]
[null,""]
[null,""]
[null,""]
[null,""]
[null,""]
[null,""]
[null,""]
[null,""]
[null,""]
[null,""]
[null,""]
[null,""]
[null,""]
[null,""]
[null,""]
[null,""]
[null,""]
[null,""]
[null,""]
[null,""]
[null,""]
[null,""]
[null,""]
[null,""]
[null,""]
[null,""]
[null,""]
[null,""]
[null,""]
[null,""]
[null,""]
[null,""]
[null,""]
[null,""]
[null,""]
[]
[null,""]
[null,""]
[null,""]
[null,""]
[null,""]
[null,""]
[null,""]
[null,""]
[null,""]
[null,""]
[null,""]
[null,""]
[null,""]
[null,""]
[null,""]
[null,""]
[null,""]
[null,""]
[null,""]
[null,""]
[null,""]
[null,""]
[null,""]
[null,""]
[null,""]
[null,""]
[null,""]
[null,""]
[null,""]
[null,""]
[null,""]
[null,""]
[null,""]
[null,""]
[null,""]
[null,""]
[null,""]
[null,""]
[null,""]
[null,""]
[null,""]
[null,""]
[null,""]
[null,""]
[null,""]
[null,""]
[null,""]
[]
[null,""]
[null,""]
[null,""]
[null,""]
[null,""]
[null,""]
[null,""]
[null,""]
[null,""]
[null,""]
[null,""]
[null,""]
[null,""]
[null,""]
[null,""]
[null,""]
[null,""]
[null,""]
[null,""]
[null,""]
[null,""]
[null,""]
[null,""]
[null,""]
[null,""]
[null,""]
[null,""]
[null,""]
[null,""]
[null,""]
[null,""]
[null,""]
[null,""]
[null,""]
[null,""]
[null,""]
[null,""]
[null,""]
[null,""]
[null,""]
[null,""]
[null,""]
[null,""]
[null,""]
[null,""]
[null,""]
[null,""]
[]
[null,""]
[null,""]
[null,""]
[null,""]
[null,""]
[null,""]
[null,""]
[null,""]
[null,""]
[null,""]
[null,""]
[null,""]
[null,""]
[null,""]
[null,""]
[null,""]
[null,""]
[null,""]
[null,""]
[null,""]
[null,""]
[null,""]
[null,""]
[null,""]
[null,""]
[null,""]
[null,""]
[null,""]
[null,""]
[null,""]
[null,""]
[null,""]
[null,""]
[null,""]
[null,""]
[null,""]
[null,""]
[null,""]
[null,""]
[null,""]
[null,""]
[null,""]
[null,""]
[null,""]
[null,""]
[null,""]
[null,""]
[]
[null,""]
[null,""]
[null,""]
[null,""]
[null,""]
[null,""]
[null,""]
[null,""]
[null,""]
[null,""]
[null,""]
[null,""]
[null,""]
[null,""]
[null,""]
[null,""]
[null,""]
[null,""]
[null,""]
[null,""]
[null,""]
[null,""]
[null,""]
[null,""]
[null,""]
[null,""]
[null,""]
[null,""]
[null,""]
[null,""]
[null,""]
[null,""]
[null,""]
[null,""]
[null,""]
[null,""]
[null,""]
[null,""]
[null,""]
[null,""]
[null,""]
[null,""]
[null,""]
[null,""]
[null,""]
[null,""]
[null,""]
[]
[null,""]
[null,""]
[null,""]
[null,""]
[null,""]
[null,""]
[null,""]
[null,""]
[null,""]
[null,""]
[null,""]
[null,""]
[null,""]
[null,""]
[null,""]
[null,""]
[null,""]
[null,""]
[null,""]
[null,""]
[null,""]
[null,""]
[null,""]
[null,""]
[null,""]
[null,""]
[null,""]
[null,""]
[null,""]
[null,""]
[null,""]
[null,""]
[null,""]
[null,""]
[null,""]
[null,""]
[null,""]
[null,""]
[null,""]
[null,""]
[null,""]
[null,""]
[null,""]
[null,""]
[null,""]
[null,""]
[null,""]
[]
[null,""]
[null,""]
[null,""]
[null,""]
[null,""]
[null,""]
[null,""]
[null,""]
[null,""]
[null,""]
[null,""]
[null,""]
[null,""]
[null,""]
[null,""]
[null,""]
[null,""]
[null,""]
[null,""]
[null,""]
[null,""]
[null,""]
[null,""]
[null,""]
[null,""]
[null,""]
[null,""]
[null,""]
[null,""]
[null,""]
[null,""]
[null,""]
[null,""]
[null,""]
[null,""]
[null,""]
[null,""]
[null,""]
[null,""]
[null,""]
[null,""]
[null,""]
[null,""]
[null,""]
[null,""]
[null,""]
[null,""]
[]
[null,""]
[null,""]
[null,""]
[null,""]
[null,""]
[null,""]
[null,""]
[null,""]
[null,""]
[null,""]
[null,""]
[null,""]
[null,""]
[null,""]
[null,""]
[null,""]
[null,""]
[null,""]
[null,""]
[null,""]
[null,""]
[null,""]
[null,""]
[null,""]
[null,""]
[null,""]
[null,""]
[null,""]
[null,""]
[null,""]
[null,""]
[null,""]
[null,""]
[null,""]
[null,""]
[null,""]
[null,""]
[null,""]
[null,""]
[null,""]
[null,""]
[null,""]
[null,""]
[null,""]
[null,""]
[null,""]
[null,""]
[]
[null,""]
[null,""]
[null,""]
[null,""]
[null,""]
[null,""]
[null,""]
[null,""]
[null,""]
[null,""]
[null,""]
[null,""]
[null,""]
[null,""]
[null,""]
[null,""]
[null,""]
[null,""]
[null,""]
[null,""]
[null,""]
[null,""]
[null,""]
[null,""]
[null,""]
[null,""]
[null,""]
[null,""]
[null,""]
[null,""]
[null,""]
[null,""]
[null,""]
[null,""]
[null,""]
[null,""]
[null,""]
[null,""]
[null,""]
[null,""]
[null,""]
[null,""]
[null,""]
[null,""]
[null,""]
[null,""]
[null,""]
[]
[null,""]
[null,""]
[null,""]
[null,""]
[null,""]
[null,""]
[null,""]
[null,""]
[null,""]
[null,""]
[null,""]
[null,""]
[null,""]
[null,""]
[null,""]
[null,""]
[null,""]
[null,""]
[null,""]
[null,""]
[null,""]
[null,""]
[null,""]
[null,""]
[null,""]
[null,""]
[null,""]
[null,""]
[null,""]
[null,""]
[null,""]
[null,""]
[null,""]
[null,""]
[null,""]
[null,""]
[null,""]
[null,""]
[null,""]
[null,""]
[null,""]
[null,""]
[null,""]
[null,""]
[null,""]
[null,""]
[null,""]
[]
[null,""]
[null,""]
[null,""]
[null,""]
[null,""]
[null,""]
[null,""]
[null,""]
[null,""]
[null,""]
[null,""]
[null,""]
[null,""]
[null,""]
[null,""]
[null,""]
[null,""]
[null,""]
[null,""]
[null,""]
[null,""]
[null,""]
[null,""]
[null,""]
[null,""]
[null,""]
[null,""]
[null,""]
[null,""]
[null,""]
[null,""]
[null,""]
[null,""]
[null,""]
[null,""]
[null,""]
[null,""]
[null,""]
[null,""]
[null,""]
[null,""]
[null,""]
[null,""]
[null,""]
[null,""]
[null,""]
[null,""]
[]
[null,""]
[null,""]
[null,""]
[null,""]
[null,""]
[null,""]
[null,""]
[null,""]
[null,""]
[null,""]
[null,""]
[null,""]
[null,""]
[null,""]
[null,""]
[null,""]
[null,""]
[null,""]
[null,""]
[null,""]
[null,""]
[null,""]
[null,""]
[null,""]
[null,""]
[null,""]
[null,""]
[null,""]
[null,""]
[null,""]
[null,""]
[null,""]
[null,""]
[null,""]
[null,""]
[null,""]
[null,""]
[null,""]
[null,""]
[null,""]
[null,""]
[null,""]
[null,""]
[null,""]
[null,""]
[null,""]
[null,""]
[]
[null,""]
[null,""]
[null,""]
[null,""]
[null,""]
[null,""]
[null,""]
[null,""]
[null,""]
[null,""]
[null,""]
[null,""]
[null,""]
[null,""]
[null,""]
[null,""]
[null,""]
[null,""]
[null,""]
[null,""]
[null,""]
[null,""]
[null,""]
[null,""]
[null,""]
[null,""]
[null,""]
[null,""]
[null,""]
[null,""]
[null,""]
[null,""]
[null,""]
[null,""]
[null,""]
[null,""]
[null,""]
[null,""]
[null,""]
[null,""]
[null,""]
[null,""]
[null,""]
[null,""]
[null,""]
[null,""]
[null,""]
[]
[null,""]
[null,""]
[null,""]
[null,""]
[null,""]
[null,""]
[null,""]
[null,""]
[null,""]
[null,""]
[null,""]
[null,""]
[null,""]
[null,""]
[null,""]
[null,""]
[null,""]
[null,""]
[null,""]
[null,""]
[null,""]
[null,""]
[null,""]
[null,""]
[null,""]
[null,""]
[null,""]
[null,""]
[null,""]
[null,""]
[null,""]
[null,""]
[null,""]
[null,""]
[null,""]
[null,""]
[null,""]
[null,""]
[null,""]
[null,""]
[null,""]
[null,""]
[null,""]
[null,""]
[null,""]
[null,""]
[null,""]
[]
[null,""]
[null,""]
[null,""]
[null,""]
[null,""]
[null,""]
[null,""]
[null,""]
[null,""]
[null,""]
[null,""]
[null,""]
[null,""]
[null,""]
[null,""]
[null,""]
[null,""]
[null,""]
[null,""]
[null,""]
[null,""]
[null,""]
[null,""]
[null,""]
[null,""]
[null,""]
[null,""]
[null,""]
[null,""]
[null,""]
[null,""]
[null,""]
[null,""]
[null,""]
[null,""]
[null,""]
[null,""]
[null,""]
[null,""]
[null,""]
[null,""]
[null,""]
[null,""]
[null,""]
[null,""]
[null,""]
[null,""]
[]
[null,""]
[null,""]
[null,""]
[null,""]
[null,""]
[null,""]
[null,""]
[null,""]
[null,""]
[null,""]
[null,""]
[null,""]
[null,""]
[null,""]
[null,""]
[null,""]
[null,""]
[null,""]
[null,""]
[null,""]
[null,""]
[null,""]
[null,""]
[null,""]
[null,""]
[null,""]
[null,""]
[null,""]
[null,""]
[null,""]
[null,""]
[null,""]
[null,""]
[null,""]
[null,""]
[null,""]
[null,""]
[null,""]
[null,""]
[null,""]
[null,""]
[null,""]
[null,""]
[null,""]
[null,""]
[null,""]
[null,""]
[]
[null,""]
[null,""]
[null,""]
[null,""]
[null,""]
[null,""]
[null,""]
[null,""]
[null,""]
[null,""]
[null,""]
[null,""]
[null,""]
[null,""]
[null,""]
[null,""]
[null,""]
[null,""]
[null,""]
[null,""]
[null,""]
[null,""]
[null,""]
[null,""]
[null,""]
[null,""]
[null,""]
[null,""]
[null,""]
[null,""]
[null,""]
[null,""]
[null,""]
[null,""]
[null,""]
[null,""]
[null,""]
[null,""]
[null,""]
[null,""]
[null,""]
[null,""]
[null,""]
[null,""]
[null,""]
[null,""]
[null,""]
[]
[null,""]
[null,""]
[null,""]
[null,""]
[null,""]
[null,""]
[null,""]
[null,""]
[null,""]
[null,""]
[null,""]
[null,""]
[null,""]
[null,""]
[null,""]
[null,""]
[null,""]
[null,""]
[null,""]
[null,""]
[null,""]
[null,""]
[null,""]
[null,""]
[null,""]
[null,""]
[null,""]
[null,""]
[null,""]
[null,""]
[null,""]
[null,""]
[null,""]
[null,""]
[null,""]
[null,""]
[null,""]
[null,""]
[null,""]
[null,""]
[null,""]
[null,""]
[null,""]
[null,""]
[null,""]
[null,""]
[null,""]
[]
[null,""]
[null,""]
[null,""]
[null,""]
[null,""]
[null,""]
[null,""]
[null,""]
[null,""]
[null,""]
[null,""]
[null,""]
[null,""]
[null,""]
[null,""]
[null,""]
[null,""]
[null,""]
[null,""]
[null,""]
[null,""]
[null,""]
[null,""]
[null,""]
[null,""]
[null,""]
[null,""]
[null,""]
[null,""]
[null,""]
[null,""]
[null,""]
[null,""]
[null,""]
[null,""]
[null,""]
[null,""]
[null,""]
[null,""]
[null,""]
[null,""]
[null,""]
[null,""]
[null,""]
[null,""]
[null,""]
[null,""]
[]
[null,""]
[null,""]
[null,""]
[null,""]
[null,""]
[null,""]
[null,""]
[null,""]
[null,""]
[null,""]
[null,""]
[null,""]
[null,""]
[null,""]
[null,""]
[null,""]
[null,""]
[null,""]
[null,""]
[null,""]
[null,""]
[null,""]
[null,""]
[null,""]
[null,""]
[null,""]
[null,""]
[null,""]
[null,""]
[null,""]
[null,""]
[null,""]
[null,""]
[null,""]
[null,""]
[null,""]
[null,""]
[null,""]
[null,""]
[null,""]
[null,""]
[null,""]
[null,""]
[null,""]
[null,""]
[null,""]
[null,""]
[]
[null,""]
[null,""]
[null,""]
[null,""]
[null,""]
[null,""]
[null,""]
[null,""]
[null,""]
[null,""]
[null,""]
[null,""]
[null,""]
[null,""]
[null,""]
[null,""]
[null,""]
[null,""]
[null,""]
[null,""]
[null,""]
[null,""]
[null,""]
[null,""]
[null,""]
[null,""]
[null,""]
[null,""]
[null,""]
[null,""]
[null,""]
[null,""]
[null,""]
[null,""]
[null,""]
[null,""]
[null,""]
[null,""]
[null,""]
[null,""]
[null,""]
[null,""]
[null,""]
[null,""]
[null,""]
[null,""]
[null,""]
[]
[null,""]
[null,""]
[null,""]
[null,""]
[null,""]
[null,""]
[null,""]
[null,""]
[null,""]
[null,""]
[null,""]
[null,""]
[null,""]
[null,""]
[null,""]
[null,""]
[null,""]
[null,""]
[null,""]
[null,""]
[null,""]
[null,""]
[null,""]
[null,""]
[null,""]
[null,""]
[null,""]
[null,""]
[null,""]
[null,""]
[null,""]
[null,""]
[null,""]
[null,""]
[null,""]
[null,""]
[null,""]
[null,""]
[null,""]
[null,""]
[null,""]
[null,""]
[null,""]
[null,""]
[null,""]
[null,""]
[null,""]
[]
[null,""]
[null,""]
[null,""]
[null,""]
[null,""]
[null,""]
[null,""]
[null,""]
[null,""]
[null,""]
[null,""]
[null,""]
[null,""]
[null,""]
[null,""]
[null,""]
[null,""]
[null,""]
[null,""]
[null,""]
[null,""]
[null,""]
[null,""]
[null,""]
[null,""]
[null,""]
[null,""]
[null,""]
[null,""]
[null,""]
[null,""]
[null,""]
[null,""]
[null,""]
[null,""]
[null,""]
[null,""]
[null,""]
[null,""]
[null,""]
[null,""]
[null,""]
[null,""]
[null,""]
[null,""]
[null,""]
[null,""]
[]
[null,""]
[null,""]
[null,""]
[null,""]
[null,""]
[null,""]
[null,""]
[null,""]
[null,""]
[null,""]
[null,""]
[null,""]
[null,""]
[null,""]
[null,""]
[null,""]
[null,""]
[null,""]
[null,""]
[null,""]
[null,""]
[null,""]
[null,""]
[null,""]
[null,""]
[null,""]
[null,""]
[null,""]
[null,""]
[null,""]
[null,""]
[null,""]
[null,""]
[null,""]
[null,""]
[null,""]
[null,""]
[null,""]
[null,""]
[null,""]
[null,""]
[null,""]
[null,""]
[null,""]
[null,""]
[null,""]
[null,""]
[]
[null,""]
[null,""]
[null,""]
[null,""]
[null,""]
[null,""]
[null,""]
[null,""]
[null,""]
[null,""]
[null,""]
[null,""]
[null,""]
[null,""]
[null,""]
[null,""]
[null,""]
[null,""]
[null,""]
[null,""]
[null,""]
[null,""]
[null,""]
[null,""]
[null,""]
[null,""]
[null,""]
[null,""]
[null,""]
[null,""]
[null,""]
[null,""]
[null,""]
[null,""]
[null,""]
[null,""]
[null,""]
[null,""]
[null,""]
[null,""]
[null,""]
[null,""]
[null,""]
[null,""]
[null,""]
[null,""]
[null,""]
[]
[null,""]
[null,""]
[null,""]
[null,""]
[null,""]
[null,""]
[null,""]
[null,""]
[null,""]
[null,""]
[null,""]
[null,""]
[null,""]
[null,""]
[null,""]
[null,""]
[null,""]
[null,""]
[null,""]
[null,""]
[null,""]
[null,""]
[null,""]
[null,""]
[null,""]
[null,""]
[null,""]
[null,""]
[null,""]
[null,""]
[null,""]
[null,""]
[null,""]
[null,""]
[null,""]
[null,""]
[null,""]
[null,""]
[null,""]
[null,""]
[null,""]
[null,""]
[null,""]
[null,""]
[null,""]
[null,""]
[null,""]
[]
[null,""]
[null,""]
[null,""]
[null,""]
[null,""]
[null,""]
[null,""]
[null,""]
[null,""]
[null,""]
[null,""]
[null,""]
[null,""]
[null,""]
[null,""]
[null,""]
[null,""]
[null,""]
[null,""]
[null,""]
[null,""]
[null,""]
[null,""]
[null,""]
[null,""]
[null,""]
[null,""]
[null,""]
[null,""]
[null,""]
[null,""]
[null,""]
[null,""]
[null,""]
[null,""]
[null,""]
[null,""]
[null,""]
[null,""]
[null,""]
[null,""]
[null,""]
[null,""]
[null,""]
[null,""]
[null,""]
[null,""]
[]
[null,""]
[null,""]
[null,""]
[null,""]
[null,""]
[null,""]
[null,""]
[null,""]
[null,""]
[null,""]
[null,""]
[null,""]
[null,""]
[null,""]
[null,""]
[null,""]
[null,""]
[null,""]
[null,""]
[null,""]
[null,""]
[null,""]
[null,""]
[null,""]
[null,""]
[null,""]
[null,""]
[null,""]
[null,""]
[null,""]
[null,""]
[null,""]
[null,""]
[null,""]
[null,""]
[null,""]
[null,""]
[null,""]
[null,""]
[null,""]
[null,""]
[null,""]
[null,""]
[null,""]
[null,""]
[null,""]
[null,""]
[]
[null,""]
[null,""]
[null,""]
[null,""]
[null,""]
[null,""]
[null,""]
[null,""]
[null,""]
[null,""]
[null,""]
[null,""]
[null,""]
[null,""]
[null,""]
[null,""]
[null,""]
[null,""]
[null,""]
[null,""]
[null,""]
[null,""]
[null,""]
[null,""]
[null,""]
[null,""]
[null,""]
[null,""]
[null,""]
[null,""]
[null,""]
[null,""]
[null,""]
[null,""]
[null,""]
[null,""]
[null,""]
[null,""]
[null,""]
[null,""]
[null,""]
[null,""]
[null,""]
[null,""]
[null,""]
[null,""]
[null,""]
[]
[null,""]
[null,""]
[null,""]
[null,""]
[null,""]
[null,""]
[null,""]
[null,""]
[null,""]
[null,""]
[null,""]
[null,""]
[null,""]
[null,""]
[null,""]
[null,""]
[null,""]
[null,""]
[null,""]
[null,""]
[null,""]
[null,""]
[null,""]
[null,""]
[null,""]
[null,""]
[null,""]
[null,""]
[null,""]
[null,""]
[null,""]
[null,""]
[null,""]
[null,""]
[null,""]
[null,""]
[null,""]
[null,""]
[null,""]
[null,""]
[null,""]
[null,""]
[null,""]
[null,""]
[null,""]
[null,""]
[null,""]
[]
[null,""]
[null,""]
[null,""]
[null,""]
[null,""]
[null,""]
[null,""]
[null,""]
[null,""]
[null,""]
[null,""]
[null,""]
[null,""]
[null,""]
[null,""]
[null,""]
[null,""]
[null,""]
[null,""]
[null,""]
[null,""]
[null,""]
[null,""]
[null,""]
[null,""]
[null,""]
[null,""]
[null,""]
[null,""]
[null,""]
[null,""]
[null,""]
[null,""]
[null,""]
[null,""]
[null,""]
[null,""]
[null,""]
[null,""]
[null,""]
[null,""]
[null,""]
[null,""]
[null,""]
[null,""]
[null,""]
[null,""]
[]
[null,""]
[null,""]
[null,""]
[null,""]
[null,""]
[null,""]
[null,""]
[null,""]
[null,""]
[null,""]
[null,""]
[null,""]
[null,""]
[null,""]
[null,""]
[null,""]
[null,""]
[null,""]
[null,""]
[null,""]
[null,""]
[null,""]
[null,""]
[null,""]
[null,""]
[null,""]
[null,""]
[null,""]
[null,""]
[null,""]
[null,""]
[null,""]
[null,""]
[null,""]
[null,""]
[null,""]
[null,""]
[null,""]
[null,""]
[null,""]
[null,""]
[null,""]
[null,""]
[null,""]
[null,""]
[null,""]
[null,""]
[]
[null,""]
[null,""]
[null,""]
[null,""]
[null,""]
[null,""]
[null,""]
[null,""]
[null,""]
[null,""]
[null,""]
[null,""]
[null,""]
[null,""]
[null,""]
[null,""]
[null,""]
[null,""]
[null,""]
[null,""]
[null,""]
[null,""]
[null,""]
[null,""]
[null,""]
[null,""]
[null,""]
[null,""]
[null,""]
[null,""]
[null,""]
[null,""]
[null,""]
[null,""]
[null,""]
[null,""]
[null,""]
[null,""]
[null,""]
[null,""]
[null,""]
[null,""]
[null,""]
[null,""]
[null,""]
[null,""]
[null,""]
[]
[null,""]
[null,""]
[null,""]
[null,""]
[null,""]
[null,""]
[null,""]
[null,""]
[null,""]
[null,""]
[null,""]
[null,""]
[null,""]
[null,""]
[null,""]
[null,""]
[null,""]
[null,""]
[null,""]
[null,""]
[null,""]
[null,""]
[null,""]
[null,""]
[null,""]
[null,""]
[null,""]
[null,""]
[null,""]
[null,""]
[null,""]
[null,""]
[null,""]
[null,""]
[null,""]
[null,""]
[null,""]
[null,""]
[null,""]
[null,""]
[null,""]
[null,""]
[null,""]
[null,""]
[null,""]
[null,""]
[null,""]
[]
[null,""]
[null,""]
[null,""]
[null,""]
[null,""]
[null,""]
[null,""]
[null,""]
[null,""]
[null,""]
[null,""]
[null,""]
[null,""]
[null,""]
[null,""]
[null,""]
[null,""]
[null,""]
[null,""]
[null,""]
[null,""]
[null,""]
[null,""]
[null,""]
[null,""]
[null,""]
[null,""]
[null,""]
[null,""]
[null,""]
[null,""]
[null,""]
[null,""]
[null,""]
[null,""]
[null,""]
[null,""]
[null,""]
[null,""]
[null,""]
[null,""]
[null,""]
[null,""]
[null,""]
[null,""]
[null,""]
[null,""]
[]
[null,""]
[null,""]
[null,""]
[null,""]
[null,""]
[null,""]
[null,""]
[null,""]
[null,""]
[null,""]
[null,""]
[null,""]
[null,""]
[null,""]
[null,""]
[null,""]
[null,""]
[null,""]
[null,""]
[null,""]
[null,""]
[null,""]
[null,""]
[null,""]
[null,""]
[null,""]
[null,""]
[null,""]
[null,""]
[null,""]
[null,""]
[null,""]
[null,""]
[null,""]
[null,""]
[null,""]
[null,""]
[null,""]
[null,""]
[null,""]
[null,""]
[null,""]
[null,""]
[null,""]
[null,""]
[null,""]
[null,""]
[]
[null,""]
[null,""]
[null,""]
[null,""]
[null,""]
[null,""]
[null,""]
[null,""]
[null,""]
[null,""]
[null,""]
[null,""]
[null,""]
[null,""]
[null,""]
[null,""]
[null,""]
[null,""]
[null,""]
[null,""]
[null,""]
[null,""]
[null,""]
[null,""]
[null,""]
[null,""]
[null,""]
[null,""]
[null,""]
[null,""]
[null,""]
[null,""]
[null,""]
[null,""]
[null,""]
[null,""]
[null,""]
[null,""]
[null,""]
[null,""]
[null,""]
[null,""]
[null,""]
[null,""]
[null,""]
[null,""]
[null,""]
[]
[null,""]
[null,""]
[null,""]
[null,""]
[null,""]
[null,""]
[null,""]
[null,""]
[null,""]
[null,""]
[null,""]
[null,""]
[null,""]
[null,""]
[null,""]
[null,""]
[null,""]
[null,""]
[null,""]
[null,""]
[null,""]
[null,""]
[null,""]
[null,""]
[null,""]
[null,""]
[null,""]
[null,""]
[null,""]
[null,""]
[null,""]
[null,""]
[null,""]
[null,""]
[null,""]
[null,""]
[null,""]
[null,""]
[null,""]
[null,""]
[null,""]
[null,""]
[null,""]
[null,""]
[null,""]
[null,""]
[null,""]
[]
[null,""]
[null,""]
[null,""]
[null,""]
[null,""]
[null,""]
[null,""]
[null,""]
[null,""]
[null,""]
[null,""]
[null,""]
[null,""]
[null,""]
[null,""]
[null,""]
[null,""]
[null,""]
[null,""]
[null,""]
[null,""]
[null,""]
[null,""]
[null,""]
[null,""]
[null,""]
[null,""]
[null,""]
[null,""]
[null,""]
[null,""]
[null,""]
[null,""]
[null,""]
[null,""]
[null,""]
[null,""]
[null,""]
[null,""]
[null,""]
[null,""]
[null,""]
[null,""]
[null,""]
[null,""]
[null,""]
[null,""]
[]
[null,""]
[null,""]
[null,""]
[null,""]
[null,""]
[null,""]
[null,""]
[null,""]
[null,""]
[null,""]
[null,""]
[null,""]
[null,""]
[null,""]
[null,""]
[null,""]
[null,""]
[null,""]
[null,""]
[null,""]
[null,""]
[null,""]
[null,""]
[null,""]
[null,""]
[null,""]
[null,""]
[null,""]
[null,""]
[null,""]
[null,""]
[null,""]
[null,""]
[null,""]
[null,""]
[null,""]
[null,""]
[null,""]
[null,""]
[null,""]
[null,""]
[null,""]
[null,""]
[null,""]
[null,""]
[null,""]
[null,""]
[]
[null,""]
[null,""]
[null,""]
[null,""]
[null,""]
[null,""]
[null,""]
[null,""]
[null,""]
[null,""]
[null,""]
[null,""]
[null,""]
[null,""]
[null,""]
[null,""]
[null,""]
[null,""]
[null,""]
[null,""]
[null,""]
[null,""]
[null,""]
[null,""]
[null,""]
[null,""]
[null,""]
[null,""]
[null,""]
[null,""]
[null,""]
[null,""]
[null,""]
[null,""]
[null,""]
[null,""]
[null,""]
[null,""]
[null,""]
[null,""]
[null,""]
[null,""]
[null,""]
[null,""]
[null,""]
[null,""]
[null,""]
[]
[null,""]
[null,""]
[null,""]
[null,""]
[null,""]
[null,""]
[null,""]
[null,""]
[null,""]
[null,""]
[null,""]
[null,""]
[null,""]
[null,""]
[null,""]
[null,""]
[null,""]
[null,""]
[null,""]
[null,""]
[null,""]
[null,""]
[null,""]
[null,""]
[null,""]
[null,""]
[null,""]
[null,""]
[null,""]
[null,""]
[null,""]
[null,""]
[null,""]
[null,""]
[null,""]
[null,""]
[null,""]
[null,""]
[null,""]
[null,""]
[null,""]
[null,""]
[null,""]
[null,""]
[null,""]
[null,""]
[null,""]
[]
[null,""]
[null,""]
[null,""]
[null,""]
[null,""]
[null,""]
[null,""]
[null,""]
[null,""]
[null,""]
[null,""]
[null,""]
[null,""]
[null,""]
[null,""]
[null,""]
[null,""]
[null,""]
[null,""]
[null,""]
[null,""]
[null,""]
[null,""]
[null,""]
[null,""]
[null,""]
[null,""]
[null,""]
[null,""]
[null,""]
[null,""]
[null,""]
[null,""]
[null,""]
[null,""]
[null,""]
[null,""]
[null,""]
[null,""]
[null,""]
[null,""]
[null,""]
[null,""]
[null,""]
[null,""]
[null,""]
[null,""]
[]
[null,""]
[null,""]
[null,""]
[null,""]
[null,""]
[null,""]
[null,""]
[null,""]
[null,""]
[null,""]
[null,""]
[null,""]
[null,""]
[null,""]
[null,""]
[null,""]
[null,""]
[null,""]
[null,""]
[null,""]
[null,""]
[null,""]
[null,""]
[null,""]
[null,""]
[null,""]
[null,""]
[null,""]
[null,""]
[null,""]
[null,""]
[null,""]
[null,""]
[null,""]
[null,""]
[null,""]
[null,""]
[null,""]
[null,""]
[null,""]
[null,""]
[null,""]
[null,""]
[null,""]
[null,""]
[null,""]
[null,""]
[]
[null,""]
[null,""]
[null,""]
[null,""]
[null,""]
[null,""]
[null,""]
[null,""]
[null,""]
[null,""]
[null,""]
[null,""]
[null,""]
[null,""]
[null,""]
[null,""]
[null,""]
[null,""]
[null,""]
[null,""]
[null,""]
[null,""]
[null,""]
[null,""]
[null,""]
[null,""]
[null,""]
[null,""]
[null,""]
[null,""]
[null,""]
[null,""]
[null,""]
[null,""]
[null,""]
[null,""]
[null,""]
[null,""]
[null,""]
[null,""]
[null,""]
[null,""]
[null,""]
[null,""]
[null,""]
[null,""]
[null,""]
[]
[null,""]
[null,""]
[null,""]
[null,""]
[null,""]
[null,""]
[null,""]
[null,""]
[null,""]
[null,""]
[null,""]
[null,""]
[null,""]
[null,""]
[null,""]
[null,""]
[null,""]
[null,""]
[null,""]
[null,""]
[null,""]
[null,""]
[null,""]
[null,""]
[null,""]
[null,""]
[null,""]
[null,""]
[null,""]
[null,""]
[null,""]
[null,""]
[null,""]
[null,""]
[null,""]
[null,""]
[null,""]
[null,""]
[null,""]
[null,""]
[null,""]
[null,""]
[null,""]
[null,""]
[null,""]
[null,""]
[null,""]
[]
[null,""]
[null,""]
[null,""]
[null,""]
[null,""]
[null,""]
[null,""]
[null,""]
[null,""]
[null,""]
[null,""]
[null,""]
[null,""]
[null,""]
[null,""]
[null,""]
[null,""]
[null,""]
[null,""]
[null,""]
[null,""]
[null,""]
[null,""]
[null,""]
[null,""]
[null,""]
[null,""]
[null,""]
[null,""]
[null,""]
[null,""]
[null,""]
[null,""]
[null,""]
[null,""]
[null,""]
[null,""]
[null,""]
[null,""]
[null,""]
[null,""]
[null,""]
[null,""]
[null,""]
[null,""]
[null,""]
[null,""]
[]
[null,""]
[null,""]
[null,""]
[null,""]
[null,""]
[null,""]
[null,""]
[null,""]
[null,""]
[null,""]
[null,""]
[null,""]
[null,""]
[null,""]
[null,""]
[null,""]
[null,""]
[null,""]
[null,""]
[null,""]
[null,""]
[null,""]
[null,""]
[null,""]
[null,""]
[null,""]
[null,""]
[null,""]
[null,""]
[null,""]
[null,""]
[null,""]
[null,""]
[null,""]
[null,""]
[null,""]
[null,""]
[null,""]
[null,""]
[null,""]
[null,""]
[null,""]
[null,""]
[null,""]
[null,""]
[null,""]
[null,""]
[]
[null,""]
[null,""]
[null,""]
[null,""]
[null,""]
[null,""]
[null,""]
[null,""]
[null,""]
[null,""]
[null,""]
[null,""]
[null,""]
[null,""]
[null,""]
[null,""]
[null,""]
[null,""]
[null,""]
[null,""]
[null,""]
[null,""]
[null,""]
[null,""]
[null,""]
[null,""]
[null,""]
[null,""]
[null,""]
[null,""]
[null,""]
[null,""]
[null,""]
[null,""]
[null,""]
[null,""]
[null,""]
[null,""]
[null,""]
[null,""]
[null,""]
[null,""]
[null,""]
[null,""]
[null,""]
[null,""]
[null,""]
[]
[null,""]
[null,""]
[null,""]
[null,""]
[null,""]
[null,""]
[null,""]
[null,""]
[null,""]
[null,""]
[null,""]
[null,""]
[null,""]
[null,""]
[null,""]
[null,""]
[null,""]
[null,""]
[null,""]
[null,""]
[null,""]
[null,""]
[null,""]
[null,""]
[null,""]
[null,""]
[null,""]
[null,""]
[null,""]
[null,""]
[null,""]
[null,""]
[null,""]
[null,""]
[null,""]
[null,""]
[null,""]
[null,""]
[null,""]
[null,""]
[null,""]
[null,""]
[null,""]
[null,""]
[null,""]
[null,""]
[null,""]
[]
[null,""]
[null,""]
[null,""]
[null,""]
[null,""]
[null,""]
[null,""]
[null,""]
[null,""]
[null,""]
[null,""]
[null,""]
[null,""]
[null,""]
[null,""]
[null,""]
[null,""]
[null,""]
[null,""]
[null,""]
[null,""]
[null,""]
[null,""]
[null,""]
[null,""]
[null,""]
[null,""]
[null,""]
[null,""]
[null,""]
[null,""]
[null,""]
[null,""]
[null,""]
[null,""]
[null,""]
[null,""]
[null,""]
[null,""]
[null,""]
[null,""]
[null,""]
[null,""]
[null,""]
[null,""]
[null,""]
[null,""]
[]
[null,""]
[null,""]
[null,""]
[null,""]
[null,""]
[null,""]
[null,""]
[null,""]
[null,""]
[null,""]
[null,""]
[null,""]
[null,""]
[null,""]
[null,""]
[null,""]
[null,""]
[null,""]
[null,""]
[null,""]
[null,""]
[null,""]
[null,""]
[null,""]
[null,""]
[null,""]
[null,""]
[null,""]
[null,""]
[null,""]
[null,""]
[null,""]
[null,""]
[null,""]
[null,""]
[null,""]
[null,""]
[null,""]
[null,""]
[null,""]
[null,""]
[null,""]
[null,""]
[null,""]
[null,""]
[null,""]
[null,""]
[]
[null,""]
[null,""]
[null,""]
[null,""]
[null,""]
[null,""]
[null,""]
[null,""]
[null,""]
[null,""]
[null,""]
[null,""]
[null,""]
[null,""]
[null,""]
[null,""]
[null,""]
[null,""]
[null,""]
[null,""]
[null,""]
[null,""]
[null,""]
[null,""]
[null,""]
[null,""]
[null,""]
[null,""]
[null,""]
[null,""]
[null,""]
[null,""]
[null,""]
[null,""]
[null,""]
[null,""]
[null,""]
[null,""]
[null,""]
[null,""]
[null,""]
[null,""]
[null,""]
[null,""]
[null,""]
[null,""]
[null,""]
[]
[null,""]
[null,""]
[null,""]
[null,""]
[null,""]
[null,""]
[null,""]
[null,""]
[null,""]
[null,""]
[null,""]
[null,""]
[null,""]
[null,""]
[null,""]
[null,""]
[null,""]
[null,""]
[null,""]
[null,""]
[null,""]
[null,""]
[null,""]
[null,""]
[null,""]
[null,""]
[null,""]
[null,""]
[null,""]
[null,""]
[null,""]
[null,""]
[null,""]
[null,""]
[null,""]
[null,""]
[null,""]
[null,""]
[null,""]
[null,""]
[null,""]
[null,""]
[null,""]
[null,""]
[null,""]
[null,""]
[null,""]
[]
[null,""]
[null,""]
[null,""]
[null,""]
[null,""]
[null,""]
[null,""]
[null,""]
[null,""]
[null,""]
[null,""]
[null,""]
[null,""]
[null,""]
[null,""]
[null,""]
[null,""]
[null,""]
[null,""]
[null,""]
[null,""]
[null,""]
[null,""]
[null,""]
[null,""]
[null,""]
[null,""]
[null,""]
[null,""]
[null,""]
[null,""]
[null,""]
[null,""]
[null,""]
[null,""]
[null,""]
[null,""]
[null,""]
[null,""]
[null,""]
[null,""]
[null,""]
[null,""]
[null,""]
[null,""]
[null,""]
[null,""]
[]
[null,""]
[null,""]
[null,""]
[null,""]
[null,""]
[null,""]
[null,""]
[null,""]
[null,""]
[null,""]
[null,""]
[null,""]
[null,""]
[null,""]
[null,""]
[null,""]
[null,""]
[null,""]
[null,""]
[null,""]
[null,""]
[null,""]
[null,""]
[null,""]
[null,""]
[null,""]
[null,""]
[null,""]
[null,""]
[null,""]
[null,""]
[null,""]
[null,""]
[null,""]
[null,""]
[null,""]
[null,""]
[null,""]
[null,""]
[null,""]
[null,""]
[null,""]
[null,""]
[null,""]
[null,""]
[null,""]
[null,""]
[]
[null,""]
[null,""]
[null,""]
[null,""]
[null,""]
[null,""]
[null,""]
[null,""]
[null,""]
[null,""]
[null,""]
[null,""]
[null,""]
[null,""]
[null,""]
[null,""]
[null,""]
[null,""]
[null,""]
[null,""]
[null,""]
[null,""]
[null,""]
[null,""]
[null,""]
[null,""]
[null,""]
[null,""]
[null,""]
[null,""]
[null,""]
[null,""]
[null,""]
[null,""]
[null,""]
[null,""]
[null,""]
[null,""]
[null,""]
[null,""]
[null,""]
[null,""]
[null,""]
[null,""]
[null,""]
[null,""]
[null,""]
[]
[null,""]
[null,""]
[null,""]
[null,""]
[null,""]
[null,""]
[null,""]
[null,""]
[null,""]
[null,""]
[null,""]
[null,""]
[null,""]
[null,""]
[null,""]
[null,""]
[null,""]
[null,""]
[null,""]
[null,""]
[null,""]
[null,""]
[null,""]
[null,""]
[null,""]
[null,""]
[null,""]
[null,""]
[null,""]
[null,""]
[null,""]
[null,""]
[null,""]
[null,""]
[null,""]
[null,""]
[null,""]
[null,""]
[null,""]
[null,""]
[null,""]
[null,""]
[null,""]
[null,""]
[null,""]
[null,""]
[null,""]
[]
[null,""]
[null,""]
[null,""]
[null,""]
[null,""]
[null,""]
[null,""]
[null,""]
[null,""]
[null,""]
[null,""]
[null,""]
[null,""]
[null,""]
[null,""]
[null,""]
[null,""]
[null,""]
[null,""]
[null,""]
[null,""]
[null,""]
[null,""]
[null,""]
[null,""]
[null,""]
[null,""]
[null,""]
[null,""]
[null,""]
[null,""]
[null,""]
[null,""]
[null,""]
[null,""]
[null,""]
[null,""]
[null,""]
[null,""]
[null,""]
[null,""]
[null,""]
[null,""]
[null,""]
[null,""]
[null,""]
[null,""]
[]
[null,""]
[null,""]
[null,""]
[null,""]
[null,""]
[null,""]
[null,""]
[null,""]
[null,""]
[null,""]
[null,""]
[null,""]
[null,""]
[null,""]
[null,""]
[null,""]
[null,""]
[null,""]
[null,""]
[null,""]
[null,""]
[null,""]
[null,""]
[null,""]
[null,""]
[null,""]
[null,""]
[null,""]
[null,""]
[null,""]
[null,""]
[null,""]
[null,""]
[null,""]
[null,""]
[null,""]
[null,""]
[null,""]
[null,""]
[null,""]
[null,""]
[null,""]
[null,""]
[null,""]
[null,""]
[null,""]
[null,""]
[]
[null,""]
[null,""]
[null,""]
[null,""]
[null,""]
[null,""]
[null,""]
[null,""]
[null,""]
[null,""]
[null,""]
[null,""]
[null,""]
[null,""]
[null,""]
[null,""]
[null,""]
[null,""]
[null,""]
[null,""]
[null,""]
[null,""]
[null,""]
[null,""]
[null,""]
[null,""]
[null,""]
[null,""]
[null,""]
[null,""]
[null,""]
[null,""]
[null,""]
[null,""]
[null,""]
[null,""]
[null,""]
[null,""]
[null,""]
[null,""]
[null,""]
[null,""]
[null,""]
[null,""]
[null,""]
[null,""]
[null,""]
[]
[null,""]
[null,""]
[null,""]
[null,""]
[null,""]
[null,""]
[null,""]
[null,""]
[null,""]
[null,""]
[null,""]
[null,""]
[null,""]
[null,""]
[null,""]
[null,""]
[null,""]
[null,""]
[null,""]
[null,""]
[null,""]
[null,""]
[null,""]
[null,""]
[null,""]
[null,""]
[null,""]
[null,""]
[null,""]
[null,""]
[null,""]
[null,""]
[null,""]
[null,""]
[null,""]
[null,""]
[null,""]
[null,""]
[null,""]
[null,""]
[null,""]
[null,""]
[null,""]
[null,""]
[null,""]
[null,""]
[null,""]
[]
[null,""]
[null,""]
[null,""]
[null,""]
[null,""]
[null,""]
[null,""]
[null,""]
[null,""]
[null,""]
[null,""]
[null,""]
[null,""]
[null,""]
[null,""]
[null,""]
[null,""]
[null,""]
[null,""]
[null,""]
[null,""]
[null,""]
[null,""]
[null,""]
[null,""]
[null,""]
[null,""]
[null,""]
[null,""]
[null,""]
[null,""]
[null,""]
[null,""]
[null,""]
[null,""]
[null,""]
[null,""]
[null,""]
[null,""]
[null,""]
[null,""]
[null,""]
[null,""]
[null,""]
[null,""]
[null,""]
[null,""]
[]
[null,""]
[null,""]
[null,""]
[null,""]
[null,""]
[null,""]
[null,""]
[null,""]
[null,""]
[null,""]
[null,""]
[null,""]
[null,""]
[null,""]
[null,""]
[null,""]
[null,""]
[null,""]
[null,""]
[null,""]
[null,""]
[null,""]
[null,""]
[null,""]
[null,""]
[null,""]
[null,""]
[null,""]
[null,""]
[null,""]
[null,""]
[null,""]
[null,""]
[null,""]
[null,""]
[null,""]
[null,""]
[null,""]
[null,""]
[null,""]
[null,""]
[null,""]
[null,""]
[null,""]
[null,""]
[null,""]
[null,""]
[]
[null,""]
[null,""]
[null,""]
[null,""]
[null,""]
[null,""]
[null,""]
[null,""]
[null,""]
[null,""]
[null,""]
[null,""]
[null,""]
[null,""]
[null,""]
[null,""]
[null,""]
[null,""]
[null,""]
[null,""]
[null,""]
[null,""]
[null,""]
[null,""]
[null,""]
[null,""]
[null,""]
[null,""]
[null,""]
[null,""]
[null,""]
[null,""]
[null,""]
[null,""]
[null,""]
[null,""]
[null,""]
[null,""]
[null,""]
[null,""]
[null,""]
[null,""]
[null,""]
[null,""]
[null,""]
[null,""]
[null,""]
[]
[null,""]
[null,""]
[null,""]
[null,""]
[null,""]
[null,""]
[null,""]
[null,""]
[null,""]
[null,""]
[null,""]
[null,""]
[null,""]
[null,""]
[null,""]
[null,""]
[null,""]
[null,""]
[null,""]
[null,""]
[null,""]
[null,""]
[null,""]
[null,""]
[null,""]
[null,""]
[null,""]
[null,""]
[null,""]
[null,""]
[null,""]
[null,""]
[null,""]
[null,""]
[null,""]
[null,""]
[null,""]
[null,""]
[null,""]
[null,""]
[null,""]
[null,""]
[null,""]
[null,""]
[null,""]
[null,""]
[null,""]
[]
[null,""]
[null,""]
[null,""]
[null,""]
[null,""]
[null,""]
[null,""]
[null,""]
[null,""]
[null,""]
[null,""]
[null,""]
[null,""]
[null,""]
[null,""]
[null,""]
[null,""]
[null,""]
[null,""]
[null,""]
[null,""]
[null,""]
[null,""]
[null,""]
[null,""]
[null,""]
[null,""]
[null,""]
[null,""]
[null,""]
[null,""]
[null,""]
[null,""]
[null,""]
[null,""]
[null,""]
[null,""]
[null,""]
[null,""]
[null,""]
[null,""]
[null,""]
[null,""]
[null,""]
[null,""]
[null,""]
[null,""]
[]
[null,""]
[null,""]
[null,""]
[null,""]
[null,""]
[null,""]
[null,""]
[null,""]
[null,""]
[null,""]
[null,""]
[null,""]
[null,""]
[null,""]
[null,""]
[null,""]
[null,""]
[null,""]
[null,""]
[null,""]
[null,""]
[null,""]
[null,""]
[null,""]
[null,""]
[null,""]
[null,""]
[null,""]
[null,""]
[null,""]
[null,""]
[null,""]
[null,""]
[null,""]
[null,""]
[null,""]
[null,""]
[null,""]
[null,""]
[null,""]
[null,""]
[null,""]
[null,""]
[null,""]
[null,""]
[null,""]
[null,""]
[]
[null,""]
[null,""]
[null,""]
[null,""]
[null,""]
[null,""]
[null,""]
[null,""]
[null,""]
[null,""]
[null,""]
[null,""]
[null,""]
[null,""]
[null,""]
[null,""]
[null,""]
[null,""]
[null,""]
[null,""]
[null,""]
[null,""]
[null,""]
[null,""]
[null,""]
[null,""]
[null,""]
[null,""]
[null,""]
[null,""]
[null,""]
[null,""]
[null,""]
[null,""]
[null,""]
[null,""]
[null,""]
[null,""]
[null,""]
[null,""]
[null,""]
[null,""]
[null,""]
[null,""]
[null,""]
[null,""]
[null,""]
[]
[null,""]
[null,""]
[null,""]
[null,""]
[null,""]
[null,""]
[null,""]
[null,""]
[null,""]
[null,""]
[null,""]
[null,""]
[null,""]
[null,""]
[null,""]
[null,""]
[null,""]
[null,""]
[null,""]
[null,""]
[null,""]
[null,""]
[null,""]
[null,""]
[null,""]
[null,""]
[null,""]
[null,""]
[null,""]
[null,""]
[null,""]
[null,""]
[null,""]
[null,""]
[null,""]
[null,""]
[null,""]
[null,""]
[null,""]
[null,""]
[null,""]
[null,""]
[null,""]
[null,""]
[null,""]
[null,""]
[null,""]
[]
[null,""]
[null,""]
[null,""]
[null,""]
[null,""]
[null,""]
[null,""]
[null,""]
[null,""]
[null,""]
[null,""]
[null,""]
[null,""]
[null,""]
[null,""]
[null,""]
[null,""]
[null,""]
[null,""]
[null,""]
[null,""]
[null,""]
[null,""]
[null,""]
[null,""]
[null,""]
[null,""]
[null,""]
[null,""]
[null,""]
[null,""]
[null,""]
[null,""]
[null,""]
[null,""]
[null,""]
[null,""]
[null,""]
[null,""]
[null,""]
[null,""]
[null,""]
[null,""]
[null,""]
[null,""]
[null,""]
[null,""]
[]
[null,""]
[null,""]
[null,""]
[null,""]
[null,""]
[null,""]
[null,""]
[null,""]
[null,""]
[null,""]
[null,""]
[null,""]
[null,""]
[null,""]
[null,""]
[null,""]
[null,""]
[null,""]
[null,""]
[null,""]
[null,""]
[null,""]
[null,""]
[null,""]
[null,""]
[null,""]
[null,""]
[null,""]
[null,""]
[null,""]
[null,""]
[null,""]
[null,""]
[null,""]
[null,""]
[null,""]
[null,""]
[null,""]
[null,""]
[null,""]
[null,""]
[null,""]
[null,""]
[null,""]
[null,""]
[null,""]
[null,""]
[]
[null,""]
[null,""]
[null,""]
[null,""]
[null,""]
[null,""]
[null,""]
[null,""]
[null,""]
[null,""]
[null,""]
[null,""]
[null,""]
[null,""]
[null,""]
[null,""]
[null,""]
[null,""]
[null,""]
[null,""]
[null,""]
[null,""]
[null,""]
[null,""]
[null,""]
[null,""]
[null,""]
[null,""]
[null,""]
[null,""]
[null,""]
[null,""]
[null,""]
[null,""]
[null,""]
[null,""]
[null,""]
[null,""]
[null,""]
[null,""]
[null,""]
[null,""]
[null,""]
[null,""]
[null,""]
[null,""]
[null,""]
[]
[null,""]
[null,""]
[null,""]
[null,""]
[null,""]
[null,""]
[null,""]
[null,""]
[null,""]
[null,""]
[null,""]
[null,""]
[null,""]
[null,""]
[null,""]
[null,""]
[null,""]
[null,""]
[null,""]
[null,""]
[null,""]
[null,""]
[null,""]
[null,""]
[null,""]
[null,""]
[null,""]
[null,""]
[null,""]
[null,""]
[null,""]
[null,""]
[null,""]
[null,""]
[null,""]
[null,""]
[null,""]
[null,""]
[null,""]
[null,""]
[null,""]
[null,""]
[null,""]
[null,""]
[null,""]
[null,""]
[null,""]
[]
[null,""]
[null,""]
[null,""]
[null,""]
[null,""]
[null,""]
[null,""]
[null,""]
[null,""]
[null,""]
[null,""]
[null,""]
[null,""]
[null,""]
[null,""]
[null,""]
[null,""]
[null,""]
[null,""]
[null,""]
[null,""]
[null,""]
[null,""]
[null,""]
[null,""]
[null,""]
[null,""]
[null,""]
[null,""]
[null,""]
[null,""]
[null,""]
[null,""]
[null,""]
[null,""]
[null,""]
[null,""]
[null,""]
[null,""]
[null,""]
[null,""]
[null,""]
[null,""]
[null,""]
[null,""]
[null,""]
[null,""]
[]
[null,""]
[null,""]
[null,""]
[null,""]
[null,""]
[null,""]
[null,""]
[null,""]
[null,""]
[null,""]
[null,""]
[null,""]
[null,""]
[null,""]
[null,""]
[null,""]
[null,""]
[null,""]
[null,""]
[null,""]
[null,""]
[null,""]
[null,""]
[null,""]
[null,""]
[null,""]
[null,""]
[null,""]
[null,""]
[null,""]
[null,""]
[null,""]
[null,""]
[null,""]
[null,""]
[null,""]
[null,""]
[null,""]
[null,""]
[null,""]
[null,""]
[null,""]
[null,""]
[null,""]
[null,""]
[null,""]
[null,""]
[]
[null,""]
[null,""]
[null,""]
[null,""]
[null,""]
[null,""]
[null,""]
[null,""]
[null,""]
[null,""]
[null,""]
[null,""]
[null,""]
[null,""]
[null,""]
[null,""]
[null,""]
[null,""]
[null,""]
[null,""]
[null,""]
[null,""]
[null,""]
[null,""]
[null,""]
[null,""]
[null,""]
[null,""]
[null,""]
[null,""]
[null,""]
[null,""]
[null,""]
[null,""]
[null,""]
[null,""]
[null,""]
[null,""]
[null,""]
[null,""]
[null,""]
[null,""]
[null,""]
[null,""]
[null,""]
[null,""]
[null,""]
[]
[null,""]
[null,""]
[null,""]
[null,""]
[null,""]
[null,""]
[null,""]
[null,""]
[null,""]
[null,""]
[null,""]
[null,""]
[null,""]
[null,""]
[null,""]
[null,""]
[null,""]
[null,""]
[null,""]
[null,""]
[null,""]
[null,""]
[null,""]
[null,""]
[null,""]
[null,""]
[null,""]
[null,""]
[null,""]
[null,""]
[null,""]
[null,""]
[null,""]
[null,""]
[null,""]
[null,""]
[null,""]
[null,""]
[null,""]
[null,""]
[null,""]
[null,""]
[null,""]
[null,""]
[null,""]
[null,""]
[null,""]
[]
[null,""]
[null,""]
[null,""]
[null,""]
[null,""]
[null,""]
[null,""]
[null,""]
[null,""]
[null,""]
[null,""]
[null,""]
[null,""]
[null,""]
[null,""]
[null,""]
[null,""]
[null,""]
[null,""]
[null,""]
[null,""]
[null,""]
[null,""]
[null,""]
[null,""]
[null,""]
[null,""]
[null,""]
[null,""]
[null,""]
[null,""]
[null,""]
[null,""]
[null,""]
[null,""]
[null,""]
[null,""]
[null,""]
[null,""]
[null,""]
[null,""]
[null,""]
[null,""]
[null,""]
[null,""]
[null,""]
[null,""]
[]
[null,""]
[null,""]
[null,""]
[null,""]
[null,""]
[null,""]
[null,""]
[null,""]
[null,""]
[null,""]
[null,""]
[null,""]
[null,""]
[null,""]
[null,""]
[null,""]
[null,""]
[null,""]
[null,""]
[null,""]
[null,""]
[null,""]
[null,""]
[null,""]
[null,""]
[null,""]
[null,""]
[null,""]
[null,""]
[null,""]
[null,""]
[null,""]
[null,""]
[null,""]
[null,""]
[null,""]
[null,""]
[null,""]
[null,""]
[null,""]
[null,""]
[null,""]
[null,""]
[null,""]
[null,""]
[null,""]
[null,""]
[]
[null,""]
[null,""]
[null,""]
[null,""]
[null,""]
[null,""]
[null,""]
[null,""]
[null,""]
[null,""]
[null,""]
[null,""]
[null,""]
[null,""]
[null,""]
[null,""]
[null,""]
[null,""]
[null,""]
[null,""]
[null,""]
[null,""]
[null,""]
[null,""]
[null,""]
[null,""]
[null,""]
[null,""]
[null,""]
[null,""]
[null,""]
[null,""]
[null,""]
[null,""]
[null,""]
[null,""]
[null,""]
[null,""]
[null,""]
[null,""]
[null,""]
[null,""]
[null,""]
[null,""]
[null,""]
[null,""]
[null,""]
[]
[null,""]
[null,""]
[null,""]
[null,""]
[null,""]
[null,""]
[null,""]
[null,""]
[null,""]
[null,""]
[null,""]
[null,""]
[null,""]
[null,""]
[null,""]
[null,""]
[null,""]
[null,""]
[null,""]
[null,""]
[null,""]
[null,""]
[null,""]
[null,""]
[null,""]
[null,""]
[null,""]
[null,""]
[null,""]
[null,""]
[null,""]
[null,""]
[null,""]
[null,""]
[null,""]
[null,""]
[null,""]
[null,""]
[null,""]
[null,""]
[null,""]
[null,""]
[null,""]
[null,""]
[null,""]
[null,""]
[null,""]
[]
[null,""]
[null,""]
[null,""]
[null,""]
[null,""]
[null,""]
[null,""]
[null,""]
[null,""]
[null,""]
[null,""]
[null,""]
[null,""]
[null,""]
[null,""]
[null,""]
[null,""]
[null,""]
[null,""]
[null,""]
[null,""]
[null,""]
[null,""]
[null,""]
[null,""]
[null,""]
[null,""]
[null,""]
[null,""]
[null,""]
[null,""]
[null,""]
[null,""]
[null,""]
[null,""]
[null,""]
[null,""]
[null,""]
[null,""]
[null,""]
[null,""]
[null,""]
[null,""]
[null,""]
[null,""]
[null,""]
[null,""]
[]
[null,""]
[null,""]
[null,""]
[null,""]
[null,""]
[null,""]
[null,""]
[null,""]
[null,""]
[null,""]
[null,""]
[null,""]
[null,""]
[null,""]
[null,""]
[null,""]
[null,""]
[null,""]
[null,""]
[null,""]
[null,""]
[null,""]
[null,""]
[null,""]
[null,""]
[null,""]
[null,""]
[null,""]
[null,""]
[null,""]
[null,""]
[null,""]
[null,""]
[null,""]
[null,""]
[null,""]
[null,""]
[null,""]
[null,""]
[null,""]
[null,""]
[null,""]
[null,""]
[null,""]
[null,""]
[null,""]
[null,""]
[]
[null,""]
[null,""]
[null,""]
[null,""]
[null,""]
[null,""]
[null,""]
[null,""]
[null,""]
[null,""]
[null,""]
[null,""]
[null,""]
[null,""]
[null,""]
[null,""]
[null,""]
[null,""]
[null,""]
[null,""]
[null,""]
[null,""]
[null,""]
[null,""]
[null,""]
[null,""]
[null,""]
[null,""]
[null,""]
[null,""]
[null,""]
[null,""]
[null,""]
[null,""]
[null,""]
[null,""]
[null,""]
[null,""]
[null,""]
[null,""]
[null,""]
[null,""]
[null,""]
[null,""]
[null,""]
[null,""]
[null,""]
[]
[null,""]
[null,""]
[null,""]
[null,""]
[null,""]
[null,""]
[null,""]
[null,""]
[null,""]
[null,""]
[null,""]
[null,""]
[null,""]
[null,""]
[null,""]
[null,""]
[null,""]
[null,""]
[null,""]
[null,""]
[null,""]
[null,""]
[null,""]
[null,""]
[null,""]
[null,""]
[null,""]
[null,""]
[null,""]
[null,""]
[null,""]
[null,""]
[null,""]
[null,""]
[null,""]
[null,""]
[null,""]
[null,""]
[null,""]
[null,""]
[null,""]
[null,""]
[null,""]
[null,""]
[null,""]
[null,""]
[null,""]
[]
[null,""]
[null,""]
[null,""]
[null,""]
[null,""]
[null,""]
[null,""]
[null,""]
[null,""]
[null,""]
[null,""]
[null,""]
[null,""]
[null,""]
[null,""]
[null,""]
[null,""]
[null,""]
[null,""]
[null,""]
[null,""]
[null,""]
[null,""]
[null,""]
[null,""]
[null,""]
[null,""]
[null,""]
[null,""]
[null,""]
[null,""]
[null,""]
[null,""]
[null,""]
[null,""]
[null,""]
[null,""]
[null,""]
[null,""]
[null,""]
[null,""]
[null,""]
[null,""]
[null,""]
[null,""]
[null,""]
[null,""]
[]
[null,""]
[null,""]
[null,""]
[null,""]
[null,""]
[null,""]
[null,""]
[null,""]
[null,""]
[null,""]
[null,""]
[null,""]
[null,""]
[null,""]
[null,""]
[null,""]
[null,""]
[null,""]
[null,""]
[null,""]
[null,""]
[null,""]
[null,""]
[null,""]
[null,""]
[null,""]
[null,""]
[null,""]
[null,""]
[null,""]
[null,""]
[null,""]
[null,""]
[null,""]
[null,""]
[null,""]
[null,""]
[null,""]
[null,""]
[null,""]
[null,""]
[null,""]
[null,""]
[null,""]
[null,""]
[null,""]
[null,""]
[]
[null,""]
[null,""]
[null,""]
[null,""]
[null,""]
[null,""]
[null,""]
[null,""]
[null,""]
[null,""]
[null,""]
[null,""]
[null,""]
[null,""]
[null,""]
[null,""]
[null,""]
[null,""]
[null,""]
[null,""]
[null,""]
[null,""]
[null,""]
[null,""]
[null,""]
[null,""]
[null,""]
[null,""]
[null,""]
[null,""]
[null,""]
[null,""]
[null,""]
[null,""]
[null,""]
[null,""]
[null,""]
[null,""]
[null,""]
[null,""]
[null,""]
[null,""]
[null,""]
[null,""]
[null,""]
[null,""]
[null,""]
[]
[null,""]
[null,""]
[null,""]
[null,""]
[null,""]
[null,""]
[null,""]
[null,""]
[null,""]
[null,""]
[null,""]
[null,""]
[null,""]
[null,""]
[null,""]
[null,""]
[null,""]
[null,""]
[null,""]
[null,""]
[null,""]
[null,""]
[null,""]
[null,""]
[null,""]
[null,""]
[null,""]
[null,""]
[null,""]
[null,""]
[null,""]
[null,""]
[null,""]
[null,""]
[null,""]
[null,""]
[null,""]
[null,""]
[null,""]
[null,""]
[null,""]
[null,""]
[null,""]
[null,""]
[null,""]
[null,""]
[null,""]
[]
[null,""]
[null,""]
[null,""]
[null,""]
[null,""]
[null,""]
[null,""]
[null,""]
[null,""]
[null,""]
[null,""]
[null,""]
[null,""]
[null,""]
[null,""]
[null,""]
[null,""]
[null,""]
[null,""]
[null,""]
[null,""]
[null,""]
[null,""]
[null,""]
[null,""]
[null,""]
[null,""]
[null,""]
[null,""]
[null,""]
[null,""]
[null,""]
[null,""]
[null,""]
[null,""]
[null,""]
[null,""]
[null,""]
[null,""]
[null,""]
[null,""]
[null,""]
[null,""]
[null,""]
[null,""]
[null,""]
[null,""]
[]
[null,""]
[null,""]
[null,""]
[null,""]
[null,""]
[null,""]
[null,""]
[null,""]
[null,""]
[null,""]
[null,""]
[null,""]
[null,""]
[null,""]
[null,""]
[null,""]
[null,""]
[null,""]
[null,""]
[null,""]
[null,""]
[null,""]
[null,""]
[null,""]
[null,""]
[null,""]
[null,""]
[null,""]
[null,""]
[null,""]
[null,""]
[null,""]
[null,""]
[null,""]
[null,""]
[null,""]
[null,""]
[null,""]
[null,""]
[null,""]
[null,""]
[null,""]
[null,""]
[null,""]
[null,""]
[null,""]
[null,""]
[]
[null,""]
[null,""]
[null,""]
[null,""]
[null,""]
[null,""]
[null,""]
[null,""]
[null,""]
[null,""]
[null,""]
[null,""]
[null,""]
[null,""]
[null,""]
[null,""]
[null,""]
[null,""]
[null,""]
[null,""]
[null,""]
[null,""]
[null,""]
[null,""]
[null,""]
[null,""]
[null,""]
[null,""]
[null,""]
[null,""]
[null,""]
[null,""]
[null,""]
[null,""]
[null,""]
[null,""]
[null,""]
[null,""]
[null,""]
[null,""]
[null,""]
[null,""]
[null,""]
[null,""]
[null,""]
[null,""]
[null,""]
[]
[null,""]
[null,""]
[null,""]
[null,""]
[null,""]
[null,""]
[null,""]
[null,""]
[null,""]
[null,""]
[null,""]
[null,""]
[null,""]
[null,""]
[null,""]
[null,""]
[null,""]
[null,""]
[null,""]
[null,""]
[null,""]
[null,""]
[null,""]
[null,""]
[null,""]
[null,""]
[null,""]
[null,""]
[null,""]
[null,""]
[null,""]
[null,""]
[null,""]
[null,""]
[null,""]
[null,""]
[null,""]
[null,""]
[null,""]
[null,""]
[null,""]
[null,""]
[null,""]
[null,""]
[null,""]
[null,""]
[null,""]
[]
[null,""]
[null,""]
[null,""]
[null,""]
[null,""]
[null,""]
[null,""]
[null,""]
[null,""]
[null,""]
[null,""]
[null,""]
[null,""]
[null,""]
[null,""]
[null,""]
[null,""]
[null,""]
[null,""]
[null,""]
[null,""]
[null,""]
[null,""]
[null,""]
[null,""]
[null,""]
[null,""]
[null,""]
[null,""]
[null,""]
[null,""]
[null,""]
[null,""]
[null,""]
[null,""]
[null,""]
[null,""]
[null,""]
[null,""]
[null,""]
[null,""]
[null,""]
[null,""]
[null,""]
[null,""]
[null,""]
[null,""]
[]
[null,""]
[null,""]
[null,""]
[null,""]
[null,""]
[null,""]
[null,""]
[null,""]
[null,""]
[null,""]
[null,""]
[null,""]
[null,""]
[null,""]
[null,""]
[null,""]
[null,""]
[null,""]
[null,""]
[null,""]
[null,""]
[null,""]
[null,""]
[null,""]
[null,""]
[null,""]
[null,""]
[null,""]
[null,""]
[null,""]
[null,""]
[null,""]
[null,""]
[null,""]
[null,""]
[null,""]
[null,""]
[null,""]
[null,""]
[null,""]
[null,""]
[null,""]
[null,""]
[null,""]
[null,""]
[null,""]
[null,""]
[]
[null,""]
[null,""]
[null,""]
[null,""]
[null,""]
[null,""]
[null,""]
[null,""]
[null,""]
[null,""]
[null,""]
[null,""]
[null,""]
[null,""]
[null,""]
[null,""]
[null,""]
[null,""]
[null,""]
[null,""]
[null,""]
[null,""]
[null,""]
[null,""]
[null,""]
[null,""]
[null,""]
[null,""]
[null,""]
[null,""]
[null,""]
[null,""]
[null,""]
[null,""]
[null,""]
[null,""]
[null,""]
[null,""]
[null,""]
[null,""]
[null,""]
[null,""]
[null,""]
[null,""]
[null,""]
[null,""]
[null,""]
[]
[null,""]
[null,""]
[null,""]
[null,""]
[null,""]
[null,""]
[null,""]
[null,""]
[null,""]
[null,""]
[null,""]
[null,""]
[null,""]
[null,""]
[null,""]
[null,""]
[null,""]
[null,""]
[null,""]
[null,""]
[null,""]
[null,""]
[null,""]
[null,""]
[null,""]
[null,""]
[null,""]
[null,""]
[null,""]
[null,""]
[null,""]
[null,""]
[null,""]
[null,""]
[null,""]
[null,""]
[null,""]
[null,""]
[null,""]
[null,""]
[null,""]
[null,""]
[null,""]
[null,""]
[null,""]
[null,""]
[null,""]
[]
[null,""]
[null,""]
[null,""]
[null,""]
[null,""]
[null,""]
[null,""]
[null,""]
[null,""]
[null,""]
[null,""]
[null,""]
[null,""]
[null,""]
[null,""]
[null,""]
[null,""]
[null,""]
[null,""]
[null,""]
[null,""]
[null,""]
[null,""]
[null,""]
[null,""]
[null,""]
[null,""]
[null,""]
[null,""]
[null,""]
[null,""]
[null,""]
[null,""]
[null,""]
[null,""]
[null,""]
[null,""]
[null,""]
[null,""]
[null,""]
[null,""]
[null,""]
[null,""]
[null,""]
[null,""]
[null,""]
[null,""]
[]
[null,""]
[null,""]
[null,""]
[null,""]
[null,""]
[null,""]
[null,""]
[null,""]
[null,""]
[null,""]
[null,""]
[null,""]
[null,""]
[null,""]
[null,""]
[null,""]
[null,""]
[null,""]
[null,""]
[null,""]
[null,""]
[null,""]
[null,""]
[null,""]
[null,""]
[null,""]
[null,""]
[null,""]
[null,""]
[null,""]
[null,""]
[null,""]
[null,""]
[null,""]
[null,""]
[null,""]
[null,""]
[null,""]
[null,""]
[null,""]
[null,""]
[null,""]
[null,""]
[null,""]
[null,""]
[null,""]
[null,""]
[]
[null,""]
[null,""]
[null,""]
[null,""]
[null,""]
[null,""]
[null,""]
[null,""]
[null,""]
[null,""]
[null,""]
[null,""]
[null,""]
[null,""]
[null,""]
[null,""]
[null,""]
[null,""]
[null,""]
[null,""]
[null,""]
[null,""]
[null,""]
[null,""]
[null,""]
[null,""]
[null,""]
[null,""]
[null,""]
[null,""]
[null,""]
[null,""]
[null,""]
[null,""]
[null,""]
[null,""]
[null,""]
[null,""]
[null,""]
[null,""]
[null,""]
[null,""]
[null,""]
[null,""]
[null,""]
[null,""]
[null,""]
[]
[null,""]
[null,""]
[null,""]
[null,""]
[null,""]
[null,""]
[null,""]
[null,""]
[null,""]
[null,""]
[null,""]
[null,""]
[null,""]
[null,""]
[null,""]
[null,""]
[null,""]
[null,""]
[null,""]
[null,""]
[null,""]
[null,""]
[null,""]
[null,""]
[null,""]
[null,""]
[null,""]
[null,""]
[null,""]
[null,""]
[null,""]
[null,""]
[null,""]
[null,""]
[null,""]
[null,""]
[null,""]
[null,""]
[null,""]
[null,""]
[null,""]
[null,""]
[null,""]
[null,""]
[null,""]
[null,""]
[null,""]
[]
[null,""]
[null,""]
[null,""]
[null,""]
[null,""]
[null,""]
[null,""]
[null,""]
[null,""]
[null,""]
[null,""]
[null,""]
[null,""]
[null,""]
[null,""]
[null,""]
[null,""]
[null,""]
[null,""]
[null,""]
[null,""]
[null,""]
[null,""]
[null,""]
[null,""]
[null,""]
[null,""]
[null,""]
[null,""]
[null,""]
[null,""]
[null,""]
[null,""]
[null,""]
[null,""]
[null,""]
[null,""]
[null,""]
[null,""]
[null,""]
[null,""]
[null,""]
[null,""]
[null,""]
[null,""]
[null,""]
[null,""]
[]
[null,""]
[null,""]
[null,""]
[null,""]
[null,""]
[null,""]
[null,""]
[null,""]
[null,""]
[null,""]
[null,""]
[null,""]
[null,""]
[null,""]
[null,""]
[null,""]
[null,""]
[null,""]
[null,""]
[null,""]
[null,""]
[null,""]
[null,""]
[null,""]
[null,""]
[null,""]
[null,""]
[null,""]
[null,""]
[null,""]
[null,""]
[null,""]
[null,""]
[null,""]
[null,""]
[null,""]
[null,""]
[null,""]
[null,""]
[null,""]
[null,""]
[null,""]
[null,""]
[null,""]
[null,""]
[null,""]
[null,""]
[]
[null,""]
[null,""]
[null,""]
[null,""]
[null,""]
[null,""]
[null,""]
[null,""]
[null,""]
[null,""]
[null,""]
[null,""]
[null,""]
[null,""]
[null,""]
[null,""]
[null,""]
[null,""]
[null,""]
[null,""]
[null,""]
[null,""]
[null,""]
[null,""]
[null,""]
[null,""]
[null,""]
[null,""]
[null,""]
[null,""]
[null,""]
[null,""]
[null,""]
[null,""]
[null,""]
[null,""]
[null,""]
[null,""]
[null,""]
[null,""]
[null,""]
[null,""]
[null,""]
[null,""]
[null,""]
[null,""]
[null,""]
[]
[null,""]
[null,""]
[null,""]
[null,""]
[null,""]
[null,""]
[null,""]
[null,""]
[null,""]
[null,""]
[null,""]
[null,""]
[null,""]
[null,""]
[null,""]
[null,""]
[null,""]
[null,""]
[null,""]
[null,""]
[null,""]
[null,""]
[null,""]
[null,""]
[null,""]
[null,""]
[null,""]
[null,""]
[null,""]
[null,""]
[null,""]
[null,""]
[null,""]
[null,""]
[null,""]
[null,""]
[null,""]
[null,""]
[null,""]
[null,""]
[null,""]
[null,""]
[null,""]
[null,""]
[null,""]
[null,""]
[null,""]
[]
[null,""]
[null,""]
[null,""]
[null,""]
[null,""]
[null,""]
[null,""]
[null,""]
[null,""]
[null,""]
[null,""]
[null,""]
[null,""]
[null,""]
[null,""]
[null,""]
[null,""]
[null,""]
[null,""]
[null,""]
[null,""]
[null,""]
[null,""]
[null,""]
[null,""]
[null,""]
[null,""]
[null,""]
[null,""]
[null,""]
[null,""]
[null,""]
[null,""]
[null,""]
[null,""]
[null,""]
[null,""]
[null,""]
[null,""]
[null,""]
[null,""]
[null,""]
[null,""]
[null,""]
[null,""]
[null,""]
[null,""]
[]
[null,""]
[null,""]
[null,""]
[null,""]
[null,""]
[null,""]
[null,""]
[null,""]
[null,""]
[null,""]
[null,""]
[null,""]
[null,""]
[null,""]
[null,""]
[null,""]
[null,""]
[null,""]
[null,""]
[null,""]
[null,""]
[null,""]
[null,""]
[null,""]
[null,""]
[null,""]
[null,""]
[null,""]
[null,""]
[null,""]
[null,""]
[null,""]
[null,""]
[null,""]
[null,""]
[null,""]
[null,""]
[null,""]
[null,""]
[null,""]
[null,""]
[null,""]
[null,""]
[null,""]
[null,""]
[null,""]
[null,""]
[]
[null,""]
[null,""]
[null,""]
[null,""]
[null,""]
[null,""]
[null,""]
[null,""]
[null,""]
[null,""]
[null,""]
[null,""]
[null,""]
[null,""]
[null,""]
[null,""]
[null,""]
[null,""]
[null,""]
[null,""]
[null,""]
[null,""]
[null,""]
[null,""]
[null,""]
[null,""]
[null,""]
[null,""]
[null,""]
[null,""]
[null,""]
[null,""]
[null,""]
[null,""]
[null,""]
[null,""]
[null,""]
[null,""]
[null,""]
[null,""]
[null,""]
[null,""]
[null,""]
[null,""]
[null,""]
[null,""]
[null,""]
[]
[null,""]
[null,""]
[null,""]
[null,""]
[null,""]
[null,""]
[null,""]
[null,""]
[null,""]
[null,""]
[null,""]
[null,""]
[null,""]
[null,""]
[null,""]
[null,""]
[null,""]
[null,""]
[null,""]
[null,""]
[null,""]
[null,""]
[null,""]
[null,""]
[null,""]
[null,""]
[null,""]
[null,""]
[null,""]
[null,""]
[null,""]
[null,""]
[null,""]
[null,""]
[null,""]
[null,""]
[null,""]
[null,""]
[null,""]
[null,""]
[null,""]
[null,""]
[null,""]
[null,""]
[null,""]
[null,""]
[null,""]
[]
[null,""]
[null,""]
[null,""]
[null,""]
[null,""]
[null,""]
[null,""]
[null,""]
[null,""]
[null,""]
[null,""]
[null,""]
[null,""]
[null,""]
[null,""]
[null,""]
[null,""]
[null,""]
[null,""]
[null,""]
[null,""]
[null,""]
[null,""]
[null,""]
[null,""]
[null,""]
[null,""]
[null,""]
[null,""]
[null,""]
[null,""]
[null,""]
[null,""]
[null,""]
[null,""]
[null,""]
[null,""]
[null,""]
[null,""]
[null,""]
[null,""]
[null,""]
[null,""]
[null,""]
[null,""]
[null,""]
[null,""]
[]
[null,""]
[null,""]
[null,""]
[null,""]
[null,""]
[null,""]
[null,""]
[null,""]
[null,""]
[null,""]
[null,""]
[null,""]
[null,""]
[null,""]
[null,""]
[null,""]
[null,""]
[null,""]
[null,""]
[null,""]
[null,""]
[null,""]
[null,""]
[null,""]
[null,""]
[null,""]
[null,""]
[null,""]
[null,""]
[null,""]
[null,""]
[null,""]
[null,""]
[null,""]
[null,""]
[null,""]
[null,""]
[null,""]
[null,""]
[null,""]
[null,""]
[null,""]
[null,""]
[null,""]
[null,""]
[null,""]
[null,""]
[]
[null,""]
[null,""]
[null,""]
[null,""]
[null,""]
[null,""]
[null,""]
[null,""]
[null,""]
[null,""]
[null,""]
[null,""]
[null,""]
[null,""]
[null,""]
[null,""]
[null,""]
[null,""]
[null,""]
[null,""]
[null,""]
[null,""]
[null,""]
[null,""]
[null,""]
[null,""]
[null,""]
[null,""]
[null,""]
[null,""]
[null,""]
[null,""]
[null,""]
[null,""]
[null,""]
[null,""]
[null,""]
[null,""]
[null,""]
[null,""]
[null,""]
[null,""]
[null,""]
[null,""]
[null,""]
[null,""]
[null,""]
[]
[null,""]
[null,""]
[null,""]
[null,""]
[null,""]
[null,""]
[null,""]
[null,""]
[null,""]
[null,""]
[null,""]
[null,""]
[null,""]
[null,""]
[null,""]
[null,""]
[null,""]
[null,""]
[null,""]
[null,""]
[null,""]
[null,""]
[null,""]
[null,""]
[null,""]
[null,""]
[null,""]
[null,""]
[null,""]
[null,""]
[null,""]
[null,""]
[null,""]
[null,""]
[null,""]
[null,""]
[null,""]
[null,""]
[null,""]
[null,""]
[null,""]
[null,""]
[null,""]
[null,""]
[null,""]
[null,""]
[null,""]
[]
[null,""]
[null,""]
[null,""]
[null,""]
[null,""]
[null,""]
[null,""]
[null,""]
[null,""]
[null,""]
[null,""]
[null,""]
[null,""]
[null,""]
[null,""]
[null,""]
[null,""]
[null,""]
[null,""]
[null,""]
[null,""]
[null,""]
[null,""]
[null,""]
[null,""]
[null,""]
[null,""]
[null,""]
[null,""]
[null,""]
[null,""]
[null,""]
[null,""]
[null,""]
[null,""]
[null,""]
[null,""]
[null,""]
[null,""]
[null,""]
[null,""]
[null,""]
[null,""]
[null,""]
[null,""]
[null,""]
[null,""]
[]
[null,""]
[null,""]
[null,""]
[null,""]
[null,""]
[null,""]
[null,""]
[null,""]
[null,""]
[null,""]
[null,""]
[null,""]
[null,""]
[null,""]
[null,""]
[null,""]
[null,""]
[null,""]
[null,""]
[null,""]
[null,""]
[null,""]
[null,""]
[null,""]
[null,""]
[null,""]
[null,""]
[null,""]
[null,""]
[null,""]
[null,""]
[null,""]
[null,""]
[null,""]
[null,""]
[null,""]
[null,""]
[null,""]
[null,""]
[null,""]
[null,""]
[null,""]
[null,""]
[null,""]
[null,""]
[null,""]
[null,""]
[]
[null,""]
[null,""]
[null,""]
[null,""]
[null,""]
[null,""]
[null,""]
[null,""]
[null,""]
[null,""]
[null,""]
[null,""]
[null,""]
[null,""]
[null,""]
[null,""]
[null,""]
[null,""]
[null,""]
[null,""]
[null,""]
[null,""]
[null,""]
[null,""]
[null,""]
[null,""]
[null,""]
[null,""]
[null,""]
[null,""]
[null,""]
[null,""]
[null,""]
[null,""]
[null,""]
[null,""]
[null,""]
[null,""]
[null,""]
[null,""]
[null,""]
[null,""]
[null,""]
[null,""]
[null,""]
[null,""]
[null,""]
[]
[null,""]
[null,""]
[null,""]
[null,""]
[null,""]
[null,""]
[null,""]
[null,""]
[null,""]
[null,""]
[null,""]
[null,""]
[null,""]
[null,""]
[null,""]
[null,""]
[null,""]
[null,""]
[null,""]
[null,""]
[null,""]
[null,""]
[null,""]
[null,""]
[null,""]
[null,""]
[null,""]
[null,""]
[null,""]
[null,""]
[null,""]
[null,""]
[null,""]
[null,""]
[null,""]
[null,""]
[null,""]
[null,""]
[null,""]
[null,""]
[null,""]
[null,""]
[null,""]
[null,""]
[null,""]
[null,""]
[null,""]
[]
[null,""]
[null,""]
[null,""]
[null,""]
[null,""]
[null,""]
[null,""]
[null,""]
[null,""]
[null,""]
[null,""]
[null,""]
[null,""]
[null,""]
[null,""]
[null,""]
[null,""]
[null,""]
[null,""]
[null,""]
[null,""]
[null,""]
[null,""]
[null,""]
[null,""]
[null,""]
[null,""]
[null,""]
[null,""]
[null,""]
[null,""]
[null,""]
[null,""]
[null,""]
[null,""]
[null,""]
[null,""]
[null,""]
[null,""]
[null,""]
[null,""]
[null,""]
[null,""]
[null,""]
[null,""]
[null,""]
[null,""]
[]
[null,""]
[null,""]
[null,""]
[null,""]
[null,""]
[null,""]
[null,""]
[null,""]
[null,""]
[null,""]
[null,""]
[null,""]
[null,""]
[null,""]
[null,""]
[null,""]
[null,""]
[null,""]
[null,""]
[null,""]
[null,""]
[null,""]
[null,""]
[null,""]
[null,""]
[null,""]
[null,""]
[null,""]
[null,""]
[null,""]
[null,""]
[null,""]
[null,""]
[null,""]
[null,""]
[null,""]
[null,""]
[null,""]
[null,""]
[null,""]
[null,""]
[null,""]
[null,""]
[null,""]
[null,""]
[null,""]
[null,""]
[]
[null,""]
[null,""]
[null,""]
[null,""]
[null,""]
[null,""]
[null,""]
[null,""]
[null,""]
[null,""]
[null,""]
[null,""]
[null,""]
[null,""]
[null,""]
[null,""]
[null,""]
[null,""]
[null,""]
[null,""]
[null,""]
[null,""]
[null,""]
[null,""]
[null,""]
[null,""]
[null,""]
[null,""]
[null,""]
[null,""]
[null,""]
[null,""]
[null,""]
[null,""]
[null,""]
[null,""]
[null,""]
[null,""]
[null,""]
[null,""]
[null,""]
[null,""]
[null,""]
[null,""]
[null,""]
[null,""]
[null,""]
[]
[null,""]
[null,""]
[null,""]
[null,""]
[null,""]
[null,""]
[null,""]
[null,""]
[null,""]
[null,""]
[null,""]
[null,""]
[null,""]
[null,""]
[null,""]
[null,""]
[null,""]
[null,""]
[null,""]
[null,""]
[null,""]
[null,""]
[null,""]
[null,""]
[null,""]
[null,""]
[null,""]
[null,""]
[null,""]
[null,""]
[null,""]
[null,""]
[null,""]
[null,""]
[null,""]
[null,""]
[null,""]
[null,""]
[null,""]
[null,""]
[null,""]
[null,""]
[null,""]
[null,""]
[null,""]
[null,""]
[null,""]
[]
[null,""]
[null,""]
[null,""]
[null,""]
[null,""]
[null,""]
[null,""]
[null,""]
[null,""]
[null,""]
[null,""]
[null,""]
[null,""]
[null,""]
[null,""]
[null,""]
[null,""]
[null,""]
[null,""]
[null,""]
[null,""]
[null,""]
[null,""]
[null,""]
[null,""]
[null,""]
[null,""]
[null,""]
[null,""]
[null,""]
[null,""]
[null,""]
[null,""]
[null,""]
[null,""]
[null,""]
[null,""]
[null,""]
[null,""]
[null,""]
[null,""]
[null,""]
[null,""]
[null,""]
[null,""]
[null,""]
[null,""]
[]
[null,""]
[null,""]
[null,""]
[null,""]
[null,""]
[null,""]
[null,""]
[null,""]
[null,""]
[null,""]
[null,""]
[null,""]
[null,""]
[null,""]
[null,""]
[null,""]
[null,""]
[null,""]
[null,""]
[null,""]
[null,""]
[null,""]
[null,""]
[null,""]
[null,""]
[null,""]
[null,""]
[null,""]
[null,""]
[null,""]
[null,""]
[null,""]
[null,""]
[null,""]
[null,""]
[null,""]
[null,""]
[null,""]
[null,""]
[null,""]
[null,""]
[null,""]
[null,""]
[null,""]
[null,""]
[null,""]
[null,""]
[]
[null,""]
[null,""]
[null,""]
[null,""]
[null,""]
[null,""]
[null,""]
[null,""]
[null,""]
[null,""]
[null,""]
[null,""]
[null,""]
[null,""]
[null,""]
[null,""]
[null,""]
[null,""]
[null,""]
[null,""]
[null,""]
[null,""]
[null,""]
[null,""]
[null,""]
[null,""]
[null,""]
[null,""]
[null,""]
[null,""]
[null,""]
[null,""]
[null,""]
[null,""]
[null,""]
[null,""]
[null,""]
[null,""]
[null,""]
[null,""]
[null,""]
[null,""]
[null,""]
[null,""]
[null,""]
[null,""]
[null,""]
[]
[null,""]
[null,""]
[null,""]
[null,""]
[null,""]
[null,""]
[null,""]
[null,""]
[null,""]
[null,""]
[null,""]
[null,""]
[null,""]
[null,""]
[null,""]
[null,""]
[null,""]
[null,""]
[null,""]
[null,""]
[null,""]
[null,""]
[null,""]
[null,""]
[null,""]
[null,""]
[null,""]
[null,""]
[null,""]
[null,""]
[null,""]
[null,""]
[null,""]
[null,""]
[null,""]
[null,""]
[null,""]
[null,""]
[null,""]
[null,""]
[null,""]
[null,""]
[null,""]
[null,""]
[null,""]
[null,""]
[null,""]
[]
[null,""]
[null,""]
[null,""]
[null,""]
[null,""]
[null,""]
[null,""]
[null,""]
[null,""]
[null,""]
[null,""]
[null,""]
[null,""]
[null,""]
[null,""]
[null,""]
[null,""]
[null,""]
[null,""]
[null,""]
[null,""]
[null,""]
[null,""]
[null,""]
[null,""]
[null,""]
[null,""]
[null,""]
[null,""]
[null,""]
[null,""]
[null,""]
[null,""]
[null,""]
[null,""]
[null,""]
[null,""]
[null,""]
[null,""]
[null,""]
[null,""]
[null,""]
[null,""]
[null,""]
[null,""]
[null,""]
[null,""]
[]
[null,""]
[null,""]
[null,""]
[null,""]
[null,""]
[null,""]
[null,""]
[null,""]
[null,""]
[null,""]
[null,""]
[null,""]
[null,""]
[null,""]
[null,""]
[null,""]
[null,""]
[null,""]
[null,""]
[null,""]
[null,""]
[null,""]
[null,""]
[null,""]
[null,""]
[null,""]
[null,""]
[null,""]
[null,""]
[null,""]
[null,""]
[null,""]
[null,""]
[null,""]
[null,""]
[null,""]
[null,""]
[null,""]
[null,""]
[null,""]
[null,""]
[null,""]
[null,""]
[null,""]
[null,""]
[null,""]
[null,""]
[]
[null,""]
[null,""]
[null,""]
[null,""]
[null,""]
[null,""]
[null,""]
[null,""]
[null,""]
[null,""]
[null,""]
[null,""]
[null,""]
[null,""]
[null,""]
[null,""]
[null,""]
[null,""]
[null,""]
[null,""]
[null,""]
[null,""]
[null,""]
[null,""]
[null,""]
[null,""]
[null,""]
[null,""]
[null,""]
[null,""]
[null,""]
[null,""]
[null,""]
[null,""]
[null,""]
[null,""]
[null,""]
[null,""]
[null,""]
[null,""]
[null,""]
[null,""]
[null,""]
[null,""]
[null,""]
[null,""]
[null,""]
[]
[null,""]
[null,""]
[null,""]
[null,""]
[null,""]
[null,""]
[null,""]
[null,""]
[null,""]
[null,""]
[null,""]
[null,""]
[null,""]
[null,""]
[null,""]
[null,""]
[null,""]
[null,""]
[null,""]
[null,""]
[null,""]
[null,""]
[null,""]
[null,""]
[null,""]
[null,""]
[null,""]
[null,""]
[null,""]
[null,""]
[null,""]
[null,""]
[null,""]
[null,""]
[null,""]
[null,""]
[null,""]
[null,""]
[null,""]
[null,""]
[null,""]
[null,""]
[null,""]
[null,""]
[null,""]
[null,""]
[null,""]
[]
[null,""]
[null,""]
[null,""]
[null,""]
[null,""]
[null,""]
[null,""]
[null,""]
[null,""]
[null,""]
[null,""]
[null,""]
[null,""]
[null,""]
[null,""]
[null,""]
[null,""]
[null,""]
[null,""]
[null,""]
[null,""]
[null,""]
[null,""]
[null,""]
[null,""]
[null,""]
[null,""]
[null,""]
[null,""]
[null,""]
[null,""]
[null,""]
[null,""]
[null,""]
[null,""]
[null,""]
[null,""]
[null,""]
[null,""]
[null,""]
[null,""]
[null,""]
[null,""]
[null,""]
[null,""]
[null,""]
[null,""]
[]
[null,""]
[null,""]
[null,""]
[null,""]
[null,""]
[null,""]
[null,""]
[null,""]
[null,""]
[null,""]
[null,""]
[null,""]
[null,""]
[null,""]
[null,""]
[null,""]
[null,""]
[null,""]
[null,""]
[null,""]
[null,""]
[null,""]
[null,""]
[null,""]
[null,""]
[null,""]
[null,""]
[null,""]
[null,""]
[null,""]
[null,""]
[null,""]
[null,""]
[null,""]
[null,""]
[null,""]
[null,""]
[null,""]
[null,""]
[null,""]
[null,""]
[null,""]
[null,""]
[null,""]
[null,""]
[null,""]
[null,""]
[]
[null,""]
[null,""]
[null,""]
[null,""]
[null,""]
[null,""]
[null,""]
[null,""]
[null,""]
[null,""]
[null,""]
[null,""]
[null,""]
[null,""]
[null,""]
[null,""]
[null,""]
[null,""]
[null,""]
[null,""]
[null,""]
[null,""]
[null,""]
[null,""]
[null,""]
[null,""]
[null,""]
[null,""]
[null,""]
[null,""]
[null,""]
[null,""]
[null,""]
[null,""]
[null,""]
[null,""]
[null,""]
[null,""]
[null,""]
[null,""]
[null,""]
[null,""]
[null,""]
[null,""]
[null,""]
[null,""]
[null,""]
[]
[null,""]
[null,""]
[null,""]
[null,""]
[null,""]
[null,""]
[null,""]
[null,""]
[null,""]
[null,""]
[null,""]
[null,""]
[null,""]
[null,""]
[null,""]
[null,""]
[null,""]
[null,""]
[null,""]
[null,""]
[null,""]
[null,""]
[null,""]
[null,""]
[null,""]
[null,""]
[null,""]
[null,""]
[null,""]
[null,""]
[null,""]
[null,""]
[null,""]
[null,""]
[null,""]
[null,""]
[null,""]
[null,""]
[null,""]
[null,""]
[null,""]
[null,""]
[null,""]
[null,""]
[null,""]
[null,""]
[null,""]
[]
[null,""]
[null,""]
[null,""]
[null,""]
[null,""]
[null,""]
[null,""]
[null,""]
[null,""]
[null,""]
[null,""]
[null,""]
[null,""]
[null,""]
[null,""]
[null,""]
[null,""]
[null,""]
[null,""]
[null,""]
[null,""]
[null,""]
[null,""]
[null,""]
[null,""]
[null,""]
[null,""]
[null,""]
[null,""]
[null,""]
[null,""]
[null,""]
[null,""]
[null,""]
[null,""]
[null,""]
[null,""]
[null,""]
[null,""]
[null,""]
[null,""]
[null,""]
[null,""]
[null,""]
[null,""]
[null,""]
[null,""]
[]
[null,""]
[null,""]
[null,""]
[null,""]
[null,""]
[null,""]
[null,""]
[null,""]
[null,""]
[null,""]
[null,""]
[null,""]
[null,""]
[null,""]
[null,""]
[null,""]
[null,""]
[null,""]
[null,""]
[null,""]
[null,""]
[null,""]
[null,""]
[null,""]
[null,""]
[null,""]
[null,""]
[null,""]
[null,""]
[null,""]
[null,""]
[null,""]
[null,""]
[null,""]
[null,""]
[null,""]
[null,""]
[null,""]
[null,""]
[null,""]
[null,""]
[null,""]
[null,""]
[null,""]
[null,""]
[null,""]
[null,""]
[]
[null,""]
[null,""]
[null,""]
[null,""]
[null,""]
[null,""]
[null,""]
[null,""]
[null,""]
[null,""]
[null,""]
[null,""]
[null,""]
[null,""]
[null,""]
[null,""]
[null,""]
[null,""]
[null,""]
[null,""]
[null,""]
[null,""]
[null,""]
[null,""]
[null,""]
[null,""]
[null,""]
[null,""]
[null,""]
[null,""]
[null,""]
[null,""]
[null,""]
[null,""]
[null,""]
[null,""]
[null,""]
[null,""]
[null,""]
[null,""]
[null,""]
[null,""]
[null,""]
[null,""]
[null,""]
[null,""]
[null,""]
[]
[null,""]
[null,""]
[null,""]
[null,""]
[null,""]
[null,""]
[null,""]
[null,""]
[null,""]
[null,""]
[null,""]
[null,""]
[null,""]
[null,""]
[null,""]
[null,""]
[null,""]
[null,""]
[null,""]
[null,""]
[null,""]
[null,""]
[null,""]
[null,""]
[null,""]
[null,""]
[null,""]
[null,""]
[null,""]
[null,""]
[null,""]
[null,""]
[null,""]
[null,""]
[null,""]
[null,""]
[null,""]
[null,""]
[null,""]
[null,""]
[null,""]
[null,""]
[null,""]
[null,""]
[null,""]
[null,""]
[null,""]
[]
[null,""]
[null,""]
[null,""]
[null,""]
[null,""]
[null,""]
[null,""]
[null,""]
[null,""]
[null,""]
[null,""]
[null,""]
[null,""]
[null,""]
[null,""]
[null,""]
[null,""]
[null,""]
[null,""]
[null,""]
[null,""]
[null,""]
[null,""]
[null,""]
[null,""]
[null,""]
[null,""]
[null,""]
[null,""]
[null,""]
[null,""]
[null,""]
[null,""]
[null,""]
[null,""]
[null,""]
[null,""]
[null,""]
[null,""]
[null,""]
[null,""]
[null,""]
[null,""]
[null,""]
[null,""]
[null,""]
[null,""]
[]
[null,""]
[null,""]
[null,""]
[null,""]
[null,""]
[null,""]
[null,""]
[null,""]
[null,""]
[null,""]
[null,""]
[null,""]
[null,""]
[null,""]
[null,""]
[null,""]
[null,""]
[null,""]
[null,""]
[null,""]
[null,""]
[null,""]
[null,""]
[null,""]
[null,""]
[null,""]
[null,""]
[null,""]
[null,""]
[null,""]
[null,""]
[null,""]
[null,""]
[null,""]
[null,""]
[null,""]
[null,""]
[null,""]
[null,""]
[null,""]
[null,""]
[null,""]
[null,""]
[null,""]
[null,""]
[null,""]
[null,""]
[]
[null,""]
[null,""]
[null,""]
[null,""]
[null,""]
[null,""]
[null,""]
[null,""]
[null,""]
[null,""]
[null,""]
[null,""]
[null,""]
[null,""]
[null,""]
[null,""]
[null,""]
[null,""]
[null,""]
[null,""]
[null,""]
[null,""]
[null,""]
[null,""]
[null,""]
[null,""]
[null,""]
[null,""]
[null,""]
[null,""]
[null,""]
[null,""]
[null,""]
[null,""]
[null,""]
[null,""]
[null,""]
[null,""]
[null,""]
[null,""]
[null,""]
[null,""]
[null,""]
[null,""]
[null,""]
[null,""]
[null,""]
[]
[null,""]
[null,""]
[null,""]
[null,""]
[null,""]
[null,""]
[null,""]
[null,""]
[null,""]
[null,""]
[null,""]
[null,""]
[null,""]
[null,""]
[null,""]
[null,""]
[null,""]
[null,""]
[null,""]
[null,""]
[null,""]
[null,""]
[null,""]
[null,""]
[null,""]
[null,""]
[null,""]
[null,""]
[null,""]
[null,""]
[null,""]
[null,""]
[null,""]
[null,""]
[null,""]
[null,""]
[null,""]
[null,""]
[null,""]
[null,""]
[null,""]
[null,""]
[null,""]
[null,""]
[null,""]
[null,""]
[null,""]
[]
[null,""]
[null,""]
[null,""]
[null,""]
[null,""]
[null,""]
[null,""]
[null,""]
[null,""]
[null,""]
[null,""]
[null,""]
[null,""]
[null,""]
[null,""]
[null,""]
[null,""]
[null,""]
[null,""]
[null,""]
[null,""]
[null,""]
[null,""]
[null,""]
[null,""]
[null,""]
[null,""]
[null,""]
[null,""]
[null,""]
[null,""]
[null,""]
[null,""]
[null,""]
[null,""]
[null,""]
[null,""]
[null,""]
[null,""]
[null,""]
[null,""]
[null,""]
[null,""]
[null,""]
[null,""]
[null,""]
[null,""]
[]
[null,""]
[null,""]
[null,""]
[null,""]
[null,""]
[null,""]
[null,""]
[null,""]
[null,""]
[null,""]
[null,""]
[null,""]
[null,""]
[null,""]
[null,""]
[null,""]
[null,""]
[null,""]
[null,""]
[null,""]
[null,""]
[null,""]
[null,""]
[null,""]
[null,""]
[null,""]
[null,""]
[null,""]
[null,""]
[null,""]
[null,""]
[null,""]
[null,""]
[null,""]
[null,""]
[null,""]
[null,""]
[null,""]
[null,""]
[null,""]
[null,""]
[null,""]
[null,""]
[null,""]
[null,""]
[null,""]
[null,""]
[]
[null,""]
[null,""]
[null,""]
[null,""]
[null,""]
[null,""]
[null,""]
[null,""]
[null,""]
[null,""]
[null,""]
[null,""]
[null,""]
[null,""]
[null,""]
[null,""]
[null,""]
[null,""]
[null,""]
[null,""]
[null,""]
[null,""]
[null,""]
[null,""]
[null,""]
[null,""]
[null,""]
[null,""]
[null,""]
[null,""]
[null,""]
[null,""]
[null,""]
[null,""]
[null,""]
[null,""]
[null,""]
[null,""]
[null,""]
[null,""]
[null,""]
[null,""]
[null,""]
[null,""]
[null,""]
[null,""]
[null,""]
[]
[null,""]
[null,""]
[null,""]
[null,""]
[null,""]
[null,""]
[null,""]
[null,""]
[null,""]
[null,""]
[null,""]
[null,""]
[null,""]
[null,""]
[null,""]
[null,""]
[null,""]
[null,""]
[null,""]
[null,""]
[null,""]
[null,""]
[null,""]
[null,""]
[null,""]
[null,""]
[null,""]
[null,""]
[null,""]
[null,""]
[null,""]
[null,""]
[null,""]
[null,""]
[null,""]
[null,""]
[null,""]
[null,""]
[null,""]
[null,""]
[null,""]
[null,""]
[null,""]
[null,""]
[null,""]
[null,""]
[null,""]
[]
[null,""]
[null,""]
[null,""]
[null,""]
[null,""]
[null,""]
[null,""]
[null,""]
[null,""]
[null,""]
[null,""]
[null,""]
[null,""]
[null,""]
[null,""]
[null,""]
[null,""]
[null,""]
[null,""]
[null,""]
[null,""]
[null,""]
[null,""]
[null,""]
[null,""]
[null,""]
[null,""]
[null,""]
[null,""]
[null,""]
[null,""]
[null,""]
[null,""]
[null,""]
[null,""]
[null,""]
[null,""]
[null,""]
[null,""]
[null,""]
[null,""]
[null,""]
[null,""]
[null,""]
[null,""]
[null,""]
[null,""]
[]
[null,""]
[null,""]
[null,""]
[null,""]
[null,""]
[null,""]
[null,""]
[null,""]
[null,""]
[null,""]
[null,""]
[null,""]
[null,""]
[null,""]
[null,""]
[null,""]
[null,""]
[null,""]
[null,""]
[null,""]
[null,""]
[null,""]
[null,""]
[null,""]
[null,""]
[null,""]
[null,""]
[null,""]
[null,""]
[null,""]
[null,""]
[null,""]
[null,""]
[null,""]
[null,""]
[null,""]
[null,""]
[null,""]
[null,""]
[null,""]
[null,""]
[null,""]
[null,""]
[null,""]
[null,""]
[null,""]
[null,""]
[]
[null,""]
[null,""]
[null,""]
[null,""]
[null,""]
[null,""]
[null,""]
[null,""]
[null,""]
[null,""]
[null,""]
[null,""]
[null,""]
[null,""]
[null,""]
[null,""]
[null,""]
[null,""]
[null,""]
[null,""]
[null,""]
[null,""]
[null,""]
[null,""]
[null,""]
[null,""]
[null,""]
[null,""]
[null,""]
[null,""]
[null,""]
[null,""]
[null,""]
[null,""]
[null,""]
[null,""]
[null,""]
[null,""]
[null,""]
[null,""]
[null,""]
[null,""]
[null,""]
[null,""]
[null,""]
[null,""]
[null,""]
[]
[null,""]
[null,""]
[null,""]
[null,""]
[null,""]
[null,""]
[null,""]
[null,""]
[null,""]
[null,""]
[null,""]
[null,""]
[null,""]
[null,""]
[null,""]
[null,""]
[null,""]
[null,""]
[null,""]
[null,""]
[null,""]
[null,""]
[null,""]
[null,""]
[null,""]
[null,""]
[null,""]
[null,""]
[null,""]
[null,""]
[null,""]
[null,""]
[null,""]
[null,""]
[null,""]
[null,""]
[null,""]
[null,""]
[null,""]
[null,""]
[null,""]
[null,""]
[null,""]
[null,""]
[null,""]
[null,""]
[null,""]
[]
[null,""]
[null,""]
[null,""]
[null,""]
[null,""]
[null,""]
[null,""]
[null,""]
[null,""]
[null,""]
[null,""]
[null,""]
[null,""]
[null,""]
[null,""]
[null,""]
[null,""]
[null,""]
[null,""]
[null,""]
[null,""]
[null,""]
[null,""]
[null,""]
[null,""]
[null,""]
[null,""]
[null,""]
[null,""]
[null,""]
[null,""]
[null,""]
[null,""]
[null,""]
[null,""]
[null,""]
[null,""]
[null,""]
[null,""]
[null,""]
[null,""]
[null,""]
[null,""]
[null,""]
[null,""]
[null,""]
[null,""]
[]
[null,""]
[null,""]
[null,""]
[null,""]
[null,""]
[null,""]
[null,""]
[null,""]
[null,""]
[null,""]
[null,""]
[null,""]
[null,""]
[null,""]
[null,""]
[null,""]
[null,""]
[null,""]
[null,""]
[null,""]
[null,""]
[null,""]
[null,""]
[null,""]
[null,""]
[null,""]
[null,""]
[null,""]
[null,""]
[null,""]
[null,""]
[null,""]
[null,""]
[null,""]
[null,""]
[null,""]
[null,""]
[null,""]
[null,""]
[null,""]
[null,""]
[null,""]
[null,""]
[null,""]
[null,""]
[null,""]
[null,""]
[]
[null,""]
[null,""]
[null,""]
[null,""]
[null,""]
[null,""]
[null,""]
[null,""]
[null,""]
[null,""]
[null,""]
[null,""]
[null,""]
[null,""]
[null,""]
[null,""]
[null,""]
[null,""]
[null,""]
[null,""]
[null,""]
[null,""]
[null,""]
[null,""]
[null,""]
[null,""]
[null,""]
[null,""]
[null,""]
[null,""]
[null,""]
[null,""]
[null,""]
[null,""]
[null,""]
[null,""]
[null,""]
[null,""]
[null,""]
[null,""]
[null,""]
[null,""]
[null,""]
[null,""]
[null,""]
[null,""]
[null,""]
[]
[null,""]
[null,""]
[null,""]
[null,""]
[null,""]
[null,""]
[null,""]
[null,""]
[null,""]
[null,""]
[null,""]
[null,""]
[null,""]
[null,""]
[null,""]
[null,""]
[null,""]
[null,""]
[null,""]
[null,""]
[null,""]
[null,""]
[null,""]
[null,""]
[null,""]
[null,""]
[null,""]
[null,""]
[null,""]
[null,""]
[null,""]
[null,""]
[null,""]
[null,""]
[null,""]
[null,""]
[null,""]
[null,""]
[null,""]
[null,""]
[null,""]
[null,""]
[null,""]
[null,""]
[null,""]
[null,""]
[null,""]
[]
[null,""]
[null,""]
[null,""]
[null,""]
[null,""]
[null,""]
[null,""]
[null,""]
[null,""]
[null,""]
[null,""]
[null,""]
[null,""]
[null,""]
[null,""]
[null,""]
[null,""]
[null,""]
[null,""]
[null,""]
[null,""]
[null,""]
[null,""]
[null,""]
[null,""]
[null,""]
[null,""]
[null,""]
[null,""]
[null,""]
[null,""]
[null,""]
[null,""]
[null,""]
[null,""]
[null,""]
[null,""]
[null,""]
[null,""]
[null,""]
[null,""]
[null,""]
[null,""]
[null,""]
[null,""]
[null,""]
[null,""]
[]
[null,""]
[null,""]
[null,""]
[null,""]
[null,""]
[null,""]
[null,""]
[null,""]
[null,""]
[null,""]
[null,""]
[null,""]
[null,""]
[null,""]
[null,""]
[null,""]
[null,""]
[null,""]
[null,""]
[null,""]
[null,""]
[null,""]
[null,""]
[null,""]
[null,""]
[null,""]
[null,""]
[null,""]
[null,""]
[null,""]
[null,""]
[null,""]
[null,""]
[null,""]
[null,""]
[null,""]
[null,""]
[null,""]
[null,""]
[null,""]
[null,""]
[null,""]
[null,""]
[null,""]
[null,""]
[null,""]
[null,""]
[]
[null,""]
[null,""]
[null,""]
[null,""]
[null,""]
[null,""]
[null,""]
[null,""]
[null,""]
[null,""]
[null,""]
[null,""]
[null,""]
[null,""]
[null,""]
[null,""]
[null,""]
[null,""]
[null,""]
[null,""]
[null,""]
[null,""]
[null,""]
[null,""]
[null,""]
[null,""]
[null,""]
[null,""]
[null,""]
[null,""]
[null,""]
[null,""]
[null,""]
[null,""]
[null,""]
[null,""]
[null,""]
[null,""]
[null,""]
[null,""]
[null,""]
[null,""]
[null,""]
[null,""]
[null,""]
[null,""]
[null,""]
[]
[null,""]
[null,""]
[null,""]
[null,""]
[null,""]
[null,""]
[null,""]
[null,""]
[null,""]
[null,""]
[null,""]
[null,""]
[null,""]
[null,""]
[null,""]
[null,""]
[null,""]
[null,""]
[null,""]
[null,""]
[null,""]
[null,""]
[null,""]
[null,""]
[null,""]
[null,""]
[null,""]
[null,""]
[null,""]
[null,""]
[null,""]
[null,""]
[null,""]
[null,""]
[null,""]
[null,""]
[null,""]
[null,""]
[null,""]
[null,""]
[null,""]
[null,""]
[null,""]
[null,""]
[null,""]
[null,""]
[null,""]
[]
[null,""]
[null,""]
[null,""]
[null,""]
[null,""]
[null,""]
[null,""]
[null,""]
[null,""]
[null,""]
[null,""]
[null,""]
[null,""]
[null,""]
[null,""]
[null,""]
[null,""]
[null,""]
[null,""]
[null,""]
[null,""]
[null,""]
[null,""]
[null,""]
[null,""]
[null,""]
[null,""]
[null,""]
[null,""]
[null,""]
[null,""]
[null,""]
[null,""]
[null,""]
[null,""]
[null,""]
[null,""]
[null,""]
[null,""]
[null,""]
[null,""]
[null,""]
[null,""]
[null,""]
[null,""]
[null,""]
[null,""]
[]
[null,""]
[null,""]
[null,""]
[null,""]
[null,""]
[null,""]
[null,""]
[null,""]
[null,""]
[null,""]
[null,""]
[null,""]
[null,""]
[null,""]
[null,""]
[null,""]
[null,""]
[null,""]
[null,""]
[null,""]
[null,""]
[null,""]
[null,""]
[null,""]
[null,""]
[null,""]
[null,""]
[null,""]
[null,""]
[null,""]
[null,""]
[null,""]
[null,""]
[null,""]
[null,""]
[null,""]
[null,""]
[null,""]
[null,""]
[null,""]
[null,""]
[null,""]
[null,""]
[null,""]
[null,""]
[null,""]
[null,""]
[]
[null,""]
[null,""]
[null,""]
[null,""]
[null,""]
[null,""]
[null,""]
[null,""]
[null,""]
[null,""]
[null,""]
[null,""]
[null,""]
[null,""]
[null,""]
[null,""]
[null,""]
[null,""]
[null,""]
[null,""]
[null,""]
[null,""]
[null,""]
[null,""]
[null,""]
[null,""]
[null,""]
[null,""]
[null,""]
[null,""]
[null,""]
[null,""]
[null,""]
[null,""]
[null,""]
[null,""]
[null,""]
[null,""]
[null,""]
[null,""]
[null,""]
[null,""]
[null,""]
[null,""]
[null,""]
[null,""]
[null,""]
[]
[null,""]
[null,""]
[null,""]
[null,""]
[null,""]
[null,""]
[null,""]
[null,""]
[null,""]
[null,""]
[null,""]
[null,""]
[null,""]
[null,""]
[null,""]
[null,""]
[null,""]
[null,""]
[null,""]
[null,""]
[null,""]
[null,""]
[null,""]
[null,""]
[null,""]
[null,""]
[null,""]
[null,""]
[null,""]
[null,""]
[null,""]
[null,""]
[null,""]
[null,""]
[null,""]
[null,""]
[null,""]
[null,""]
[null,""]
[null,""]
[null,""]
[null,""]
[null,""]
[null,""]
[null,""]
[null,""]
[null,""]
[]
[null,""]
[null,""]
[null,""]
[null,""]
[null,""]
[null,""]
[null,""]
[null,""]
[null,""]
[null,""]
[null,""]
[null,""]
[null,""]
[null,""]
[null,""]
[null,""]
[null,""]
[null,""]
[null,""]
[null,""]
[null,""]
[null,""]
[null,""]
[null,""]
[null,""]
[null,""]
[null,""]
[null,""]
[null,""]
[null,""]
[null,""]
[null,""]
[null,""]
[null,""]
[null,""]
[null,""]
[null,""]
[null,""]
[null,""]
[null,""]
[null,""]
[null,""]
[null,""]
[null,""]
[null,""]
[null,""]
[null,""]
[]
[null,""]
[null,""]
[null,""]
[null,""]
[null,""]
[null,""]
[null,""]
[null,""]
[null,""]
[null,""]
[null,""]
[null,""]
[null,""]
[null,""]
[null,""]
[null,""]
[null,""]
[null,""]
[null,""]
[null,""]
[null,""]
[null,""]
[null,""]
[null,""]
[null,""]
[null,""]
[null,""]
[null,""]
[null,""]
[null,""]
[null,""]
[null,""]
[null,""]
[null,""]
[null,""]
[null,""]
[null,""]
[null,""]
[null,""]
[null,""]
[null,""]
[null,""]
[null,""]
[null,""]
[null,""]
[null,""]
[null,""]
[]
[null,""]
[null,""]
[null,""]
[null,""]
[null,""]
[null,""]
[null,""]
[null,""]
[null,""]
[null,""]
[null,""]
[null,""]
[null,""]
[null,""]
[null,""]
[null,""]
[null,""]
[null,""]
[null,""]
[null,""]
[null,""]
[null,""]
[null,""]
[null,""]
[null,""]
[null,""]
[null,""]
[null,""]
[null,""]
[null,""]
[null,""]
[null,""]
[null,""]
[null,""]
[null,""]
[null,""]
[null,""]
[null,""]
[null,""]
[null,""]
[null,""]
[null,""]
[null,""]
[null,""]
[null,""]
[null,""]
[null,""]
[]
[null,""]
[null,""]
[null,""]
[null,""]
[null,""]
[null,""]
[null,""]
[null,""]
[null,""]
[null,""]
[null,""]
[null,""]
[null,""]
[null,""]
[null,""]
[null,""]
[null,""]
[null,""]
[null,""]
[null,""]
[null,""]
[null,""]
[null,""]
[null,""]
[null,""]
[null,""]
[null,""]
[null,""]
[null,""]
[null,""]
[null,""]
[null,""]
[null,""]
[null,""]
[null,""]
[null,""]
[null,""]
[null,""]
[null,""]
[null,""]
[null,""]
[null,""]
[null,""]
[null,""]
[null,""]
[null,""]
[null,""]
[]
[null,""]
[null,""]
[null,""]
[null,""]
[null,""]
[null,""]
[null,""]
[null,""]
[null,""]
[null,""]
[null,""]
[null,""]
[null,""]
[null,""]
[null,""]
[null,""]
[null,""]
[null,""]
[null,""]
[null,""]
[null,""]
[null,""]
[null,""]
[null,""]
[null,""]
[null,""]
[null,""]
[null,""]
[null,""]
[null,""]
[null,""]
[null,""]
[null,""]
[null,""]
[null,""]
[null,""]
[null,""]
[null,""]
[null,""]
[null,""]
[null,""]
[null,""]
[null,""]
[null,""]
[null,""]
[null,""]
[null,""]
[]
[null,""]
[null,""]
[null,""]
[null,""]
[null,""]
[null,""]
[null,""]
[null,""]
[null,""]
[null,""]
[null,""]
[null,""]
[null,""]
[null,""]
[null,""]
[null,""]
[null,""]
[null,""]
[null,""]
[null,""]
[null,""]
[null,""]
[null,""]
[null,""]
[null,""]
[null,""]
[null,""]
[null,""]
[null,""]
[null,""]
[null,""]
[null,""]
[null,""]
[null,""]
[null,""]
[null,""]
[null,""]
[null,""]
[null,""]
[null,""]
[null,""]
[null,""]
[null,""]
[null,""]
[null,""]
[null,""]
[null,""]
[]
[null,""]
[null,""]
[null,""]
[null,""]
[null,""]
[null,""]
[null,""]
[null,""]
[null,""]
[null,""]
[null,""]
[null,""]
[null,""]
[null,""]
[null,""]
[null,""]
[null,""]
[null,""]
[null,""]
[null,""]
[null,""]
[null,""]
[null,""]
[null,""]
[null,""]
[null,""]
[null,""]
[null,""]
[null,""]
[null,""]
[null,""]
[null,""]
[null,""]
[null,""]
[null,""]
[null,""]
[null,""]
[null,""]
[null,""]
[null,""]
[null,""]
[null,""]
[null,""]
[null,""]
[null,""]
[null,""]
[null,""]
[]
[null,""]
[null,""]
[null,""]
[null,""]
[null,""]
[null,""]
[null,""]
[null,""]
[null,""]
[null,""]
[null,""]
[null,""]
[null,""]
[null,""]
[null,""]
[null,""]
[null,""]
[null,""]
[null,""]
[null,""]
[null,""]
[null,""]
[null,""]
[null,""]
[null,""]
[null,""]
[null,""]
[null,""]
[null,""]
[null,""]
[null,""]
[null,""]
[null,""]
[null,""]
[null,""]
[null,""]
[null,""]
[null,""]
[null,""]
[null,""]
[null,""]
[null,""]
[null,""]
[null,""]
[null,""]
[null,""]
[null,""]
[]
[null,""]
[null,""]
[null,""]
[null,""]
[null,""]
[null,""]
[null,""]
[null,""]
[null,""]
[null,""]
[null,""]
[null,""]
[null,""]
[null,""]
[null,""]
[null,""]
[null,""]
[null,""]
[null,""]
[null,""]
[null,""]
[null,""]
[null,""]
[null,""]
[null,""]
[null,""]
[null,""]
[null,""]
[null,""]
[null,""]
[null,""]
[null,""]
[null,""]
[null,""]
[null,""]
[null,""]
[null,""]
[null,""]
[null,""]
[null,""]
[null,""]
[null,""]
[null,""]
[null,""]
[null,""]
[null,""]
[null,""]
[]
[null,""]
[null,""]
[null,""]
[null,""]
[null,""]
[null,""]
[null,""]
[null,""]
[null,""]
[null,""]
[null,""]
[null,""]
[null,""]
[null,""]
[null,""]
[null,""]
[null,""]
[null,""]
[null,""]
[null,""]
[null,""]
[null,""]
[null,""]
[null,""]
[null,""]
[null,""]
[null,""]
[null,""]
[null,""]
[null,""]
[null,""]
[null,""]
[null,""]
[null,""]
[null,""]
[null,""]
[null,""]
[null,""]
[null,""]
[null,""]
[null,""]
[null,""]
[null,""]
[null,""]
[null,""]
[null,""]
[null,""]
[]
[null,""]
[null,""]
[null,""]
[null,""]
[null,""]
[null,""]
[null,""]
[null,""]
[null,""]
[null,""]
[null,""]
[null,""]
[null,""]
[null,""]
[null,""]
[null,""]
[null,""]
[null,""]
[null,""]
[null,""]
[null,""]
[null,""]
[null,""]
[null,""]
[null,""]
[null,""]
[null,""]
[null,""]
[null,""]
[null,""]
[null,""]
[null,""]
[null,""]
[null,""]
[null,""]
[null,""]
[null,""]
[null,""]
[null,""]
[null,""]
[null,""]
[null,""]
[null,""]
[null,""]
[null,""]
[null,""]
[null,""]
[]
[null,""]
[null,""]
[null,""]
[null,""]
[null,""]
[null,""]
[null,""]
[null,""]
[null,""]
[null,""]
[null,""]
[null,""]
[null,""]
[null,""]
[null,""]
[null,""]
[null,""]
[null,""]
[null,""]
[null,""]
[null,""]
[null,""]
[null,""]
[null,""]
[null,""]
[null,""]
[null,""]
[null,""]
[null,""]
[null,""]
[null,""]
[null,""]
[null,""]
[null,""]
[null,""]
[null,""]
[null,""]
[null,""]
[null,""]
[null,""]
[null,""]
[null,""]
[null,""]
[null,""]
[null,""]
[null,""]
[null,""]
[]
[null,""]
[null,""]
[null,""]
[null,""]
[null,""]
[null,""]
[null,""]
[null,""]
[null,""]
[null,""]
[null,""]
[null,""]
[null,""]
[null,""]
[null,""]
[null,""]
[null,""]
[null,""]
[null,""]
[null,""]
[null,""]
[null,""]
[null,""]
[null,""]
[null,""]
[null,""]
[null,""]
[null,""]
[null,""]
[null,""]
[null,""]
[null,""]
[null,""]
[null,""]
[null,""]
[null,""]
[null,""]
[null,""]
[null,""]
[null,""]
[null,""]
[null,""]
[null,""]
[null,""]
[null,""]
[null,""]
[null,""]
[]
[null,""]
[null,""]
[null,""]
[null,""]
[null,""]
[null,""]
[null,""]
[null,""]
[null,""]
[null,""]
[null,""]
[null,""]
[null,""]
[null,""]
[null,""]
[null,""]
[null,""]
[null,""]
[null,""]
[null,""]
[null,""]
[null,""]
[null,""]
[null,""]
[null,""]
[null,""]
[null,""]
[null,""]
[null,""]
[null,""]
[null,""]
[null,""]
[null,""]
[null,""]
[null,""]
[null,""]
[null,""]
[null,""]
[null,""]
[null,""]
[null,""]
[null,""]
[null,""]
[null,""]
[null,""]
[null,""]
[null,""]
[]
[null,""]
[null,""]
[null,""]
[null,""]
[null,""]
[null,""]
[null,""]
[null,""]
[null,""]
[null,""]
[null,""]
[null,""]
[null,""]
[null,""]
[null,""]
[null,""]
[null,""]
[null,""]
[null,""]
[null,""]
[null,""]
[null,""]
[null,""]
[null,""]
[null,""]
[null,""]
[null,""]
[null,""]
[null,""]
[null,""]
[null,""]
[null,""]
[null,""]
[null,""]
[null,""]
[null,""]
[null,""]
[null,""]
[null,""]
[null,""]
[null,""]
[null,""]
[null,""]
[null,""]
[null,""]
[null,""]
[null,""]
[]
[null,""]
[null,""]
[null,""]
[null,""]
[null,""]
[null,""]
[null,""]
[null,""]
[null,""]
[null,""]
[null,""]
[null,""]
[null,""]
[null,""]
[null,""]
[null,""]
[null,""]
[null,""]
[null,""]
[null,""]
[null,""]
[null,""]
[null,""]
[null,""]
[null,""]
[null,""]
[null,""]
[null,""]
[null,""]
[null,""]
[null,""]
[null,""]
[null,""]
[null,""]
[null,""]
[null,""]
[null,""]
[null,""]
[null,""]
[null,""]
[null,""]
[null,""]
[null,""]
[null,""]
[null,""]
[null,""]
[null,""]
[]
[null,""]
[null,""]
[null,""]
[null,""]
[null,""]
[null,""]
[null,""]
[null,""]
[null,""]
[null,""]
[null,""]
[null,""]
[null,""]
[null,""]
[null,""]
[null,""]
[null,""]
[null,""]
[null,""]
[null,""]
[null,""]
[null,""]
[null,""]
[null,""]
[null,""]
[null,""]
[null,""]
[null,""]
[null,""]
[null,""]
[null,""]
[null,""]
[null,""]
[null,""]
[null,""]
[null,""]
[null,""]
[null,""]
[null,""]
[null,""]
[null,""]
[null,""]
[null,""]
[null,""]
[null,""]
[null,""]
[null,""]
[]
[null,""]
[null,""]
[null,""]
[null,""]
[null,""]
[null,""]
[null,""]
[null,""]
[null,""]
[null,""]
[null,""]
[null,""]
[null,""]
[null,""]
[null,""]
[null,""]
[null,""]
[null,""]
[null,""]
[null,""]
[null,""]
[null,""]
[null,""]
[null,""]
[null,""]
[null,""]
[null,""]
[null,""]
[null,""]
[null,""]
[null,""]
[null,""]
[null,""]
[null,""]
[null,""]
[null,""]
[null,""]
[null,""]
[null,""]
[null,""]
[null,""]
[null,""]
[null,""]
[null,""]
[null,""]
[null,""]
[null,""]
[]
[null,""]
[null,""]
[null,""]
[null,""]
[null,""]
[null,""]
[null,""]
[null,""]
[null,""]
[null,""]
[null,""]
[null,""]
[null,""]
[null,""]
[null,""]
[null,""]
[null,""]
[null,""]
[null,""]
[null,""]
[null,""]
[null,""]
[null,""]
[null,""]
[null,""]
[null,""]
[null,""]
[null,""]
[null,""]
[null,""]
[null,""]
[null,""]
[null,""]
[null,""]
[null,""]
[null,""]
[null,""]
[null,""]
[null,""]
[null,""]
[null,""]
[null,""]
[null,""]
[null,""]
[null,""]
[null,""]
[null,""]
[]
[null,""]
[null,""]
[null,""]
[null,""]
[null,""]
[null,""]
[null,""]
[null,""]
[null,""]
[null,""]
[null,""]
[null,""]
[null,""]
[null,""]
[null,""]
[null,""]
[null,""]
[null,""]
[null,""]
[null,""]
[null,""]
[null,""]
[null,""]
[null,""]
[null,""]
[null,""]
[null,""]
[null,""]
[null,""]
[null,""]
[null,""]
[null,""]
[null,""]
[null,""]
[null,""]
[null,""]
[null,""]
[null,""]
[null,""]
[null,""]
[null,""]
[null,""]
[null,""]
[null,""]
[null,""]
[null,""]
[null,""]
[]
[null,""]
[null,""]
[null,""]
[null,""]
[null,""]
[null,""]
[null,""]
[null,""]
[null,""]
[null,""]
[null,""]
[null,""]
[null,""]
[null,""]
[null,""]
[null,""]
[null,""]
[null,""]
[null,""]
[null,""]
[null,""]
[null,""]
[null,""]
[null,""]
[null,""]
[null,""]
[null,""]
[null,""]
[null,""]
[null,""]
[null,""]
[null,""]
[null,""]
[null,""]
[null,""]
[null,""]
[null,""]
[null,""]
[null,""]
[null,""]
[null,""]
[null,""]
[null,""]
[null,""]
[null,""]
[null,""]
[null,""]
[]
[null,""]
[null,""]
[null,""]
[null,""]
[null,""]
[null,""]
[null,""]
[null,""]
[null,""]
[null,""]
[null,""]
[null,""]
[null,""]
[null,""]
[null,""]
[null,""]
[null,""]
[null,""]
[null,""]
[null,""]
[null,""]
[null,""]
[null,""]
[null,""]
[null,""]
[null,""]
[null,""]
[null,""]
[null,""]
[null,""]
[null,""]
[null,""]
[null,""]
[null,""]
[null,""]
[null,""]
[null,""]
[null,""]
[null,""]
[null,""]
[null,""]
[null,""]
[null,""]
[null,""]
[null,""]
[null,""]
[null,""]
[]
[null,""]
[null,""]
[null,""]
[null,""]
[null,""]
[null,""]
[null,""]
[null,""]
[null,""]
[null,""]
[null,""]
[null,""]
[null,""]
[null,""]
[null,""]
[null,""]
[null,""]
[null,""]
[null,""]
[null,""]
[null,""]
[null,""]
[null,""]
[null,""]
[null,""]
[null,""]
[null,""]
[null,""]
[null,""]
[null,""]
[null,""]
[null,""]
[null,""]
[null,""]
[null,""]
[null,""]
[null,""]
[null,""]
[null,""]
[null,""]
[null,""]
[null,""]
[null,""]
[null,""]
[null,""]
[null,""]
[null,""]
[]
[null,""]
[null,""]
[null,""]
[null,""]
[null,""]
[null,""]
[null,""]
[null,""]
[null,""]
[null,""]
[null,""]
[null,""]
[null,""]
[null,""]
[null,""]
[null,""]
[null,""]
[null,""]
[null,""]
[null,""]
[null,""]
[null,""]
[null,""]
[null,""]
[null,""]
[null,""]
[null,""]
[null,""]
[null,""]
[null,""]
[null,""]
[null,""]
[null,""]
[null,""]
[null,""]
[null,""]
[null,""]
[null,""]
[null,""]
[null,""]
[null,""]
[null,""]
[null,""]
[null,""]
[null,""]
[null,""]
[null,""]
[]
[null,""]
[null,""]
[null,""]
[null,""]
[null,""]
[null,""]
[null,""]
[null,""]
[null,""]
[null,""]
[null,""]
[null,""]
[null,""]
[null,""]
[null,""]
[null,""]
[null,""]
[null,""]
[null,""]
[null,""]
[null,""]
[null,""]
[null,""]
[null,""]
[null,""]
[null,""]
[null,""]
[null,""]
[null,""]
[null,""]
[null,""]
[null,""]
[null,""]
[null,""]
[null,""]
[null,""]
[null,""]
[null,""]
[null,""]
[null,""]
[null,""]
[null,""]
[null,""]
[null,""]
[null,""]
[null,""]
[null,""]
[]
[null,""]
[null,""]
[null,""]
[null,""]
[null,""]
[null,""]
[null,""]
[null,""]
[null,""]
[null,""]
[null,""]
[null,""]
[null,""]
[null,""]
[null,""]
[null,""]
[null,""]
[null,""]
[null,""]
[null,""]
[null,""]
[null,""]
[null,""]
[null,""]
[null,""]
[null,""]
[null,""]
[null,""]
[null,""]
[null,""]
[null,""]
[null,""]
[null,""]
[null,""]
[null,""]
[null,""]
[null,""]
[null,""]
[null,""]
[null,""]
[null,""]
[null,""]
[null,""]
[null,""]
[null,""]
[null,""]
[null,""]
[]
[null,""]
[null,""]
[null,""]
[null,""]
[null,""]
[null,""]
[null,""]
[null,""]
[null,""]
[null,""]
[null,""]
[null,""]
[null,""]
[null,""]
[null,""]
[null,""]
[null,""]
[null,""]
[null,""]
[null,""]
[null,""]
[null,""]
[null,""]
[null,""]
[null,""]
[null,""]
[null,""]
[null,""]
[null,""]
[null,""]
[null,""]
[null,""]
[null,""]
[null,""]
[null,""]
[null,""]
[null,""]
[null,""]
[null,""]
[null,""]
[null,""]
[null,""]
[null,""]
[null,""]
[null,""]
[null,""]
[null,""]
[]
[null,""]
[null,""]
[null,""]
[null,""]
[null,""]
[null,""]
[null,""]
[null,""]
[null,""]
[null,""]
[null,""]
[null,""]
[null,""]
[null,""]
[null,""]
[null,""]
[null,""]
[null,""]
[null,""]
[null,""]
[null,""]
[null,""]
[null,""]
[null,""]
[null,""]
[null,""]
[null,""]
[null,""]
[null,""]
[null,""]
[null,""]
[null,""]
[null,""]
[null,""]
[null,""]
[null,""]
[null,""]
[null,""]
[null,""]
[null,""]
[null,""]
[null,""]
[null,""]
[null,""]
[null,""]
[null,""]
[null,""]
[]
[null,""]
[null,""]
[null,""]
[null,""]
[null,""]
[null,""]
[null,""]
[null,""]
[null,""]
[null,""]
[null,""]
[null,""]
[null,""]
[null,""]
[null,""]
[null,""]
[null,""]
[null,""]
[null,""]
[null,""]
[null,""]
[null,""]
[null,""]
[null,""]
[null,""]
[null,""]
[null,""]
[null,""]
[null,""]
[null,""]
[null,""]
[null,""]
[null,""]
[null,""]
[null,""]
[null,""]
[null,""]
[null,""]
[null,""]
[null,""]
[null,""]
[null,""]
[null,""]
[null,""]
[null,""]
[null,""]
[null,""]
[]
[null,""]
[null,""]
[null,""]
[null,""]
[null,""]
[null,""]
[null,""]
[null,""]
[null,""]
[null,""]
[null,""]
[null,""]
[null,""]
[null,""]
[null,""]
[null,""]
[null,""]
[null,""]
[null,""]
[null,""]
[null,""]
[null,""]
[null,""]
[null,""]
[null,""]
[null,""]
[null,""]
[null,""]
[null,""]
[null,""]
[null,""]
[null,""]
[null,""]
[null,""]
[null,""]
[null,""]
[null,""]
[null,""]
[null,""]
[null,""]
[null,""]
[null,""]
[null,""]
[null,""]
[null,""]
[null,""]
[null,""]
[]
[null,""]
[null,""]
[null,""]
[null,""]
[null,""]
[null,""]
[null,""]
[null,""]
[null,""]
[null,""]
[null,""]
[null,""]
[null,""]
[null,""]
[null,""]
[null,""]
[null,""]
[null,""]
[null,""]
[null,""]
[null,""]
[null,""]
[null,""]
[null,""]
[null,""]
[null,""]
[null,""]
[null,""]
[null,""]
[null,""]
[null,""]
[null,""]
[null,""]
[null,""]
[null,""]
[null,""]
[null,""]
[null,""]
[null,""]
[null,""]
[null,""]
[null,""]
[null,""]
[null,""]
[null,""]
[null,""]
[null,""]
[]
[null,""]
[null,""]
[null,""]
[null,""]
[null,""]
[null,""]
[null,""]
[null,""]
[null,""]
[null,""]
[null,""]
[null,""]
[null,""]
[null,""]
[null,""]
[null,""]
[null,""]
[null,""]
[null,""]
[null,""]
[null,""]
[null,""]
[null,""]
[null,""]
[null,""]
[null,""]
[null,""]
[null,""]
[null,""]
[null,""]
[null,""]
[null,""]
[null,""]
[null,""]
[null,""]
[null,""]
[null,""]
[null,""]
[null,""]
[null,""]
[null,""]
[null,""]
[null,""]
[null,""]
[null,""]
[null,""]
[null,""]
[]
[null,""]
[null,""]
[null,""]
[null,""]
[null,""]
[null,""]
[null,""]
[null,""]
[null,""]
[null,""]
[null,""]
[null,""]
[null,""]
[null,""]
[null,""]
[null,""]
[null,""]
[null,""]
[null,""]
[null,""]
[null,""]
[null,""]
[null,""]
[null,""]
[null,""]
[null,""]
[null,""]
[null,""]
[null,""]
[null,""]
[null,""]
[null,""]
[null,""]
[null,""]
[null,""]
[null,""]
[null,""]
[null,""]
[null,""]
[null,""]
[null,""]
[null,""]
[null,""]
[null,""]
[null,""]
[null,""]
[null,""]
[]
[null,""]
[null,""]
[null,""]
[null,""]
[null,""]
[null,""]
[null,""]
[null,""]
[null,""]
[null,""]
[null,""]
[null,""]
[null,""]
[null,""]
[null,""]
[null,""]
[null,""]
[null,""]
[null,""]
[null,""]
[null,""]
[null,""]
[null,""]
[null,""]
[null,""]
[null,""]
[null,""]
[null,""]
[null,""]
[null,""]
[null,""]
[null,""]
[null,""]
[null,""]
[null,""]
[null,""]
[null,""]
[null,""]
[null,""]
[null,""]
[null,""]
[null,""]
[null,""]
[null,""]
[null,""]
[null,""]
[null,""]
[]
[null,""]
[null,""]
[null,""]
[null,""]
[null,""]
[null,""]
[null,""]
[null,""]
[null,""]
[null,""]
[null,""]
[null,""]
[null,""]
[null,""]
[null,""]
[null,""]
[null,""]
[null,""]
[null,""]
[null,""]
[null,""]
[null,""]
[null,""]
[null,""]
[null,""]
[null,""]
[null,""]
[null,""]
[null,""]
[null,""]
[null,""]
[null,""]
[null,""]
[null,""]
[null,""]
[null,""]
[null,""]
[null,""]
[null,""]
[null,""]
[null,""]
[null,""]
[null,""]
[null,""]
[null,""]
[null,""]
[null,""]
[]
[null,""]
[null,""]
[null,""]
[null,""]
[null,""]
[null,""]
[null,""]
[null,""]
[null,""]
[null,""]
[null,""]
[null,""]
[null,""]
[null,""]
[null,""]
[null,""]
[null,""]
[null,""]
[null,""]
[null,""]
[null,""]
[null,""]
[null,""]
[null,""]
[null,""]
[null,""]
[null,""]
[null,""]
[null,""]
[null,""]
[null,""]
[null,""]
[null,""]
[null,""]
[null,""]
[null,""]
[null,""]
[null,""]
[null,""]
[null,""]
[null,""]
[null,""]
[null,""]
[null,""]
[null,""]
[null,""]
[null,""]
[]
[null,""]
[null,""]
[null,""]
[null,""]
[null,""]
[null,""]
[null,""]
[null,""]
[null,""]
[null,""]
[null,""]
[null,""]
[null,""]
[null,""]
[null,""]
[null,""]
[null,""]
[null,""]
[null,""]
[null,""]
[null,""]
[null,""]
[null,""]
[null,""]
[null,""]
[null,""]
[null,""]
[null,""]
[null,""]
[null,""]
[null,""]
[null,""]
[null,""]
[null,""]
[null,""]
[null,""]
[null,""]
[null,""]
[null,""]
[null,""]
[null,""]
[null,""]
[null,""]
[null,""]
[null,""]
[null,""]
[null,""]
[]
[null,""]
[null,""]
[null,""]
[null,""]
[null,""]
[null,""]
[null,""]
[null,""]
[null,""]
[null,""]
[null,""]
[null,""]
[null,""]
[null,""]
[null,""]
[null,""]
[null,""]
[null,""]
[null,""]
[null,""]
[null,""]
[null,""]
[null,""]
[null,""]
[null,""]
[null,""]
[null,""]
[null,""]
[null,""]
[null,""]
[null,""]
[null,""]
[null,""]
[null,""]
[null,""]
[null,""]
[null,""]
[null,""]
[null,""]
[null,""]
[null,""]
[null,""]
[null,""]
[null,""]
[null,""]
[null,""]
[null,""]
[]
[null,""]
[null,""]
[null,""]
[null,""]
[null,""]
[null,""]
[null,""]
[null,""]
[null,""]
[null,""]
[null,""]
[null,""]
[null,""]
[null,""]
[null,""]
[null,""]
[null,""]
[null,""]
[null,""]
[null,""]
[null,""]
[null,""]
[null,""]
[null,""]
[null,""]
[null,""]
[null,""]
[null,""]
[null,""]
[null,""]
[null,""]
[null,""]
[null,""]
[null,""]
[null,""]
[null,""]
[null,""]
[null,""]
[null,""]
[null,""]
[null,""]
[null,""]
[null,""]
[null,""]
[null,""]
[null,""]
[null,""]
[]
[null,""]
[null,""]
[null,""]
[null,""]
[null,""]
[null,""]
[null,""]
[null,""]
[null,""]
[null,""]
[null,""]
[null,""]
[null,""]
[null,""]
[null,""]
[null,""]
[null,""]
[null,""]
[null,""]
[null,""]
[null,""]
[null,""]
[null,""]
[null,""]
[null,""]
[null,""]
[null,""]
[null,""]
[null,""]
[null,""]
[null,""]
[null,""]
[null,""]
[null,""]
[null,""]
[null,""]
[null,""]
[null,""]
[null,""]
[null,""]
[null,""]
[null,""]
[null,""]
[null,""]
[null,""]
[null,""]
[null,""]
[]
[null,""]
[null,""]
[null,""]
[null,""]
[null,""]
[null,""]
[null,""]
[null,""]
[null,""]
[null,""]
[null,""]
[null,""]
[null,""]
[null,""]
[null,""]
[null,""]
[null,""]
[null,""]
[null,""]
[null,""]
[null,""]
[null,""]
[null,""]
[null,""]
[null,""]
[null,""]
[null,""]
[null,""]
[null,""]
[null,""]
[null,""]
[null,""]
[null,""]
[null,""]
[null,""]
[null,""]
[null,""]
[null,""]
[null,""]
[null,""]
[null,""]
[null,""]
[null,""]
[null,""]
[null,""]
[null,""]
[null,""]
[]
[null,""]
[null,""]
[null,""]
[null,""]
[null,""]
[null,""]
[null,""]
[null,""]
[null,""]
[null,""]
[null,""]
[null,""]
[null,""]
[null,""]
[null,""]
[null,""]
[null,""]
[null,""]
[null,""]
[null,""]
[null,""]
[null,""]
[null,""]
[null,""]
[null,""]
[null,""]
[null,""]
[null,""]
[null,""]
[null,""]
[null,""]
[null,""]
[null,""]
[null,""]
[null,""]
[null,""]
[null,""]
[null,""]
[null,""]
[null,""]
[null,""]
[null,""]
[null,""]
[null,""]
[null,""]
[null,""]
[null,""]
[]
[null,""]
[null,""]
[null,""]
[null,""]
[null,""]
[null,""]
[null,""]
[null,""]
[null,""]
[null,""]
[null,""]
[null,""]
[null,""]
[null,""]
[null,""]
[null,""]
[null,""]
[null,""]
[null,""]
[null,""]
[null,""]
[null,""]
[null,""]
[null,""]
[null,""]
[null,""]
[null,""]
[null,""]
[null,""]
[null,""]
[null,""]
[null,""]
[null,""]
[null,""]
[null,""]
[null,""]
[null,""]
[null,""]
[null,""]
[null,""]
[null,""]
[null,""]
[null,""]
[null,""]
[null,""]
[null,""]
[null,""]
[]
[null,""]
[null,""]
[null,""]
[null,""]
[null,""]
[null,""]
[null,""]
[null,""]
[null,""]
[null,""]
[null,""]
[null,""]
[null,""]
[null,""]
[null,""]
[null,""]
[null,""]
[null,""]
[null,""]
[null,""]
[null,""]
[null,""]
[null,""]
[null,""]
[null,""]
[null,""]
[null,""]
[null,""]
[null,""]
[null,""]
[null,""]
[null,""]
[null,""]
[null,""]
[null,""]
[null,""]
[null,""]
[null,""]
[null,""]
[null,""]
[null,""]
[null,""]
[null,""]
[null,""]
[null,""]
[null,""]
[null,""]
[]
[null,""]
[null,""]
[null,""]
[null,""]
[null,""]
[null,""]
[null,""]
[null,""]
[null,""]
[null,""]
[null,""]
[null,""]
[null,""]
[null,""]
[null,""]
[null,""]
[null,""]
[null,""]
[null,""]
[null,""]
[null,""]
[null,""]
[null,""]
[null,""]
[null,""]
[null,""]
[null,""]
[null,""]
[null,""]
[null,""]
[null,""]
[null,""]
[null,""]
[null,""]
[null,""]
[null,""]
[null,""]
[null,""]
[null,""]
[null,""]
[null,""]
[null,""]
[null,""]
[null,""]
[null,""]
[null,""]
[null,""]
[]
[null,""]
[null,""]
[null,""]
[null,""]
[null,""]
[null,""]
[null,""]
[null,""]
[null,""]
[null,""]
[null,""]
[null,""]
[null,""]
[null,""]
[null,""]
[null,""]
[null,""]
[null,""]
[null,""]
[null,""]
[null,""]
[null,""]
[null,""]
[null,""]
[null,""]
[null,""]
[null,""]
[null,""]
[null,""]
[null,""]
[null,""]
[null,""]
[null,""]
[null,""]
[null,""]
[null,""]
[null,""]
[null,""]
[null,""]
[null,""]
[null,""]
[null,""]
[null,""]
[null,""]
[null,""]
[null,""]
[null,""]
[]
[null,""]
[null,""]
[null,""]
[null,""]
[null,""]
[null,""]
[null,""]
[null,""]
[null,""]
[null,""]
[null,""]
[null,""]
[null,""]
[null,""]
[null,""]
[null,""]
[null,""]
[null,""]
[null,""]
[null,""]
[null,""]
[null,""]
[null,""]
[null,""]
[null,""]
[null,""]
[null,""]
[null,""]
[null,""]
[null,""]
[null,""]
[null,""]
[null,""]
[null,""]
[null,""]
[null,""]
[null,""]
[null,""]
[null,""]
[null,""]
[null,""]
[null,""]
[null,""]
[null,""]
[null,""]
[null,""]
[null,""]
[]
[null,""]
[null,""]
[null,""]
[null,""]
[null,""]
[null,""]
[null,""]
[null,""]
[null,""]
[null,""]
[null,""]
[null,""]
[null,""]
[null,""]
[null,""]
[null,""]
[null,""]
[null,""]
[null,""]
[null,""]
[null,""]
[null,""]
[null,""]
[null,""]
[null,""]
[null,""]
[null,""]
[null,""]
[null,""]
[null,""]
[null,""]
[null,""]
[null,""]
[null,""]
[null,""]
[null,""]
[null,""]
[null,""]
[null,""]
[null,""]
[null,""]
[null,""]
[null,""]
[null,""]
[null,""]
[null,""]
[null,""]
[]
[null,""]
[null,""]
[null,""]
[null,""]
[null,""]
[null,""]
[null,""]
[null,""]
[null,""]
[null,""]
[null,""]
[null,""]
[null,""]
[null,""]
[null,""]
[null,""]
[null,""]
[null,""]
[null,""]
[null,""]
[null,""]
[null,""]
[null,""]
[null,""]
[null,""]
[null,""]
[null,""]
[null,""]
[null,""]
[null,""]
[null,""]
[null,""]
[null,""]
[null,""]
[null,""]
[null,""]
[null,""]
[null,""]
[null,""]
[null,""]
[null,""]
[null,""]
[null,""]
[null,""]
[null,""]
[null,""]
[null,""]
[]
[null,""]
[null,""]
[null,""]
[null,""]
[null,""]
[null,""]
[null,""]
[null,""]
[null,""]
[null,""]
[null,""]
[null,""]
[null,""]
[null,""]
[null,""]
[null,""]
[null,""]
[null,""]
[null,""]
[null,""]
[null,""]
[null,""]
[null,""]
[null,""]
[null,""]
[null,""]
[null,""]
[null,""]
[null,""]
[null,""]
[null,""]
[null,""]
[null,""]
[null,""]
[null,""]
[null,""]
[null,""]
[null,""]
[null,""]
[null,""]
[null,""]
[null,""]
[null,""]
[null,""]
[null,""]
[null,""]
[null,""]
[]
[null,""]
[null,""]
[null,""]
[null,""]
[null,""]
[null,""]
[null,""]
[null,""]
[null,""]
[null,""]
[null,""]
[null,""]
[null,""]
[null,""]
[null,""]
[null,""]
[null,""]
[null,""]
[null,""]
[null,""]
[null,""]
[null,""]
[null,""]
[null,""]
[null,""]
[null,""]
[null,""]
[null,""]
[null,""]
[null,""]
[null,""]
[null,""]
[null,""]
[null,""]
[null,""]
[null,""]
[null,""]
[null,""]
[null,""]
[null,""]
[null,""]
[null,""]
[null,""]
[null,""]
[null,""]
[null,""]
[null,""]
[]
[null,""]
[null,""]
[null,""]
[null,""]
[null,""]
[null,""]
[null,""]
[null,""]
[null,""]
[null,""]
[null,""]
[null,""]
[null,""]
[null,""]
[null,""]
[null,""]
[null,""]
[null,""]
[null,""]
[null,""]
[null,""]
[null,""]
[null,""]
[null,""]
[null,""]
[null,""]
[null,""]
[null,""]
[null,""]
[null,""]
[null,""]
[null,""]
[null,""]
[null,""]
[null,""]
[null,""]
[null,""]
[null,""]
[null,""]
[null,""]
[null,""]
[null,""]
[null,""]
[null,""]
[null,""]
[null,""]
[null,""]
[]
[null,""]
[null,""]
[null,""]
[null,""]
[null,""]
[null,""]
[null,""]
[null,""]
[null,""]
[null,""]
[null,""]
[null,""]
[null,""]
[null,""]
[null,""]
[null,""]
[null,""]
[null,""]
[null,""]
[null,""]
[null,""]
[null,""]
[null,""]
[null,""]
[null,""]
[null,""]
[null,""]
[null,""]
[null,""]
[null,""]
[null,""]
[null,""]
[null,""]
[null,""]
[null,""]
[null,""]
[null,""]
[null,""]
[null,""]
[null,""]
[null,""]
[null,""]
[null,""]
[null,""]
[null,""]
[null,""]
[null,""]
[]
[null,""]
[null,""]
[null,""]
[null,""]
[null,""]
[null,""]
[null,""]
[null,""]
[null,""]
[null,""]
[null,""]
[null,""]
[null,""]
[null,""]
[null,""]
[null,""]
[null,""]
[null,""]
[null,""]
[null,""]
[null,""]
[null,""]
[null,""]
[null,""]
[null,""]
[null,""]
[null,""]
[null,""]
[null,""]
[null,""]
[null,""]
[null,""]
[null,""]
[null,""]
[null,""]
[null,""]
[null,""]
[null,""]
[null,""]
[null,""]
[null,""]
[null,""]
[null,""]
[null,""]
[null,""]
[null,""]
[null,""]
[]
[null,""]
[null,""]
[null,""]
[null,""]
[null,""]
[null,""]
[null,""]
[null,""]
[null,""]
[null,""]
[null,""]
[null,""]
[null,""]
[null,""]
[null,""]
[null,""]
[null,""]
[null,""]
[null,""]
[null,""]
[null,""]
[null,""]
[null,""]
[null,""]
[null,""]
[null,""]
[null,""]
[null,""]
[null,""]
[null,""]
[null,""]
[null,""]
[null,""]
[null,""]
[null,""]
[null,""]
[null,""]
[null,""]
[null,""]
[null,""]
[null,""]
[null,""]
[null,""]
[null,""]
[null,""]
[null,""]
[null,""]
[]
[null,""]
[null,""]
[null,""]
[null,""]
[null,""]
[null,""]
[null,""]
[null,""]
[null,""]
[null,""]
[null,""]
[null,""]
[null,""]
[null,""]
[null,""]
[null,""]
[null,""]
[null,""]
[null,""]
[null,""]
[null,""]
[null,""]
[null,""]
[null,""]
[null,""]
[null,""]
[null,""]
[null,""]
[null,""]
[null,""]
[null,""]
[null,""]
[null,""]
[null,""]
[null,""]
[null,""]
[null,""]
[null,""]
[null,""]
[null,""]
[null,""]
[null,""]
[null,""]
[null,""]
[null,""]
[null,""]
[null,""]
[]
[null,""]
[null,""]
[null,""]
[null,""]
[null,""]
[null,""]
[null,""]
[null,""]
[null,""]
[null,""]
[null,""]
[null,""]
[null,""]
[null,""]
[null,""]
[null,""]
[null,""]
[null,""]
[null,""]
[null,""]
[null,""]
[null,""]
[null,""]
[null,""]
[null,""]
[null,""]
[null,""]
[null,""]
[null,""]
[null,""]
[null,""]
[null,""]
[null,""]
[null,""]
[null,""]
[null,""]
[null,""]
[null,""]
[null,""]
[null,""]
[null,""]
[null,""]
[null,""]
[null,""]
[null,""]
[null,""]
[null,""]
[]
[null,""]
[null,""]
[null,""]
[null,""]
[null,""]
[null,""]
[null,""]
[null,""]
[null,""]
[null,""]
[null,""]
[null,""]
[null,""]
[null,""]
[null,""]
[null,""]
[null,""]
[null,""]
[null,""]
[null,""]
[null,""]
[null,""]
[null,""]
[null,""]
[null,""]
[null,""]
[null,""]
[null,""]
[null,""]
[null,""]
[null,""]
[null,""]
[null,""]
[null,""]
[null,""]
[null,""]
[null,""]
[null,""]
[null,""]
[null,""]
[null,""]
[null,""]
[null,""]
[null,""]
[null,""]
[null,""]
[null,""]
[]
[null,""]
[null,""]
[null,""]
[null,""]
[null,""]
[null,""]
[null,""]
[null,""]
[null,""]
[null,""]
[null,""]
[null,""]
[null,""]
[null,""]
[null,""]
[null,""]
[null,""]
[null,""]
[null,""]
[null,""]
[null,""]
[null,""]
[null,""]
[null,""]
[null,""]
[null,""]
[null,""]
[null,""]
[null,""]
[null,""]
[null,""]
[null,""]
[null,""]
[null,""]
[null,""]
[null,""]
[null,""]
[null,""]
[null,""]
[null,""]
[null,""]
[null,""]
[null,""]
[null,""]
[null,""]
[null,""]
[null,""]
[]
[null,""]
[null,""]
[null,""]
[null,""]
[null,""]
[null,""]
[null,""]
[null,""]
[null,""]
[null,""]
[null,""]
[null,""]
[null,""]
[null,""]
[null,""]
[null,""]
[null,""]
[null,""]
[null,""]
[null,""]
[null,""]
[null,""]
[null,""]
[null,""]
[null,""]
[null,""]
[null,""]
[null,""]
[null,""]
[null,""]
[null,""]
[null,""]
[null,""]
[null,""]
[null,""]
[null,""]
[null,""]
[null,""]
[null,""]
[null,""]
[null,""]
[null,""]
[null,""]
[null,""]
[null,""]
[null,""]
[null,""]
[]
[null,""]
[null,""]
[null,""]
[null,""]
[null,""]
[null,""]
[null,""]
[null,""]
[null,""]
[null,""]
[null,""]
[null,""]
[null,""]
[null,""]
[null,""]
[null,""]
[null,""]
[null,""]
[null,""]
[null,""]
[null,""]
[null,""]
[null,""]
[null,""]
[null,""]
[null,""]
[null,""]
[null,""]
[null,""]
[null,""]
[null,""]
[null,""]
[null,""]
[null,""]
[null,""]
[null,""]
[null,""]
[null,""]
[null,""]
[null,""]
[null,""]
[null,""]
[null,""]
[null,""]
[null,""]
[null,""]
[null,""]
[]
[null,""]
[null,""]
[null,""]
[null,""]
[null,""]
[null,""]
[null,""]
[null,""]
[null,""]
[null,""]
[null,""]
[null,""]
[null,""]
[null,""]
[null,""]
[null,""]
[null,""]
[null,""]
[null,""]
[null,""]
[null,""]
[null,""]
[null,""]
[null,""]
[null,""]
[null,""]
[null,""]
[null,""]
[null,""]
[null,""]
[null,""]
[null,""]
[null,""]
[null,""]
[null,""]
[null,""]
[null,""]
[null,""]
[null,""]
[null,""]
[null,""]
[null,""]
[null,""]
[null,""]
[null,""]
[null,""]
[null,""]
[]
[null,""]
[null,""]
[null,""]
[null,""]
[null,""]
[null,""]
[null,""]
[null,""]
[null,""]
[null,""]
[null,""]
[null,""]
[null,""]
[null,""]
[null,""]
[null,""]
[null,""]
[null,""]
[null,""]
[null,""]
[null,""]
[null,""]
[null,""]
[null,""]
[null,""]
[null,""]
[null,""]
[null,""]
[null,""]
[null,""]
[null,""]
[null,""]
[null,""]
[null,""]
[null,""]
[null,""]
[null,""]
[null,""]
[null,""]
[null,""]
[null,""]
[null,""]
[null,""]
[null,""]
[null,""]
[null,""]
[null,""]
[]
[null,""]
[null,""]
[null,""]
[null,""]
[null,""]
[null,""]
[null,""]
[null,""]
[null,""]
[null,""]
[null,""]
[null,""]
[null,""]
[null,""]
[null,""]
[null,""]
[null,""]
[null,""]
[null,""]
[null,""]
[null,""]
[null,""]
[null,""]
[null,""]
[null,""]
[null,""]
[null,""]
[null,""]
[null,""]
[null,""]
[null,""]
[null,""]
[null,""]
[null,""]
[null,""]
[null,""]
[null,""]
[null,""]
[null,""]
[null,""]
[null,""]
[null,""]
[null,""]
[null,""]
[null,""]
[null,""]
[null,""]
[]
[null,""]
[null,""]
[null,""]
[null,""]
[null,""]
[null,""]
[null,""]
[null,""]
[null,""]
[null,""]
[null,""]
[null,""]
[null,""]
[null,""]
[null,""]
[null,""]
[null,""]
[null,""]
[null,""]
[null,""]
[null,""]
[null,""]
[null,""]
[null,""]
[null,""]
[null,""]
[null,""]
[null,""]
[null,""]
[null,""]
[null,""]
[null,""]
[null,""]
[null,""]
[null,""]
[null,""]
[null,""]
[null,""]
[null,""]
[null,""]
[null,""]
[null,""]
[null,""]
[null,""]
[null,""]
[null,""]
[null,""]
[]
[null,""]
[null,""]
[null,""]
[null,""]
[null,""]
[null,""]
[null,""]
[null,""]
[null,""]
[null,""]
[null,""]
[null,""]
[null,""]
[null,""]
[null,""]
[null,""]
[null,""]
[null,""]
[null,""]
[null,""]
[null,""]
[null,""]
[null,""]
[null,""]
[null,""]
[null,""]
[null,""]
[null,""]
[null,""]
[null,""]
[null,""]
[null,""]
[null,""]
[null,""]
[null,""]
[null,""]
[null,""]
[null,""]
[null,""]
[null,""]
[null,""]
[null,""]
[null,""]
[null,""]
[null,""]
[null,""]
[null,""]
[]
[null,""]
[null,""]
[null,""]
[null,""]
[null,""]
[null,""]
[null,""]
[null,""]
[null,""]
[null,""]
[null,""]
[null,""]
[null,""]
[null,""]
[null,""]
[null,""]
[null,""]
[null,""]
[null,""]
[null,""]
[null,""]
[null,""]
[null,""]
[null,""]
[null,""]
[null,""]
[null,""]
[null,""]
[null,""]
[null,""]
[null,""]
[null,""]
[null,""]
[null,""]
[null,""]
[null,""]
[null,""]
[null,""]
[null,""]
[null,""]
[null,""]
[null,""]
[null,""]
[null,""]
[null,""]
[null,""]
[null,""]
[]
[null,""]
[null,""]
[null,""]
[null,""]
[null,""]
[null,""]
[null,""]
[null,""]
[null,""]
[null,""]
[null,""]
[null,""]
[null,""]
[null,""]
[null,""]
[null,""]
[null,""]
[null,""]
[null,""]
[null,""]
[null,""]
[null,""]
[null,""]
[null,""]
[null,""]
[null,""]
[null,""]
[null,""]
[null,""]
[null,""]
[null,""]
[null,""]
[null,""]
[null,""]
[null,""]
[null,""]
[null,""]
[null,""]
[null,""]
[null,""]
[null,""]
[null,""]
[null,""]
[null,""]
[null,""]
[null,""]
[null,""]
[]
[null,""]
[null,""]
[null,""]
[null,""]
[null,""]
[null,""]
[null,""]
[null,""]
[null,""]
[null,""]
[null,""]
[null,""]
[null,""]
[null,""]
[null,""]
[null,""]
[null,""]
[null,""]
[null,""]
[null,""]
[null,""]
[null,""]
[null,""]
[null,""]
[null,""]
[null,""]
[null,""]
[null,""]
[null,""]
[null,""]
[null,""]
[null,""]
[null,""]
[null,""]
[null,""]
[null,""]
[null,""]
[null,""]
[null,""]
[null,""]
[null,""]
[null,""]
[null,""]
[null,""]
[null,""]
[null,""]
[null,""]
[]
[null,""]
[null,""]
[null,""]
[null,""]
[null,""]
[null,""]
[null,""]
[null,""]
[null,""]
[null,""]
[null,""]
[null,""]
[null,""]
[null,""]
[null,""]
[null,""]
[null,""]
[null,""]
[null,""]
[null,""]
[null,""]
[null,""]
[null,""]
[null,""]
[null,""]
[null,""]
[null,""]
[null,""]
[null,""]
[null,""]
[null,""]
[null,""]
[null,""]
[null,""]
[null,""]
[null,""]
[null,""]
[null,""]
[null,""]
[null,""]
[null,""]
[null,""]
[null,""]
[null,""]
[null,""]
[null,""]
[null,""]
[]
[null,""]
[null,""]
[null,""]
[null,""]
[null,""]
[null,""]
[null,""]
[null,""]
[null,""]
[null,""]
[null,""]
[null,""]
[null,""]
[null,""]
[null,""]
[null,""]
[null,""]
[null,""]
[null,""]
[null,""]
[null,""]
[null,""]
[null,""]
[null,""]
[null,""]
[null,""]
[null,""]
[null,""]
[null,""]
[null,""]
[null,""]
[null,""]
[null,""]
[null,""]
[null,""]
[null,""]
[null,""]
[null,""]
[null,""]
[null,""]
[null,""]
[null,""]
[null,""]
[null,""]
[null,""]
[null,""]
[null,""]
[]
[null,""]
[null,""]
[null,""]
[null,""]
[null,""]
[null,""]
[null,""]
[null,""]
[null,""]
[null,""]
[null,""]
[null,""]
[null,""]
[null,""]
[null,""]
[null,""]
[null,""]
[null,""]
[null,""]
[null,""]
[null,""]
[null,""]
[null,""]
[null,""]
[null,""]
[null,""]
[null,""]
[null,""]
[null,""]
[null,""]
[null,""]
[null,""]
[null,""]
[null,""]
[null,""]
[null,""]
[null,""]
[null,""]
[null,""]
[null,""]
[null,""]
[null,""]
[null,""]
[null,""]
[null,""]
[null,""]
[null,""]
[]
[null,""]
[null,""]
[null,""]
[null,""]
[null,""]
[null,""]
[null,""]
[null,""]
[null,""]
[null,""]
[null,""]
[null,""]
[null,""]
[null,""]
[null,""]
[null,""]
[null,""]
[null,""]
[null,""]
[null,""]
[null,""]
[null,""]
[null,""]
[null,""]
[null,""]
[null,""]
[null,""]
[null,""]
[null,""]
[null,""]
[null,""]
[null,""]
[null,""]
[null,""]
[null,""]
[null,""]
[null,""]
[null,""]
[null,""]
[null,""]
[null,""]
[null,""]
[null,""]
[null,""]
[null,""]
[null,""]
[null,""]
[]
[null,""]
[null,""]
[null,""]
[null,""]
[null,""]
[null,""]
[null,""]
[null,""]
[null,""]
[null,""]
[null,""]
[null,""]
[null,""]
[null,""]
[null,""]
[null,""]
[null,""]
[null,""]
[null,""]
[null,""]
[null,""]
[null,""]
[null,""]
[null,""]
[null,""]
[null,""]
[null,""]
[null,""]
[null,""]
[null,""]
[null,""]
[null,""]
[null,""]
[null,""]
[null,""]
[null,""]
[null,""]
[null,""]
[null,""]
[null,""]
[null,""]
[null,""]
[null,""]
[null,""]
[null,""]
[null,""]
[null,""]
[]
[null,""]
[null,""]
[null,""]
[null,""]
[null,""]
[null,""]
[null,""]
[null,""]
[null,""]
[null,""]
[null,""]
[null,""]
[null,""]
[null,""]
[null,""]
[null,""]
[null,""]
[null,""]
[null,""]
[null,""]
[null,""]
[null,""]
[null,""]
[null,""]
[null,""]
[null,""]
[null,""]
[null,""]
[null,""]
[null,""]
[null,""]
[null,""]
[null,""]
[null,""]
[null,""]
[null,""]
[null,""]
[null,""]
[null,""]
[null,""]
[null,""]
[null,""]
[null,""]
[null,""]
[null,""]
[null,""]
[null,""]
[]
[null,""]
[null,""]
[null,""]
[null,""]
[null,""]
[null,""]
[null,""]
[null,""]
[null,""]
[null,""]
[null,""]
[null,""]
[null,""]
[null,""]
[null,""]
[null,""]
[null,""]
[null,""]
[null,""]
[null,""]
[null,""]
[null,""]
[null,""]
[null,""]
[null,""]
[null,""]
[null,""]
[null,""]
[null,""]
[null,""]
[null,""]
[null,""]
[null,""]
[null,""]
[null,""]
[null,""]
[null,""]
[null,""]
[null,""]
[null,""]
[null,""]
[null,""]
[null,""]
[null,""]
[null,""]
[null,""]
[null,""]
[]
[null,""]
[null,""]
[null,""]
[null,""]
[null,""]
[null,""]
[null,""]
[null,""]
[null,""]
[null,""]
[null,""]
[null,""]
[null,""]
[null,""]
[null,""]
[null,""]
[null,""]
[null,""]
[null,""]
[null,""]
[null,""]
[null,""]
[null,""]
[null,""]
[null,""]
[null,""]
[null,""]
[null,""]
[null,""]
[null,""]
[null,""]
[null,""]
[null,""]
[null,""]
[null,""]
[null,""]
[null,""]
[null,""]
[null,""]
[null,""]
[null,""]
[null,""]
[null,""]
[null,""]
[null,""]
[null,""]
[null,""]
[]
[null,""]
[null,""]
[null,""]
[null,""]
[null,""]
[null,""]
[null,""]
[null,""]
[null,""]
[null,""]
[null,""]
[null,""]
[null,""]
[null,""]
[null,""]
[null,""]
[null,""]
[null,""]
[null,""]
[null,""]
[null,""]
[null,""]
[null,""]
[null,""]
[null,""]
[null,""]
[null,""]
[null,""]
[null,""]
[null,""]
[null,""]
[null,""]
[null,""]
[null,""]
[null,""]
[null,""]
[null,""]
[null,""]
[null,""]
[null,""]
[null,""]
[null,""]
[null,""]
[null,""]
[null,""]
[null,""]
[null,""]
[]
[null,""]
[null,""]
[null,""]
[null,""]
[null,""]
[null,""]
[null,""]
[null,""]
[null,""]
[null,""]
[null,""]
[null,""]
[null,""]
[null,""]
[null,""]
[null,""]
[null,""]
[null,""]
[null,""]
[null,""]
[null,""]
[null,""]
[null,""]
[null,""]
[null,""]
[null,""]
[null,""]
[null,""]
[null,""]
[null,""]
[null,""]
[null,""]
[null,""]
[null,""]
[null,""]
[null,""]
[null,""]
[null,""]
[null,""]
[null,""]
[null,""]
[null,""]
[null,""]
[null,""]
[null,""]
[null,""]
[null,""]
[]
[null,""]
[null,""]
[null,""]
[null,""]
[null,""]
[null,""]
[null,""]
[null,""]
[null,""]
[null,""]
[null,""]
[null,""]
[null,""]
[null,""]
[null,""]
[null,""]
[null,""]
[null,""]
[null,""]
[null,""]
[null,""]
[null,""]
[null,""]
[null,""]
[null,""]
[null,""]
[null,""]
[null,""]
[null,""]
[null,""]
[null,""]
[null,""]
[null,""]
[null,""]
[null,""]
[null,""]
[null,""]
[null,""]
[null,""]
[null,""]
[null,""]
[null,""]
[null,""]
[null,""]
[null,""]
[null,""]
[null,""]
[]
[null,""]
[null,""]
[null,""]
[null,""]
[null,""]
[null,""]
[null,""]
[null,""]
[null,""]
[null,""]
[null,""]
[null,""]
[null,""]
[null,""]
[null,""]
[null,""]
[null,""]
[null,""]
[null,""]
[null,""]
[null,""]
[null,""]
[null,""]
[null,""]
[null,""]
[null,""]
[null,""]
[null,""]
[null,""]
[null,""]
[null,""]
[null,""]
[null,""]
[null,""]
[null,""]
[null,""]
[null,""]
[null,""]
[null,""]
[null,""]
[null,""]
[null,""]
[null,""]
[null,""]
[null,""]
[null,""]
[null,""]
[]
[null,""]
[null,""]
[null,""]
[null,""]
[null,""]
[null,""]
[null,""]
[null,""]
[null,""]
[null,""]
[null,""]
[null,""]
[null,""]
[null,""]
[null,""]
[null,""]
[null,""]
[null,""]
[null,""]
[null,""]
[null,""]
[null,""]
[null,""]
[null,""]
[null,""]
[null,""]
[null,""]
[null,""]
[null,""]
[null,""]
[null,""]
[null,""]
[null,""]
[null,""]
[null,""]
[null,""]
[null,""]
[null,""]
[null,""]
[null,""]
[null,""]
[null,""]
[null,""]
[null,""]
[null,""]
[null,""]
[null,""]
[]
[null,""]
[null,""]
[null,""]
[null,""]
[null,""]
[null,""]
[null,""]
[null,""]
[null,""]
[null,""]
[null,""]
[null,""]
[null,""]
[null,""]
[null,""]
[null,""]
[null,""]
[null,""]
[null,""]
[null,""]
[null,""]
[null,""]
[null,""]
[null,""]
[null,""]
[null,""]
[null,""]
[null,""]
[null,""]
[null,""]
[null,""]
[null,""]
[null,""]
[null,""]
[null,""]
[null,""]
[null,""]
[null,""]
[null,""]
[null,""]
[null,""]
[null,""]
[null,""]
[null,""]
[null,""]
[null,""]
[null,""]
[]
[null,""]
[null,""]
[null,""]
[null,""]
[null,""]
[null,""]
[null,""]
[null,""]
[null,""]
[null,""]
[null,""]
[null,""]
[null,""]
[null,""]
[null,""]
[null,""]
[null,""]
[null,""]
[null,""]
[null,""]
[null,""]
[null,""]
[null,""]
[null,""]
[null,""]
[null,""]
[null,""]
[null,""]
[null,""]
[null,""]
[null,""]
[null,""]
[null,""]
[null,""]
[null,""]
[null,""]
[null,""]
[null,""]
[null,""]
[null,""]
[null,""]
[null,""]
[null,""]
[null,""]
[null,""]
[null,""]
[null,""]
[]
[null,""]
[null,""]
[null,""]
[null,""]
[null,""]
[null,""]
[null,""]
[null,""]
[null,""]
[null,""]
[null,""]
[null,""]
[null,""]
[null,""]
[null,""]
[null,""]
[null,""]
[null,""]
[null,""]
[null,""]
[null,""]
[null,""]
[null,""]
[null,""]
[null,""]
[null,""]
[null,""]
[null,""]
[null,""]
[null,""]
[null,""]
[null,""]
[null,""]
[null,""]
[null,""]
[null,""]
[null,""]
[null,""]
[null,""]
[null,""]
[null,""]
[null,""]
[null,""]
[null,""]
[null,""]
[null,""]
[null,""]
[]
[null,""]
[null,""]
[null,""]
[null,""]
[null,""]
[null,""]
[null,""]
[null,""]
[null,""]
[null,""]
[null,""]
[null,""]
[null,""]
[null,""]
[null,""]
[null,""]
[null,""]
[null,""]
[null,""]
[null,""]
[null,""]
[null,""]
[null,""]
[null,""]
[null,""]
[null,""]
[null,""]
[null,""]
[null,""]
[null,""]
[null,""]
[null,""]
[null,""]
[null,""]
[null,""]
[null,""]
[null,""]
[null,""]
[null,""]
[null,""]
[null,""]
[null,""]
[null,""]
[null,""]
[null,""]
[null,""]
[null,""]
[]
[null,""]
[null,""]
[null,""]
[null,""]
[null,""]
[null,""]
[null,""]
[null,""]
[null,""]
[null,""]
[null,""]
[null,""]
[null,""]
[null,""]
[null,""]
[null,""]
[null,""]
[null,""]
[null,""]
[null,""]
[null,""]
[null,""]
[null,""]
[null,""]
[null,""]
[null,""]
[null,""]
[null,""]
[null,""]
[null,""]
[null,""]
[null,""]
[null,""]
[null,""]
[null,""]
[null,""]
[null,""]
[null,""]
[null,""]
[null,""]
[null,""]
[null,""]
[null,""]
[null,""]
[null,""]
[null,""]
[null,""]
[]
[null,""]
[null,""]
[null,""]
[null,""]
[null,""]
[null,""]
[null,""]
[null,""]
[null,""]
[null,""]
[null,""]
[null,""]
[null,""]
[null,""]
[null,""]
[null,""]
[null,""]
[null,""]
[null,""]
[null,""]
[null,""]
[null,""]
[null,""]
[null,""]
[null,""]
[null,""]
[null,""]
[null,""]
[null,""]
[null,""]
[null,""]
[null,""]
[null,""]
[null,""]
[null,""]
[null,""]
[null,""]
[null,""]
[null,""]
[null,""]
[null,""]
[null,""]
[null,""]
[null,""]
[null,""]
[null,""]
[null,""]
[]
[null,""]
[null,""]
[null,""]
[null,""]
[null,""]
[null,""]
[null,""]
[null,""]
[null,""]
[null,""]
[null,""]
[null,""]
[null,""]
[null,""]
[null,""]
[null,""]
[null,""]
[null,""]
[null,""]
[null,""]
[null,""]
[null,""]
[null,""]
[null,""]
[null,""]
[null,""]
[null,""]
[null,""]
[null,""]
[null,""]
[null,""]
[null,""]
[null,""]
[null,""]
[null,""]
[null,""]
[null,""]
[null,""]
[null,""]
[null,""]
[null,""]
[null,""]
[null,""]
[null,""]
[null,""]
[null,""]
[null,""]
[]
[null,""]
[null,""]
[null,""]
[null,""]
[null,""]
[null,""]
[null,""]
[null,""]
[null,""]
[null,""]
[null,""]
[null,""]
[null,""]
[null,""]
[null,""]
[null,""]
[null,""]
[null,""]
[null,""]
[null,""]
[null,""]
[null,""]
[null,""]
[null,""]
[null,""]
[null,""]
[null,""]
[null,""]
[null,""]
[null,""]
[null,""]
[null,""]
[null,""]
[null,""]
[null,""]
[null,""]
[null,""]
[null,""]
[null,""]
[null,""]
[null,""]
[null,""]
[null,""]
[null,""]
[null,""]
[null,""]
[null,""]
[]
[null,""]
[null,""]
[null,""]
[null,""]
[null,""]
[null,""]
[null,""]
[null,""]
[null,""]
[null,""]
[null,""]
[null,""]
[null,""]
[null,""]
[null,""]
[null,""]
[null,""]
[null,""]
[null,""]
[null,""]
[null,""]
[null,""]
[null,""]
[null,""]
[null,""]
[null,""]
[null,""]
[null,""]
[null,""]
[null,""]
[null,""]
[null,""]
[null,""]
[null,""]
[null,""]
[null,""]
[null,""]
[null,""]
[null,""]
[null,""]
[null,""]
[null,""]
[null,""]
[null,""]
[null,""]
[null,""]
[null,""]
[]
[null,""]
[null,""]
[null,""]
[null,""]
[null,""]
[null,""]
[null,""]
[null,""]
[null,""]
[null,""]
[null,""]
[null,""]
[null,""]
[null,""]
[null,""]
[null,""]
[null,""]
[null,""]
[null,""]
[null,""]
[null,""]
[null,""]
[null,""]
[null,""]
[null,""]
[null,""]
[null,""]
[null,""]
[null,""]
[null,""]
[null,""]
[null,""]
[null,""]
[null,""]
[null,""]
[null,""]
[null,""]
[null,""]
[null,""]
[null,""]
[null,""]
[null,""]
[null,""]
[null,""]
[null,""]
[null,""]
[null,""]
[]
[null,""]
[null,""]
[null,""]
[null,""]
[null,""]
[null,""]
[null,""]
[null,""]
[null,""]
[null,""]
[null,""]
[null,""]
[null,""]
[null,""]
[null,""]
[null,""]
[null,""]
[null,""]
[null,""]
[null,""]
[null,""]
[null,""]
[null,""]
[null,""]
[null,""]
[null,""]
[null,""]
[null,""]
[null,""]
[null,""]
[null,""]
[null,""]
[null,""]
[null,""]
[null,""]
[null,""]
[null,""]
[null,""]
[null,""]
[null,""]
[null,""]
[null,""]
[null,""]
[null,""]
[null,""]
[null,""]
[null,""]
[]
[null,""]
[null,""]
[null,""]
[null,""]
[null,""]
[null,""]
[null,""]
[null,""]
[null,""]
[null,""]
[null,""]
[null,""]
[null,""]
[null,""]
[null,""]
[null,""]
[null,""]
[null,""]
[null,""]
[null,""]
[null,""]
[null,""]
[null,""]
[null,""]
[null,""]
[null,""]
[null,""]
[null,""]
[null,""]
[null,""]
[null,""]
[null,""]
[null,""]
[null,""]
[null,""]
[null,""]
[null,""]
[null,""]
[null,""]
[null,""]
[null,""]
[null,""]
[null,""]
[null,""]
[null,""]
[null,""]
[null,""]
[]
[null,""]
[null,""]
[null,""]
[null,""]
[null,""]
[null,""]
[null,""]
[null,""]
[null,""]
[null,""]
[null,""]
[null,""]
[null,""]
[null,""]
[null,""]
[null,""]
[null,""]
[null,""]
[null,""]
[null,""]
[null,""]
[null,""]
[null,""]
[null,""]
[null,""]
[null,""]
[null,""]
[null,""]
[null,""]
[null,""]
[null,""]
[null,""]
[null,""]
[null,""]
[null,""]
[null,""]
[null,""]
[null,""]
[null,""]
[null,""]
[null,""]
[null,""]
[null,""]
[null,""]
[null,""]
[null,""]
[null,""]
[]
[null,""]
[null,""]
[null,""]
[null,""]
[null,""]
[null,""]
[null,""]
[null,""]
[null,""]
[null,""]
[null,""]
[null,""]
[null,""]
[null,""]
[null,""]
[null,""]
[null,""]
[null,""]
[null,""]
[null,""]
[null,""]
[null,""]
[null,""]
[null,""]
[null,""]
[null,""]
[null,""]
[null,""]
[null,""]
[null,""]
[null,""]
[null,""]
[null,""]
[null,""]
[null,""]
[null,""]
[null,""]
[null,""]
[null,""]
[null,""]
[null,""]
[null,""]
[null,""]
[null,""]
[null,""]
[null,""]
[null,""]
[]
[null,""]
[null,""]
[null,""]
[null,""]
[null,""]
[null,""]
[null,""]
[null,""]
[null,""]
[null,""]
[null,""]
[null,""]
[null,""]
[null,""]
[null,""]
[null,""]
[null,""]
[null,""]
[null,""]
[null,""]
[null,""]
[null,""]
[null,""]
[null,""]
[null,""]
[null,""]
[null,""]
[null,""]
[null,""]
[null,""]
[null,""]
[null,""]
[null,""]
[null,""]
[null,""]
[null,""]
[null,""]
[null,""]
[null,""]
[null,""]
[null,""]
[null,""]
[null,""]
[null,""]
[null,""]
[null,""]
[null,""]
[]
[null,""]
[null,""]
[null,""]
[null,""]
[null,""]
[null,""]
[null,""]
[null,""]
[null,""]
[null,""]
[null,""]
[null,""]
[null,""]
[null,""]
[null,""]
[null,""]
[null,""]
[null,""]
[null,""]
[null,""]
[null,""]
[null,""]
[null,""]
[null,""]
[null,""]
[null,""]
[null,""]
[null,""]
[null,""]
[null,""]
[null,""]
[null,""]
[null,""]
[null,""]
[null,""]
[null,""]
[null,""]
[null,""]
[null,""]
[null,""]
[null,""]
[null,""]
[null,""]
[null,""]
[null,""]
[null,""]
[null,""]
[]
[null,""]
[null,""]
[null,""]
[null,""]
[null,""]
[null,""]
[null,""]
[null,""]
[null,""]
[null,""]
[null,""]
[null,""]
[null,""]
[null,""]
[null,""]
[null,""]
[null,""]
[null,""]
[null,""]
[null,""]
[null,""]
[null,""]
[null,""]
[null,""]
[null,""]
[null,""]
[null,""]
[null,""]
[null,""]
[null,""]
[null,""]
[null,""]
[null,""]
[null,""]
[null,""]
[null,""]
[null,""]
[null,""]
[null,""]
[null,""]
[null,""]
[null,""]
[null,""]
[null,""]
[null,""]
[null,""]
[null,""]
[]
[null,""]
[null,""]
[null,""]
[null,""]
[null,""]
[null,""]
[null,""]
[null,""]
[null,""]
[null,""]
[null,""]
[null,""]
[null,""]
[null,""]
[null,""]
[null,""]
[null,""]
[null,""]
[null,""]
[null,""]
[null,""]
[null,""]
[null,""]
[null,""]
[null,""]
[null,""]
[null,""]
[null,""]
[null,""]
[null,""]
[null,""]
[null,""]
[null,""]
[null,""]
[null,""]
[null,""]
[null,""]
[null,""]
[null,""]
[null,""]
[null,""]
[null,""]
[null,""]
[null,""]
[null,""]
[null,""]
[null,""]
[]
[null,""]
[null,""]
[null,""]
[null,""]
[null,""]
[null,""]
[null,""]
[null,""]
[null,""]
[null,""]
[null,""]
[null,""]
[null,""]
[null,""]
[null,""]
[null,""]
[null,""]
[null,""]
[null,""]
[null,""]
[null,""]
[null,""]
[null,""]
[null,""]
[null,""]
[null,""]
[null,""]
[null,""]
[null,""]
[null,""]
[null,""]
[null,""]
[null,""]
[null,""]
[null,""]
[null,""]
[null,""]
[null,""]
[null,""]
[null,""]
[null,""]
[null,""]
[null,""]
[null,""]
[null,""]
[null,""]
[null,""]
[]
[null,""]
[null,""]
[null,""]
[null,""]
[null,""]
[null,""]
[null,""]
[null,""]
[null,""]
[null,""]
[null,""]
[null,""]
[null,""]
[null,""]
[null,""]
[null,""]
[null,""]
[null,""]
[null,""]
[null,""]
[null,""]
[null,""]
[null,""]
[null,""]
[null,""]
[null,""]
[null,""]
[null,""]
[null,""]
[null,""]
[null,""]
[null,""]
[null,""]
[null,""]
[null,""]
[null,""]
[null,""]
[null,""]
[null,""]
[null,""]
[null,""]
[null,""]
[null,""]
[null,""]
[null,""]
[null,""]
[null,""]
[]
[null,""]
[null,""]
[null,""]
[null,""]
[null,""]
[null,""]
[null,""]
[null,""]
[null,""]
[null,""]
[null,""]
[null,""]
[null,""]
[null,""]
[null,""]
[null,""]
[null,""]
[null,""]
[null,""]
[null,""]
[null,""]
[null,""]
[null,""]
[null,""]
[null,""]
[null,""]
[null,""]
[null,""]
[null,""]
[null,""]
[null,""]
[null,""]
[null,""]
[null,""]
[null,""]
[null,""]
[null,""]
[null,""]
[null,""]
[null,""]
[null,""]
[null,""]
[null,""]
[null,""]
[null,""]
[null,""]
[null,""]
[]
[null,""]
[null,""]
[null,""]
[null,""]
[null,""]
[null,""]
[null,""]
[null,""]
[null,""]
[null,""]
[null,""]
[null,""]
[null,""]
[null,""]
[null,""]
[null,""]
[null,""]
[null,""]
[null,""]
[null,""]
[null,""]
[null,""]
[null,""]
[null,""]
[null,""]
[null,""]
[null,""]
[null,""]
[null,""]
[null,""]
[null,""]
[null,""]
[null,""]
[null,""]
[null,""]
[null,""]
[null,""]
[null,""]
[null,""]
[null,""]
[null,""]
[null,""]
[null,""]
[null,""]
[null,""]
[null,""]
[null,""]
[]
[null,""]
[null,""]
[null,""]
[null,""]
[null,""]
[null,""]
[null,""]
[null,""]
[null,""]
[null,""]
[null,""]
[null,""]
[null,""]
[null,""]
[null,""]
[null,""]
[null,""]
[null,""]
[null,""]
[null,""]
[null,""]
[null,""]
[null,""]
[null,""]
[null,""]
[null,""]
[null,""]
[null,""]
[null,""]
[null,""]
[null,""]
[null,""]
[null,""]
[null,""]
[null,""]
[null,""]
[null,""]
[null,""]
[null,""]
[null,""]
[null,""]
[null,""]
[null,""]
[null,""]
[null,""]
[null,""]
[null,""]
[]
[null,""]
[null,""]
[null,""]
[null,""]
[null,""]
[null,""]
[null,""]
[null,""]
[null,""]
[null,""]
[null,""]
[null,""]
[null,""]
[null,""]
[null,""]
[null,""]
[null,""]
[null,""]
[null,""]
[null,""]
[null,""]
[null,""]
[null,""]
[null,""]
[null,""]
[null,""]
[null,""]
[null,""]
[null,""]
[null,""]
[null,""]
[null,""]
[null,""]
[null,""]
[null,""]
[null,""]
[null,""]
[null,""]
[null,""]
[null,""]
[null,""]
[null,""]
[null,""]
[null,""]
[null,""]
[null,""]
[null,""]
[]
[null,""]
[null,""]
[null,""]
[null,""]
[null,""]
[null,""]
[null,""]
[null,""]
[null,""]
[null,""]
[null,""]
[null,""]
[null,""]
[null,""]
[null,""]
[null,""]
[null,""]
[null,""]
[null,""]
[null,""]
[null,""]
[null,""]
[null,""]
[null,""]
[null,""]
[null,""]
[null,""]
[null,""]
[null,""]
[null,""]
[null,""]
[null,""]
[null,""]
[null,""]
[null,""]
[null,""]
[null,""]
[null,""]
[null,""]
[null,""]
[null,""]
[null,""]
[null,""]
[null,""]
[null,""]
[null,""]
[null,""]
[]
[null,""]
[null,""]
[null,""]
[null,""]
[null,""]
[null,""]
[null,""]
[null,""]
[null,""]
[null,""]
[null,""]
[null,""]
[null,""]
[null,""]
[null,""]
[null,""]
[null,""]
[null,""]
[null,""]
[null,""]
[null,""]
[null,""]
[null,""]
[null,""]
[null,""]
[null,""]
[null,""]
[null,""]
[null,""]
[null,""]
[null,""]
[null,""]
[null,""]
[null,""]
[null,""]
[null,""]
[null,""]
[null,""]
[null,""]
[null,""]
[null,""]
[null,""]
[null,""]
[null,""]
[null,""]
[null,""]
[null,""]
[]
[null,""]
[null,""]
[null,""]
[null,""]
[null,""]
[null,""]
[null,""]
[null,""]
[null,""]
[null,""]
[null,""]
[null,""]
[null,""]
[null,""]
[null,""]
[null,""]
[null,""]
[null,""]
[null,""]
[null,""]
[null,""]
[null,""]
[null,""]
[null,""]
[null,""]
[null,""]
[null,""]
[null,""]
[null,""]
[null,""]
[null,""]
[null,""]
[null,""]
[null,""]
[null,""]
[null,""]
[null,""]
[null,""]
[null,""]
[null,""]
[null,""]
[null,""]
[null,""]
[null,""]
[null,""]
[null,""]
[null,""]
[]
[null,""]
[null,""]
[null,""]
[null,""]
[null,""]
[null,""]
[null,""]
[null,""]
[null,""]
[null,""]
[null,""]
[null,""]
[null,""]
[null,""]
[null,""]
[null,""]
[null,""]
[null,""]
[null,""]
[null,""]
[null,""]
[null,""]
[null,""]
[null,""]
[null,""]
[null,""]
[null,""]
[null,""]
[null,""]
[null,""]
[null,""]
[null,""]
[null,""]
[null,""]
[null,""]
[null,""]
[null,""]
[null,""]
[null,""]
[null,""]
[null,""]
[null,""]
[null,""]
[null,""]
[null,""]
[null,""]
[null,""]
[]
[null,""]
[null,""]
[null,""]
[null,""]
[null,""]
[null,""]
[null,""]
[null,""]
[null,""]
[null,""]
[null,""]
[null,""]
[null,""]
[null,""]
[null,""]
[null,""]
[null,""]
[null,""]
[null,""]
[null,""]
[null,""]
[null,""]
[null,""]
[null,""]
[null,""]
[null,""]
[null,""]
[null,""]
[null,""]
[null,""]
[null,""]
[null,""]
[null,""]
[null,""]
[null,""]
[null,""]
[null,""]
[null,""]
[null,""]
[null,""]
[null,""]
[null,""]
[null,""]
[null,""]
[null,""]
[null,""]
[null,""]
[]
[null,""]
[null,""]
[null,""]
[null,""]
[null,""]
[null,""]
[null,""]
[null,""]
[null,""]
[null,""]
[null,""]
[null,""]
[null,""]
[null,""]
[null,""]
[null,""]
[null,""]
[null,""]
[null,""]
[null,""]
[null,""]
[null,""]
[null,""]
[null,""]
[null,""]
[null,""]
[null,""]
[null,""]
[null,""]
[null,""]
[null,""]
[null,""]
[null,""]
[null,""]
[null,""]
[null,""]
[null,""]
[null,""]
[null,""]
[null,""]
[null,""]
[null,""]
[null,""]
[null,""]
[null,""]
[null,""]
[null,""]
[]
[null,""]
[null,""]
[null,""]
[null,""]
[null,""]
[null,""]
[null,""]
[null,""]
[null,""]
[null,""]
[null,""]
[null,""]
[null,""]
[null,""]
[null,""]
[null,""]
[null,""]
[null,""]
[null,""]
[null,""]
[null,""]
[null,""]
[null,""]
[null,""]
[null,""]
[null,""]
[null,""]
[null,""]
[null,""]
[null,""]
[null,""]
[null,""]
[null,""]
[null,""]
[null,""]
[null,""]
[null,""]
[null,""]
[null,""]
[null,""]
[null,""]
[null,""]
[null,""]
[null,""]
[null,""]
[null,""]
[null,""]
[]
[null,""]
[null,""]
[null,""]
[null,""]
[null,""]
[null,""]
[null,""]
[null,""]
[null,""]
[null,""]
[null,""]
[null,""]
[null,""]
[null,""]
[null,""]
[null,""]
[null,""]
[null,""]
[null,""]
[null,""]
[null,""]
[null,""]
[null,""]
[null,""]
[null,""]
[null,""]
[null,""]
[null,""]
[null,""]
[null,""]
[null,""]
[null,""]
[null,""]
[null,""]
[null,""]
[null,""]
[null,""]
[null,""]
[null,""]
[null,""]
[null,""]
[null,""]
[null,""]
[null,""]
[null,""]
[null,""]
[null,""]
[]
[null,""]
[null,""]
[null,""]
[null,""]
[null,""]
[null,""]
[null,""]
[null,""]
[null,""]
[null,""]
[null,""]
[null,""]
[null,""]
[null,""]
[null,""]
[null,""]
[null,""]
[null,""]
[null,""]
[null,""]
[null,""]
[null,""]
[null,""]
[null,""]
[null,""]
[null,""]
[null,""]
[null,""]
[null,""]
[null,""]
[null,""]
[null,""]
[null,""]
[null,""]
[null,""]
[null,""]
[null,""]
[null,""]
[null,""]
[null,""]
[null,""]
[null,""]
[null,""]
[null,""]
[null,""]
[null,""]
[null,""]
[]
[null,""]
[null,""]
[null,""]
[null,""]
[null,""]
[null,""]
[null,""]
[null,""]
[null,""]
[null,""]
[null,""]
[null,""]
[null,""]
[null,""]
[null,""]
[null,""]
[null,""]
[null,""]
[null,""]
[null,""]
[null,""]
[null,""]
[null,""]
[null,""]
[null,""]
[null,""]
[null,""]
[null,""]
[null,""]
[null,""]
[null,""]
[null,""]
[null,""]
[null,""]
[null,""]
[null,""]
[null,""]
[null,""]
[null,""]
[null,""]
[null,""]
[null,""]
[null,""]
[null,""]
[null,""]
[null,""]
[null,""]
[]
[null,""]
[null,""]
[null,""]
[null,""]
[null,""]
[null,""]
[null,""]
[null,""]
[null,""]
[null,""]
[null,""]
[null,""]
[null,""]
[null,""]
[null,""]
[null,""]
[null,""]
[null,""]
[null,""]
[null,""]
[null,""]
[null,""]
[null,""]
[null,""]
[null,""]
[null,""]
[null,""]
[null,""]
[null,""]
[null,""]
[null,""]
[null,""]
[null,""]
[null,""]
[null,""]
[null,""]
[null,""]
[null,""]
[null,""]
[null,""]
[null,""]
[null,""]
[null,""]
[null,""]
[null,""]
[null,""]
[null,""]
[]
[null,""]
[null,""]
[null,""]
[null,""]
[null,""]
[null,""]
[null,""]
[null,""]
[null,""]
[null,""]
[null,""]
[null,""]
[null,""]
[null,""]
[null,""]
[null,""]
[null,""]
[null,""]
[null,""]
[null,""]
[null,""]
[null,""]
[null,""]
[null,""]
[null,""]
[null,""]
[null,""]
[null,""]
[null,""]
[null,""]
[null,""]
[null,""]
[null,""]
[null,""]
[null,""]
[null,""]
[null,""]
[null,""]
[null,""]
[null,""]
[null,""]
[null,""]
[null,""]
[null,""]
[null,""]
[null,""]
[null,""]
[]
[null,""]
[null,""]
[null,""]
[null,""]
[null,""]
[null,""]
[null,""]
[null,""]
[null,""]
[null,""]
[null,""]
[null,""]
[null,""]
[null,""]
[null,""]
[null,""]
[null,""]
[null,""]
[null,""]
[null,""]
[null,""]
[null,""]
[null,""]
[null,""]
[null,""]
[null,""]
[null,""]
[null,""]
[null,""]
[null,""]
[null,""]
[null,""]
[null,""]
[null,""]
[null,""]
[null,""]
[null,""]
[null,""]
[null,""]
[null,""]
[null,""]
[null,""]
[null,""]
[null,""]
[null,""]
[null,""]
[null,""]
[]
[null,""]
[null,""]
[null,""]
[null,""]
[null,""]
[null,""]
[null,""]
[null,""]
[null,""]
[null,""]
[null,""]
[null,""]
[null,""]
[null,""]
[null,""]
[null,""]
[null,""]
[null,""]
[null,""]
[null,""]
[null,""]
[null,""]
[null,""]
[null,""]
[null,""]
[null,""]
[null,""]
[null,""]
[null,""]
[null,""]
[null,""]
[null,""]
[null,""]
[null,""]
[null,""]
[null,""]
[null,""]
[null,""]
[null,""]
[null,""]
[null,""]
[null,""]
[null,""]
[null,""]
[null,""]
[null,""]
[null,""]
[]
[null,""]
[null,""]
[null,""]
[null,""]
[null,""]
[null,""]
[null,""]
[null,""]
[null,""]
[null,""]
[null,""]
[null,""]
[null,""]
[null,""]
[null,""]
[null,""]
[null,""]
[null,""]
[null,""]
[null,""]
[null,""]
[null,""]
[null,""]
[null,""]
[null,""]
[null,""]
[null,""]
[null,""]
[null,""]
[null,""]
[null,""]
[null,""]
[null,""]
[null,""]
[null,""]
[null,""]
[null,""]
[null,""]
[null,""]
[null,""]
[null,""]
[null,""]
[null,""]
[null,""]
[null,""]
[null,""]
[null,""]
[]
[null,""]
[null,""]
[null,""]
[null,""]
[null,""]
[null,""]
[null,""]
[null,""]
[null,""]
[null,""]
[null,""]
[null,""]
[null,""]
[null,""]
[null,""]
[null,""]
[null,""]
[null,""]
[null,""]
[null,""]
[null,""]
[null,""]
[null,""]
[null,""]
[null,""]
[null,""]
[null,""]
[null,""]
[null,""]
[null,""]
[null,""]
[null,""]
[null,""]
[null,""]
[null,""]
[null,""]
[null,""]
[null,""]
[null,""]
[null,""]
[null,""]
[null,""]
[null,""]
[null,""]
[null,""]
[null,""]
[null,""]
[]
[null,""]
[null,""]
[null,""]
[null,""]
[null,""]
[null,""]
[null,""]
[null,""]
[null,""]
[null,""]
[null,""]
[null,""]
[null,""]
[null,""]
[null,""]
[null,""]
[null,""]
[null,""]
[null,""]
[null,""]
[null,""]
[null,""]
[null,""]
[null,""]
[null,""]
[null,""]
[null,""]
[null,""]
[null,""]
[null,""]
[null,""]
[null,""]
[null,""]
[null,""]
[null,""]
[null,""]
[null,""]
[null,""]
[null,""]
[null,""]
[null,""]
[null,""]
[null,""]
[null,""]
[null,""]
[null,""]
[null,""]
[]
[null,""]
[null,""]
[null,""]
[null,""]
[null,""]
[null,""]
[null,""]
[null,""]
[null,""]
[null,""]
[null,""]
[null,""]
[null,""]
[null,""]
[null,""]
[null,""]
[null,""]
[null,""]
[null,""]
[null,""]
[null,""]
[null,""]
[null,""]
[null,""]
[null,""]
[null,""]
[null,""]
[null,""]
[null,""]
[null,""]
[null,""]
[null,""]
[null,""]
[null,""]
[null,""]
[null,""]
[null,""]
[null,""]
[null,""]
[null,""]
[null,""]
[null,""]
[null,""]
[null,""]
[null,""]
[null,""]
[null,""]
[]
[null,""]
[null,""]
[null,""]
[null,""]
[null,""]
[null,""]
[null,""]
[null,""]
[null,""]
[null,""]
[null,""]
[null,""]
[null,""]
[null,""]
[null,""]
[null,""]
[null,""]
[null,""]
[null,""]
[null,""]
[null,""]
[null,""]
[null,""]
[null,""]
[null,""]
[null,""]
[null,""]
[null,""]
[null,""]
[null,""]
[null,""]
[null,""]
[null,""]
[null,""]
[null,""]
[null,""]
[null,""]
[null,""]
[null,""]
[null,""]
[null,""]
[null,""]
[null,""]
[null,""]
[null,""]
[null,""]
[null,""]
[]
[null,""]
[null,""]
[null,""]
[null,""]
[null,""]
[null,""]
[null,""]
[null,""]
[null,""]
[null,""]
[null,""]
[null,""]
[null,""]
[null,""]
[null,""]
[null,""]
[null,""]
[null,""]
[null,""]
[null,""]
[null,""]
[null,""]
[null,""]
[null,""]
[null,""]
[null,""]
[null,""]
[null,""]
[null,""]
[null,""]
[null,""]
[null,""]
[null,""]
[null,""]
[null,""]
[null,""]
[null,""]
[null,""]
[null,""]
[null,""]
[null,""]
[null,""]
[null,""]
[null,""]
[null,""]
[null,""]
[null,""]
[]
[null,""]
[null,""]
[null,""]
[null,""]
[null,""]
[null,""]
[null,""]
[null,""]
[null,""]
[null,""]
[null,""]
[null,""]
[null,""]
[null,""]
[null,""]
[null,""]
[null,""]
[null,""]
[null,""]
[null,""]
[null,""]
[null,""]
[null,""]
[null,""]
[null,""]
[null,""]
[null,""]
[null,""]
[null,""]
[null,""]
[null,""]
[null,""]
[null,""]
[null,""]
[null,""]
[null,""]
[null,""]
[null,""]
[null,""]
[null,""]
[null,""]
[null,""]
[null,""]
[null,""]
[null,""]
[null,""]
[null,""]
[]
[null,""]
[null,""]
[null,""]
[null,""]
[null,""]
[null,""]
[null,""]
[null,""]
[null,""]
[null,""]
[null,""]
[null,""]
[null,""]
[null,""]
[null,""]
[null,""]
[null,""]
[null,""]
[null,""]
[null,""]
[null,""]
[null,""]
[null,""]
[null,""]
[null,""]
[null,""]
[null,""]
[null,""]
[null,""]
[null,""]
[null,""]
[null,""]
[null,""]
[null,""]
[null,""]
[null,""]
[null,""]
[null,""]
[null,""]
[null,""]
[null,""]
[null,""]
[null,""]
[null,""]
[null,""]
[null,""]
[null,""]
[]
[null,""]
[null,""]
[null,""]
[null,""]
[null,""]
[null,""]
[null,""]
[null,""]
[null,""]
[null,""]
[null,""]
[null,""]
[null,""]
[null,""]
[null,""]
[null,""]
[null,""]
[null,""]
[null,""]
[null,""]
[null,""]
[null,""]
[null,""]
[null,""]
[null,""]
[null,""]
[null,""]
[null,""]
[null,""]
[null,""]
[null,""]
[null,""]
[null,""]
[null,""]
[null,""]
[null,""]
[null,""]
[null,""]
[null,""]
[null,""]
[null,""]
[null,""]
[null,""]
[null,""]
[null,""]
[null,""]
[null,""]
[]
[null,""]
[null,""]
[null,""]
[null,""]
[null,""]
[null,""]
[null,""]
[null,""]
[null,""]
[null,""]
[null,""]
[null,""]
[null,""]
[null,""]
[null,""]
[null,""]
[null,""]
[null,""]
[null,""]
[null,""]
[null,""]
[null,""]
[null,""]
[null,""]
[null,""]
[null,""]
[null,""]
[null,""]
[null,""]
[null,""]
[null,""]
[null,""]
[null,""]
[null,""]
[null,""]
[null,""]
[null,""]
[null,""]
[null,""]
[null,""]
[null,""]
[null,""]
[null,""]
[null,""]
[null,""]
[null,""]
[null,""]
[]
[null,""]
[null,""]
[null,""]
[null,""]
[null,""]
[null,""]
[null,""]
[null,""]
[null,""]
[null,""]
[null,""]
[null,""]
[null,""]
[null,""]
[null,""]
[null,""]
[null,""]
[null,""]
[null,""]
[null,""]
[null,""]
[null,""]
[null,""]
[null,""]
[null,""]
[null,""]
[null,""]
[null,""]
[null,""]
[null,""]
[null,""]
[null,""]
[null,""]
[null,""]
[null,""]
[null,""]
[null,""]
[null,""]
[null,""]
[null,""]
[null,""]
[null,""]
[null,""]
[null,""]
[null,""]
[null,""]
[null,""]
[]
[null,""]
[null,""]
[null,""]
[null,""]
[null,""]
[null,""]
[null,""]
[null,""]
[null,""]
[null,""]
[null,""]
[null,""]
[null,""]
[null,""]
[null,""]
[null,""]
[null,""]
[null,""]
[null,""]
[null,""]
[null,""]
[null,""]
[null,""]
[null,""]
[null,""]
[null,""]
[null,""]
[null,""]
[null,""]
[null,""]
[null,""]
[null,""]
[null,""]
[null,""]
[null,""]
[null,""]
[null,""]
[null,""]
[null,""]
[null,""]
[null,""]
[null,""]
[null,""]
[null,""]
[null,""]
[null,""]
[null,""]
[]
[null,""]
[null,""]
[null,""]
[null,""]
[null,""]
[null,""]
[null,""]
[null,""]
[null,""]
[null,""]
[null,""]
[null,""]
[null,""]
[null,""]
[null,""]
[null,""]
[null,""]
[null,""]
[null,""]
[null,""]
[null,""]
[null,""]
[null,""]
[null,""]
[null,""]
[null,""]
[null,""]
[null,""]
[null,""]
[null,""]
[null,""]
[null,""]
[null,""]
[null,""]
[null,""]
[null,""]
[null,""]
[null,""]
[null,""]
[null,""]
[null,""]
[null,""]
[null,""]
[null,""]
[null,""]
[null,""]
[null,""]
[]
[null,""]
[null,""]
[null,""]
[null,""]
[null,""]
[null,""]
[null,""]
[null,""]
[null,""]
[null,""]
[null,""]
[null,""]
[null,""]
[null,""]
[null,""]
[null,""]
[null,""]
[null,""]
[null,""]
[null,""]
[null,""]
[null,""]
[null,""]
[null,""]
[null,""]
[null,""]
[null,""]
[null,""]
[null,""]
[null,""]
[null,""]
[null,""]
[null,""]
[null,""]
[null,""]
[null,""]
[null,""]
[null,""]
[null,""]
[null,""]
[null,""]
[null,""]
[null,""]
[null,""]
[null,""]
[null,""]
[null,""]
[]
[null,""]
[null,""]
[null,""]
[null,""]
[null,""]
[null,""]
[null,""]
[null,""]
[null,""]
[null,""]
[null,""]
[null,""]
[null,""]
[null,""]
[null,""]
[null,""]
[null,""]
[null,""]
[null,""]
[null,""]
[null,""]
[null,""]
[null,""]
[null,""]
[null,""]
[null,""]
[null,""]
[null,""]
[null,""]
[null,""]
[null,""]
[null,""]
[null,""]
[null,""]
[null,""]
[null,""]
[null,""]
[null,""]
[null,""]
[null,""]
[null,""]
[null,""]
[null,""]
[null,""]
[null,""]
[null,""]
[null,""]
[]
[null,""]
[null,""]
[null,""]
[null,""]
[null,""]
[null,""]
[null,""]
[null,""]
[null,""]
[null,""]
[null,""]
[null,""]
[null,""]
[null,""]
[null,""]
[null,""]
[null,""]
[null,""]
[null,""]
[null,""]
[null,""]
[null,""]
[null,""]
[null,""]
[null,""]
[null,""]
[null,""]
[null,""]
[null,""]
[null,""]
[null,""]
[null,""]
[null,""]
[null,""]
[null,""]
[null,""]
[null,""]
[null,""]
[null,""]
[null,""]
[null,""]
[null,""]
[null,""]
[null,""]
[null,""]
[null,""]
[null,""]
[]
[null,""]
[null,""]
[null,""]
[null,""]
[null,""]
[null,""]
[null,""]
[null,""]
[null,""]
[null,""]
[null,""]
[null,""]
[null,""]
[null,""]
[null,""]
[null,""]
[null,""]
[null,""]
[null,""]
[null,""]
[null,""]
[null,""]
[null,""]
[null,""]
[null,""]
[null,""]
[null,""]
[null,""]
[null,""]
[null,""]
[null,""]
[null,""]
[null,""]
[null,""]
[null,""]
[null,""]
[null,""]
[null,""]
[null,""]
[null,""]
[null,""]
[null,""]
[null,""]
[null,""]
[null,""]
[null,""]
[null,""]
[]
[null,""]
[null,""]
[null,""]
[null,""]
[null,""]
[null,""]
[null,""]
[null,""]
[null,""]
[null,""]
[null,""]
[null,""]
[null,""]
[null,""]
[null,""]
[null,""]
[null,""]
[null,""]
[null,""]
[null,""]
[null,""]
[null,""]
[null,""]
[null,""]
[null,""]
[null,""]
[null,""]
[null,""]
[null,""]
[null,""]
[null,""]
[null,""]
[null,""]
[null,""]
[null,""]
[null,""]
[null,""]
[null,""]
[null,""]
[null,""]
[null,""]
[null,""]
[null,""]
[null,""]
[null,""]
[null,""]
[null,""]
[]
[null,""]
[null,""]
[null,""]
[null,""]
[null,""]
[null,""]
[null,""]
[null,""]
[null,""]
[null,""]
[null,""]
[null,""]
[null,""]
[null,""]
[null,""]
[null,""]
[null,""]
[null,""]
[null,""]
[null,""]
[null,""]
[null,""]
[null,""]
[null,""]
[null,""]
[null,""]
[null,""]
[null,""]
[null,""]
[null,""]
[null,""]
[null,""]
[null,""]
[null,""]
[null,""]
[null,""]
[null,""]
[null,""]
[null,""]
[null,""]
[null,""]
[null,""]
[null,""]
[null,""]
[null,""]
[null,""]
[null,""]
[]
[null,""]
[null,""]
[null,""]
[null,""]
[null,""]
[null,""]
[null,""]
[null,""]
[null,""]
[null,""]
[null,""]
[null,""]
[null,""]
[null,""]
[null,""]
[null,""]
[null,""]
[null,""]
[null,""]
[null,""]
[null,""]
[null,""]
[null,""]
[null,""]
[null,""]
[null,""]
[null,""]
[null,""]
[null,""]
[null,""]
[null,""]
[null,""]
[null,""]
[null,""]
[null,""]
[null,""]
[null,""]
[null,""]
[null,""]
[null,""]
[null,""]
[null,""]
[null,""]
[null,""]
[null,""]
[null,""]
[null,""]
[]
[null,""]
[null,""]
[null,""]
[null,""]
[null,""]
[null,""]
[null,""]
[null,""]
[null,""]
[null,""]
[null,""]
[null,""]
[null,""]
[null,""]
[null,""]
[null,""]
[null,""]
[null,""]
[null,""]
[null,""]
[null,""]
[null,""]
[null,""]
[null,""]
[null,""]
[null,""]
[null,""]
[null,""]
[null,""]
[null,""]
[null,""]
[null,""]
[null,""]
[null,""]
[null,""]
[null,""]
[null,""]
[null,""]
[null,""]
[null,""]
[null,""]
[null,""]
[null,""]
[null,""]
[null,""]
[null,""]
[null,""]
[]
[null,""]
[null,""]
[null,""]
[null,""]
[null,""]
[null,""]
[null,""]
[null,""]
[null,""]
[null,""]
[null,""]
[null,""]
[null,""]
[null,""]
[null,""]
[null,""]
[null,""]
[null,""]
[null,""]
[null,""]
[null,""]
[null,""]
[null,""]
[null,""]
[null,""]
[null,""]
[null,""]
[null,""]
[null,""]
[null,""]
[null,""]
[null,""]
[null,""]
[null,""]
[null,""]
[null,""]
[null,""]
[null,""]
[null,""]
[null,""]
[null,""]
[null,""]
[null,""]
[null,""]
[null,""]
[null,""]
[null,""]
[]
[null,""]
[null,""]
[null,""]
[null,""]
[null,""]
[null,""]
[null,""]
[null,""]
[null,""]
[null,""]
[null,""]
[null,""]
[null,""]
[null,""]
[null,""]
[null,""]
[null,""]
[null,""]
[null,""]
[null,""]
[null,""]
[null,""]
[null,""]
[null,""]
[null,""]
[null,""]
[null,""]
[null,""]
[null,""]
[null,""]
[null,""]
[null,""]
[null,""]
[null,""]
[null,""]
[null,""]
[null,""]
[null,""]
[null,""]
[null,""]
[null,""]
[null,""]
[null,""]
[null,""]
[null,""]
[null,""]
[null,""]
[]
[null,""]
[null,""]
[null,""]
[null,""]
[null,""]
[null,""]
[null,""]
[null,""]
[null,""]
[null,""]
[null,""]
[null,""]
[null,""]
[null,""]
[null,""]
[null,""]
[null,""]
[null,""]
[null,""]
[null,""]
[null,""]
[null,""]
[null,""]
[null,""]
[null,""]
[null,""]
[null,""]
[null,""]
[null,""]
[null,""]
[null,""]
[null,""]
[null,""]
[null,""]
[null,""]
[null,""]
[null,""]
[null,""]
[null,""]
[null,""]
[null,""]
[null,""]
[null,""]
[null,""]
[null,""]
[null,""]
[null,""]
[]
[null,""]
[null,""]
[null,""]
[null,""]
[null,""]
[null,""]
[null,""]
[null,""]
[null,""]
[null,""]
[null,""]
[null,""]
[null,""]
[null,""]
[null,""]
[null,""]
[null,""]
[null,""]
[null,""]
[null,""]
[null,""]
[null,""]
[null,""]
[null,""]
[null,""]
[null,""]
[null,""]
[null,""]
[null,""]
[null,""]
[null,""]
[null,""]
[null,""]
[null,""]
[null,""]
[null,""]
[null,""]
[null,""]
[null,""]
[null,""]
[null,""]
[null,""]
[null,""]
[null,""]
[null,""]
[null,""]
[null,""]
[]
[null,""]
[null,""]
[null,""]
[null,""]
[null,""]
[null,""]
[null,""]
[null,""]
[null,""]
[null,""]
[null,""]
[null,""]
[null,""]
[null,""]
[null,""]
[null,""]
[null,""]
[null,""]
[null,""]
[null,""]
[null,""]
[null,""]
[null,""]
[null,""]
[null,""]
[null,""]
[null,""]
[null,""]
[null,""]
[null,""]
[null,""]
[null,""]
[null,""]
[null,""]
[null,""]
[null,""]
[null,""]
[null,""]
[null,""]
[null,""]
[null,""]
[null,""]
[null,""]
[null,""]
[null,""]
[null,""]
[null,""]
[]
[null,""]
[null,""]
[null,""]
[null,""]
[null,""]
[null,""]
[null,""]
[null,""]
[null,""]
[null,""]
[null,""]
[null,""]
[null,""]
[null,""]
[null,""]
[null,""]
[null,""]
[null,""]
[null,""]
[null,""]
[null,""]
[null,""]
[null,""]
[null,""]
[null,""]
[null,""]
[null,""]
[null,""]
[null,""]
[null,""]
[null,""]
[null,""]
[null,""]
[null,""]
[null,""]
[null,""]
[null,""]
[null,""]
[null,""]
[null,""]
[null,""]
[null,""]
[null,""]
[null,""]
[null,""]
[null,""]
[null,""]
[]
[null,""]
[null,""]
[null,""]
[null,""]
[null,""]
[null,""]
[null,""]
[null,""]
[null,""]
[null,""]
[null,""]
[null,""]
[null,""]
[null,""]
[null,""]
[null,""]
[null,""]
[null,""]
[null,""]
[null,""]
[null,""]
[null,""]
[null,""]
[null,""]
[null,""]
[null,""]
[null,""]
[null,""]
[null,""]
[null,""]
[null,""]
[null,""]
[null,""]
[null,""]
[null,""]
[null,""]
[null,""]
[null,""]
[null,""]
[null,""]
[null,""]
[null,""]
[null,""]
[null,""]
[null,""]
[null,""]
[null,""]
[]
[null,""]
[null,""]
[null,""]
[null,""]
[null,""]
[null,""]
[null,""]
[null,""]
[null,""]
[null,""]
[null,""]
[null,""]
[null,""]
[null,""]
[null,""]
[null,""]
[null,""]
[null,""]
[null,""]
[null,""]
[null,""]
[null,""]
[null,""]
[null,""]
[null,""]
[null,""]
[null,""]
[null,""]
[null,""]
[null,""]
[null,""]
[null,""]
[null,""]
[null,""]
[null,""]
[null,""]
[null,""]
[null,""]
[null,""]
[null,""]
[null,""]
[null,""]
[null,""]
[null,""]
[null,""]
[null,""]
[null,""]
[]
[null,""]
[null,""]
[null,""]
[null,""]
[null,""]
[null,""]
[null,""]
[null,""]
[null,""]
[null,""]
[null,""]
[null,""]
[null,""]
[null,""]
[null,""]
[null,""]
[null,""]
[null,""]
[null,""]
[null,""]
[null,""]
[null,""]
[null,""]
[null,""]
[null,""]
[null,""]
[null,""]
[null,""]
[null,""]
[null,""]
[null,""]
[null,""]
[null,""]
[null,""]
[null,""]
[null,""]
[null,""]
[null,""]
[null,""]
[null,""]
[null,""]
[null,""]
[null,""]
[null,""]
[null,""]
[null,""]
[null,""]
[]
[null,""]
[null,""]
[null,""]
[null,""]
[null,""]
[null,""]
[null,""]
[null,""]
[null,""]
[null,""]
[null,""]
[null,""]
[null,""]
[null,""]
[null,""]
[null,""]
[null,""]
[null,""]
[null,""]
[null,""]
[null,""]
[null,""]
[null,""]
[null,""]
[null,""]
[null,""]
[null,""]
[null,""]
[null,""]
[null,""]
[null,""]
[null,""]
[null,""]
[null,""]
[null,""]
[null,""]
[null,""]
[null,""]
[null,""]
[null,""]
[null,""]
[null,""]
[null,""]
[null,""]
[null,""]
[null,""]
[null,""]
[]
[null,""]
[null,""]
[null,""]
[null,""]
[null,""]
[null,""]
[null,""]
[null,""]
[null,""]
[null,""]
[null,""]
[null,""]
[null,""]
[null,""]
[null,""]
[null,""]
[null,""]
[null,""]
[null,""]
[null,""]
[null,""]
[null,""]
[null,""]
[null,""]
[null,""]
[null,""]
[null,""]
[null,""]
[null,""]
[null,""]
[null,""]
[null,""]
[null,""]
[null,""]
[null,""]
[null,""]
[null,""]
[null,""]
[null,""]
[null,""]
[null,""]
[null,""]
[null,""]
[null,""]
[null,""]
[null,""]
[null,""]
[]
[null,""]
[null,""]
[null,""]
[null,""]
[null,""]
[null,""]
[null,""]
[null,""]
[null,""]
[null,""]
[null,""]
[null,""]
[null,""]
[null,""]
[null,""]
[null,""]
[null,""]
[null,""]
[null,""]
[null,""]
[null,""]
[null,""]
[null,""]
[null,""]
[null,""]
[null,""]
[null,""]
[null,""]
[null,""]
[null,""]
[null,""]
[null,""]
[null,""]
[null,""]
[null,""]
[null,""]
[null,""]
[null,""]
[null,""]
[null,""]
[null,""]
[null,""]
[null,""]
[null,""]
[null,""]
[null,""]
[null,""]
[]
[null,""]
[null,""]
[null,""]
[null,""]
[null,""]
[null,""]
[null,""]
[null,""]
[null,""]
[null,""]
[null,""]
[null,""]
[null,""]
[null,""]
[null,""]
[null,""]
[null,""]
[null,""]
[null,""]
[null,""]
[null,""]
[null,""]
[null,""]
[null,""]
[null,""]
[null,""]
[null,""]
[null,""]
[null,""]
[null,""]
[null,""]
[null,""]
[null,""]
[null,""]
[null,""]
[null,""]
[null,""]
[null,""]
[null,""]
[null,""]
[null,""]
[null,""]
[null,""]
[null,""]
[null,""]
[null,""]
[null,""]
[]
[null,""]
[null,""]
[null,""]
[null,""]
[null,""]
[null,""]
[null,""]
[null,""]
[null,""]
[null,""]
[null,""]
[null,""]
[null,""]
[null,""]
[null,""]
[null,""]
[null,""]
[null,""]
[null,""]
[null,""]
[null,""]
[null,""]
[null,""]
[null,""]
[null,""]
[null,""]
[null,""]
[null,""]
[null,""]
[null,""]
[null,""]
[null,""]
[null,""]
[null,""]
[null,""]
[null,""]
[null,""]
[null,""]
[null,""]
[null,""]
[null,""]
[null,""]
[null,""]
[null,""]
[null,""]
[null,""]
[null,""]
[]
[null,""]
[null,""]
[null,""]
[null,""]
[null,""]
[null,""]
[null,""]
[null,""]
[null,""]
[null,""]
[null,""]
[null,""]
[null,""]
[null,""]
[null,""]
[null,""]
[null,""]
[null,""]
[null,""]
[null,""]
[null,""]
[null,""]
[null,""]
[null,""]
[null,""]
[null,""]
[null,""]
[null,""]
[null,""]
[null,""]
[null,""]
[null,""]
[null,""]
[null,""]
[null,""]
[null,""]
[null,""]
[null,""]
[null,""]
[null,""]
[null,""]
[null,""]
[null,""]
[null,""]
[null,""]
[null,""]
[null,""]
[]
[null,""]
[null,""]
[null,""]
[null,""]
[null,""]
[null,""]
[null,""]
[null,""]
[null,""]
[null,""]
[null,""]
[null,""]
[null,""]
[null,""]
[null,""]
[null,""]
[null,""]
[null,""]
[null,""]
[null,""]
[null,""]
[null,""]
[null,""]
[null,""]
[null,""]
[null,""]
[null,""]
[null,""]
[null,""]
[null,""]
[null,""]
[null,""]
[null,""]
[null,""]
[null,""]
[null,""]
[null,""]
[null,""]
[null,""]
[null,""]
[null,""]
[null,""]
[null,""]
[null,""]
[null,""]
[null,""]
[null,""]
[]
[null,""]
[null,""]
[null,""]
[null,""]
[null,""]
[null,""]
[null,""]
[null,""]
[null,""]
[null,""]
[null,""]
[null,""]
[null,""]
[null,""]
[null,""]
[null,""]
[null,""]
[null,""]
[null,""]
[null,""]
[null,""]
[null,""]
[null,""]
[null,""]
[null,""]
[null,""]
[null,""]
[null,""]
[null,""]
[null,""]
[null,""]
[null,""]
[null,""]
[null,""]
[null,""]
[null,""]
[null,""]
[null,""]
[null,""]
[null,""]
[null,""]
[null,""]
[null,""]
[null,""]
[null,""]
[null,""]
[null,""]
[]
[null,""]
[null,""]
[null,""]
[null,""]
[null,""]
[null,""]
[null,""]
[null,""]
[null,""]
[null,""]
[null,""]
[null,""]
[null,""]
[null,""]
[null,""]
[null,""]
[null,""]
[null,""]
[null,""]
[null,""]
[null,""]
[null,""]
[null,""]
[null,""]
[null,""]
[null,""]
[null,""]
[null,""]
[null,""]
[null,""]
[null,""]
[null,""]
[null,""]
[null,""]
[null,""]
[null,""]
[null,""]
[null,""]
[null,""]
[null,""]
[null,""]
[null,""]
[null,""]
[null,""]
[null,""]
[null,""]
[null,""]
[]
[null,""]
[null,""]
[null,""]
[null,""]
[null,""]
[null,""]
[null,""]
[null,""]
[null,""]
[null,""]
[null,""]
[null,""]
[null,""]
[null,""]
[null,""]
[null,""]
[null,""]
[null,""]
[null,""]
[null,""]
[null,""]
[null,""]
[null,""]
[null,""]
[null,""]
[null,""]
[null,""]
[null,""]
[null,""]
[null,""]
[null,""]
[null,""]
[null,""]
[null,""]
[null,""]
[null,""]
[null,""]
[null,""]
[null,""]
[null,""]
[null,""]
[null,""]
[null,""]
[null,""]
[null,""]
[null,""]
[null,""]
[]
[null,""]
[null,""]
[null,""]
[null,""]
[null,""]
[null,""]
[null,""]
[null,""]
[null,""]
[null,""]
[null,""]
[null,""]
[null,""]
[null,""]
[null,""]
[null,""]
[null,""]
[null,""]
[null,""]
[null,""]
[null,""]
[null,""]
[null,""]
[null,""]
[null,""]
[null,""]
[null,""]
[null,""]
[null,""]
[null,""]
[null,""]
[null,""]
[null,""]
[null,""]
[null,""]
[null,""]
[null,""]
[null,""]
[null,""]
[null,""]
[null,""]
[null,""]
[null,""]
[null,""]
[null,""]
[null,""]
[null,""]
[]
[null,""]
[null,""]
[null,""]
[null,""]
[null,""]
[null,""]
[null,""]
[null,""]
[null,""]
[null,""]
[null,""]
[null,""]
[null,""]
[null,""]
[null,""]
[null,""]
[null,""]
[null,""]
[null,""]
[null,""]
[null,""]
[null,""]
[null,""]
[null,""]
[null,""]
[null,""]
[null,""]
[null,""]
[null,""]
[null,""]
[null,""]
[null,""]
[null,""]
[null,""]
[null,""]
[null,""]
[null,""]
[null,""]
[null,""]
[null,""]
[null,""]
[null,""]
[null,""]
[null,""]
[null,""]
[null,""]
[null,""]
[]
[null,""]
[null,""]
[null,""]
[null,""]
[null,""]
[null,""]
[null,""]
[null,""]
[null,""]
[null,""]
[null,""]
[null,""]
[null,""]
[null,""]
[null,""]
[null,""]
[null,""]
[null,""]
[null,""]
[null,""]
[null,""]
[null,""]
[null,""]
[null,""]
[null,""]
[null,""]
[null,""]
[null,""]
[null,""]
[null,""]
[null,""]
[null,""]
[null,""]
[null,""]
[null,""]
[null,""]
[null,""]
[null,""]
[null,""]
[null,""]
[null,""]
[null,""]
[null,""]
[null,""]
[null,""]
[null,""]
[null,""]
[]
[null,""]
[null,""]
[null,""]
[null,""]
[null,""]
[null,""]
[null,""]
[null,""]
[null,""]
[null,""]
[null,""]
[null,""]
[null,""]
[null,""]
[null,""]
[null,""]
[null,""]
[null,""]
[null,""]
[null,""]
[null,""]
[null,""]
[null,""]
[null,""]
[null,""]
[null,""]
[null,""]
[null,""]
[null,""]
[null,""]
[null,""]
[null,""]
[null,""]
[null,""]
[null,""]
[null,""]
[null,""]
[null,""]
[null,""]
[null,""]
[null,""]
[null,""]
[null,""]
[null,""]
[null,""]
[null,""]
[null,""]
[]
[null,""]
[null,""]
[null,""]
[null,""]
[null,""]
[null,""]
[null,""]
[null,""]
[null,""]
[null,""]
[null,""]
[null,""]
[null,""]
[null,""]
[null,""]
[null,""]
[null,""]
[null,""]
[null,""]
[null,""]
[null,""]
[null,""]
[null,""]
[null,""]
[null,""]
[null,""]
[null,""]
[null,""]
[null,""]
[null,""]
[null,""]
[null,""]
[null,""]
[null,""]
[null,""]
[null,""]
[null,""]
[null,""]
[null,""]
[null,""]
[null,""]
[null,""]
[null,""]
[null,""]
[null,""]
[null,""]
[null,""]
[]
[null,""]
[null,""]
[null,""]
[null,""]
[null,""]
[null,""]
[null,""]
[null,""]
[null,""]
[null,""]
[null,""]
[null,""]
[null,""]
[null,""]
[null,""]
[null,""]
[null,""]
[null,""]
[null,""]
[null,""]
[null,""]
[null,""]
[null,""]
[null,""]
[null,""]
[null,""]
[null,""]
[null,""]
[null,""]
[null,""]
[null,""]
[null,""]
[null,""]
[null,""]
[null,""]
[null,""]
[null,""]
[null,""]
[null,""]
[null,""]
[null,""]
[null,""]
[null,""]
[null,""]
[null,""]
[null,""]
[null,""]
[]
[null,""]
[null,""]
[null,""]
[null,""]
[null,""]
[null,""]
[null,""]
[null,""]
[null,""]
[null,""]
[null,""]
[null,""]
[null,""]
[null,""]
[null,""]
[null,""]
[null,""]
[null,""]
[null,""]
[null,""]
[null,""]
[null,""]
[null,""]
[null,""]
[null,""]
[null,""]
[null,""]
[null,""]
[null,""]
[null,""]
[null,""]
[null,""]
[null,""]
[null,""]
[null,""]
[null,""]
[null,""]
[null,""]
[null,""]
[null,""]
[null,""]
[null,""]
[null,""]
[null,""]
[null,""]
[null,""]
[null,""]
[]
[null,""]
[null,""]
[null,""]
[null,""]
[null,""]
[null,""]
[null,""]
[null,""]
[null,""]
[null,""]
[null,""]
[null,""]
[null,""]
[null,""]
[null,""]
[null,""]
[null,""]
[null,""]
[null,""]
[null,""]
[null,""]
[null,""]
[null,""]
[null,""]
[null,""]
[null,""]
[null,""]
[null,""]
[null,""]
[null,""]
[null,""]
[null,""]
[null,""]
[null,""]
[null,""]
[null,""]
[null,""]
[null,""]
[null,""]
[null,""]
[null,""]
[null,""]
[null,""]
[null,""]
[null,""]
[null,""]
[null,""]
[]
[null,""]
[null,""]
[null,""]
[null,""]
[null,""]
[null,""]
[null,""]
[null,""]
[null,""]
[null,""]
[null,""]
[null,""]
[null,""]
[null,""]
[null,""]
[null,""]
[null,""]
[null,""]
[null,""]
[null,""]
[null,""]
[null,""]
[null,""]
[null,""]
[null,""]
[null,""]
[null,""]
[null,""]
[null,""]
[null,""]
[null,""]
[null,""]
[null,""]
[null,""]
[null,""]
[null,""]
[null,""]
[null,""]
[null,""]
[null,""]
[null,""]
[null,""]
[null,""]
[null,""]
[null,""]
[null,""]
[null,""]
[]
[null,""]
[null,""]
[null,""]
[null,""]
[null,""]
[null,""]
[null,""]
[null,""]
[null,""]
[null,""]
[null,""]
[null,""]
[null,""]
[null,""]
[null,""]
[null,""]
[null,""]
[null,""]
[null,""]
[null,""]
[null,""]
[null,""]
[null,""]
[null,""]
[null,""]
[null,""]
[null,""]
[null,""]
[null,""]
[null,""]
[null,""]
[null,""]
[null,""]
[null,""]
[null,""]
[null,""]
[null,""]
[null,""]
[null,""]
[null,""]
[null,""]
[null,""]
[null,""]
[null,""]
[null,""]
[null,""]
[null,""]
[]
[null,""]
[null,""]
[null,""]
[null,""]
[null,""]
[null,""]
[null,""]
[null,""]
[null,""]
[null,""]
[null,""]
[null,""]
[null,""]
[null,""]
[null,""]
[null,""]
[null,""]
[null,""]
[null,""]
[null,""]
[null,""]
[null,""]
[null,""]
[null,""]
[null,""]
[null,""]
[null,""]
[null,""]
[null,""]
[null,""]
[null,""]
[null,""]
[null,""]
[null,""]
[null,""]
[null,""]
[null,""]
[null,""]
[null,""]
[null,""]
[null,""]
[null,""]
[null,""]
[null,""]
[null,""]
[null,""]
[null,""]
[]
[null,""]
[null,""]
[null,""]
[null,""]
[null,""]
[null,""]
[null,""]
[null,""]
[null,""]
[null,""]
[null,""]
[null,""]
[null,""]
[null,""]
[null,""]
[null,""]
[null,""]
[null,""]
[null,""]
[null,""]
[null,""]
[null,""]
[null,""]
[null,""]
[null,""]
[null,""]
[null,""]
[null,""]
[null,""]
[null,""]
[null,""]
[null,""]
[null,""]
[null,""]
[null,""]
[null,""]
[null,""]
[null,""]
[null,""]
[null,""]
[null,""]
[null,""]
[null,""]
[null,""]
[null,""]
[null,""]
[null,""]
[]
[null,""]
[null,""]
[null,""]
[null,""]
[null,""]
[null,""]
[null,""]
[null,""]
[null,""]
[null,""]
[null,""]
[null,""]
[null,""]
[null,""]
[null,""]
[null,""]
[null,""]
[null,""]
[null,""]
[null,""]
[null,""]
[null,""]
[null,""]
[null,""]
[null,""]
[null,""]
[null,""]
[null,""]
[null,""]
[null,""]
[null,""]
[null,""]
[null,""]
[null,""]
[null,""]
[null,""]
[null,""]
[null,""]
[null,""]
[null,""]
[null,""]
[null,""]
[null,""]
[null,""]
[null,""]
[null,""]
[null,""]
[]
[null,""]
[null,""]
[null,""]
[null,""]
[null,""]
[null,""]
[null,""]
[null,""]
[null,""]
[null,""]
[null,""]
[null,""]
[null,""]
[null,""]
[null,""]
[null,""]
[null,""]
[null,""]
[null,""]
[null,""]
[null,""]
[null,""]
[null,""]
[null,""]
[null,""]
[null,""]
[null,""]
[null,""]
[null,""]
[null,""]
[null,""]
[null,""]
[null,""]
[null,""]
[null,""]
[null,""]
[null,""]
[null,""]
[null,""]
[null,""]
[null,""]
[null,""]
[null,""]
[null,""]
[null,""]
[null,""]
[null,""]
[]
[null,""]
[null,""]
[null,""]
[null,""]
[null,""]
[null,""]
[null,""]
[null,""]
[null,""]
[null,""]
[null,""]
[null,""]
[null,""]
[null,""]
[null,""]
[null,""]
[null,""]
[null,""]
[null,""]
[null,""]
[null,""]
[null,""]
[null,""]
[null,""]
[null,""]
[null,""]
[null,""]
[null,""]
[null,""]
[null,""]
[null,""]
[null,""]
[null,""]
[null,""]
[null,""]
[null,""]
[null,""]
[null,""]
[null,""]
[null,""]
[null,""]
[null,""]
[null,""]
[null,""]
[null,""]
[null,""]
[null,""]
[]
[null,""]
[null,""]
[null,""]
[null,""]
[null,""]
[null,""]
[null,""]
[null,""]
[null,""]
[null,""]
[null,""]
[null,""]
[null,""]
[null,""]
[null,""]
[null,""]
[null,""]
[null,""]
[null,""]
[null,""]
[null,""]
[null,""]
[null,""]
[null,""]
[null,""]
[null,""]
[null,""]
[null,""]
[null,""]
[null,""]
[null,""]
[null,""]
[null,""]
[null,""]
[null,""]
[null,""]
[null,""]
[null,""]
[null,""]
[null,""]
[null,""]
[null,""]
[null,""]
[null,""]
[null,""]
[null,""]
[null,""]
[]
[null,""]
[null,""]
[null,""]
[null,""]
[null,""]
[null,""]
[null,""]
[null,""]
[null,""]
[null,""]
[null,""]
[null,""]
[null,""]
[null,""]
[null,""]
[null,""]
[null,""]
[null,""]
[null,""]
[null,""]
[null,""]
[null,""]
[null,""]
[null,""]
[null,""]
[null,""]
[null,""]
[null,""]
[null,""]
[null,""]
[null,""]
[null,""]
[null,""]
[null,""]
[null,""]
[null,""]
[null,""]
[null,""]
[null,""]
[null,""]
[null,""]
[null,""]
[null,""]
[null,""]
[null,""]
[null,""]
[null,""]
[]
[null,""]
[null,""]
[null,""]
[null,""]
[null,""]
[null,""]
[null,""]
[null,""]
[null,""]
[null,""]
[null,""]
[null,""]
[null,""]
[null,""]
[null,""]
[null,""]
[null,""]
[null,""]
[null,""]
[null,""]
[null,""]
[null,""]
[null,""]
[null,""]
[null,""]
[null,""]
[null,""]
[null,""]
[null,""]
[null,""]
[null,""]
[null,""]
[null,""]
[null,""]
[null,""]
[null,""]
[null,""]
[null,""]
[null,""]
[null,""]
[null,""]
[null,""]
[null,""]
[null,""]
[null,""]
[null,""]
[null,""]
[]
[null,""]
[null,""]
[null,""]
[null,""]
[null,""]
[null,""]
[null,""]
[null,""]
[null,""]
[null,""]
[null,""]
[null,""]
[null,""]
[null,""]
[null,""]
[null,""]
[null,""]
[null,""]
[null,""]
[null,""]
[null,""]
[null,""]
[null,""]
[null,""]
[null,""]
[null,""]
[null,""]
[null,""]
[null,""]
[null,""]
[null,""]
[null,""]
[null,""]
[null,""]
[null,""]
[null,""]
[null,""]
[null,""]
[null,""]
[null,""]
[null,""]
[null,""]
[null,""]
[null,""]
[null,""]
[null,""]
[null,""]
[]
[null,""]
[null,""]
[null,""]
[null,""]
[null,""]
[null,""]
[null,""]
[null,""]
[null,""]
[null,""]
[null,""]
[null,""]
[null,""]
[null,""]
[null,""]
[null,""]
[null,""]
[null,""]
[null,""]
[null,""]
[null,""]
[null,""]
[null,""]
[null,""]
[null,""]
[null,""]
[null,""]
[null,""]
[null,""]
[null,""]
[null,""]
[null,""]
[null,""]
[null,""]
[null,""]
[null,""]
[null,""]
[null,""]
[null,""]
[null,""]
[null,""]
[null,""]
[null,""]
[null,""]
[null,""]
[null,""]
[null,""]
[]
[null,""]
[null,""]
[null,""]
[null,""]
[null,""]
[null,""]
[null,""]
[null,""]
[null,""]
[null,""]
[null,""]
[null,""]
[null,""]
[null,""]
[null,""]
[null,""]
[null,""]
[null,""]
[null,""]
[null,""]
[null,""]
[null,""]
[null,""]
[null,""]
[null,""]
[null,""]
[null,""]
[null,""]
[null,""]
[null,""]
[null,""]
[null,""]
[null,""]
[null,""]
[null,""]
[null,""]
[null,""]
[null,""]
[null,""]
[null,""]
[null,""]
[null,""]
[null,""]
[null,""]
[null,""]
[null,""]
[null,""]
[]
[null,""]
[null,""]
[null,""]
[null,""]
[null,""]
[null,""]
[null,""]
[null,""]
[null,""]
[null,""]
[null,""]
[null,""]
[null,""]
[null,""]
[null,""]
[null,""]
[null,""]
[null,""]
[null,""]
[null,""]
[null,""]
[null,""]
[null,""]
[null,""]
[null,""]
[null,""]
[null,""]
[null,""]
[null,""]
[null,""]
[null,""]
[null,""]
[null,""]
[null,""]
[null,""]
[null,""]
[null,""]
[null,""]
[null,""]
[null,""]
[null,""]
[null,""]
[null,""]
[null,""]
[null,""]
[null,""]
[null,""]
[]
[null,""]
[null,""]
[null,""]
[null,""]
[null,""]
[null,""]
[null,""]
[null,""]
[null,""]
[null,""]
[null,""]
[null,""]
[null,""]
[null,""]
[null,""]
[null,""]
[null,""]
[null,""]
[null,""]
[null,""]
[null,""]
[null,""]
[null,""]
[null,""]
[null,""]
[null,""]
[null,""]
[null,""]
[null,""]
[null,""]
[null,""]
[null,""]
[null,""]
[null,""]
[null,""]
[null,""]
[null,""]
[null,""]
[null,""]
[null,""]
[null,""]
[null,""]
[null,""]
[null,""]
[null,""]
[null,""]
[null,""]
[]
[null,""]
[null,""]
[null,""]
[null,""]
[null,""]
[null,""]
[null,""]
[null,""]
[null,""]
[null,""]
[null,""]
[null,""]
[null,""]
[null,""]
[null,""]
[null,""]
[null,""]
[null,""]
[null,""]
[null,""]
[null,""]
[null,""]
[null,""]
[null,""]
[null,""]
[null,""]
[null,""]
[null,""]
[null,""]
[null,""]
[null,""]
[null,""]
[null,""]
[null,""]
[null,""]
[null,""]
[null,""]
[null,""]
[null,""]
[null,""]
[null,""]
[null,""]
[null,""]
[null,""]
[null,""]
[null,""]
[null,""]
[]
[null,""]
[null,""]
[null,""]
[null,""]
[null,""]
[null,""]
[null,""]
[null,""]
[null,""]
[null,""]
[null,""]
[null,""]
[null,""]
[null,""]
[null,""]
[null,""]
[null,""]
[null,""]
[null,""]
[null,""]
[null,""]
[null,""]
[null,""]
[null,""]
[null,""]
[null,""]
[null,""]
[null,""]
[null,""]
[null,""]
[null,""]
[null,""]
[null,""]
[null,""]
[null,""]
[null,""]
[null,""]
[null,""]
[null,""]
[null,""]
[null,""]
[null,""]
[null,""]
[null,""]
[null,""]
[null,""]
[null,""]
[]
[null,""]
[null,""]
[null,""]
[null,""]
[null,""]
[null,""]
[null,""]
[null,""]
[null,""]
[null,""]
[null,""]
[null,""]
[null,""]
[null,""]
[null,""]
[null,""]
[null,""]
[null,""]
[null,""]
[null,""]
[null,""]
[null,""]
[null,""]
[null,""]
[null,""]
[null,""]
[null,""]
[null,""]
[null,""]
[null,""]
[null,""]
[null,""]
[null,""]
[null,""]
[null,""]
[null,""]
[null,""]
[null,""]
[null,""]
[null,""]
[null,""]
[null,""]
[null,""]
[null,""]
[null,""]
[null,""]
[null,""]
[]
[null,""]
[null,""]
[null,""]
[null,""]
[null,""]
[null,""]
[null,""]
[null,""]
[null,""]
[null,""]
[null,""]
[null,""]
[null,""]
[null,""]
[null,""]
[null,""]
[null,""]
[null,""]
[null,""]
[null,""]
[null,""]
[null,""]
[null,""]
[null,""]
[null,""]
[null,""]
[null,""]
[null,""]
[null,""]
[null,""]
[null,""]
[null,""]
[null,""]
[null,""]
[null,""]
[null,""]
[null,""]
[null,""]
[null,""]
[null,""]
[null,""]
[null,""]
[null,""]
[null,""]
[null,""]
[null,""]
[null,""]
[]
[null,""]
[null,""]
[null,""]
[null,""]
[null,""]
[null,""]
[null,""]
[null,""]
[null,""]
[null,""]
[null,""]
[null,""]
[null,""]
[null,""]
[null,""]
[null,""]
[null,""]
[null,""]
[null,""]
[null,""]
[null,""]
[null,""]
[null,""]
[null,""]
[null,""]
[null,""]
[null,""]
[null,""]
[null,""]
[null,""]
[null,""]
[null,""]
[null,""]
[null,""]
[null,""]
[null,""]
[null,""]
[null,""]
[null,""]
[null,""]
[null,""]
[null,""]
[null,""]
[null,""]
[null,""]
[null,""]
[null,""]
[]
[null,""]
[null,""]
[null,""]
[null,""]
[null,""]
[null,""]
[null,""]
[null,""]
[null,""]
[null,""]
[null,""]
[null,""]
[null,""]
[null,""]
[null,""]
[null,""]
[null,""]
[null,""]
[null,""]
[null,""]
[null,""]
[null,""]
[null,""]
[null,""]
[null,""]
[null,""]
[null,""]
[null,""]
[null,""]
[null,""]
[null,""]
[null,""]
[null,""]
[null,""]
[null,""]
[null,""]
[null,""]
[null,""]
[null,""]
[null,""]
[null,""]
[null,""]
[null,""]
[null,""]
[null,""]
[null,""]
[null,""]
[]
[null,""]
[null,""]
[null,""]
[null,""]
[null,""]
[null,""]
[null,""]
[null,""]
[null,""]
[null,""]
[null,""]
[null,""]
[null,""]
[null,""]
[null,""]
[null,""]
[null,""]
[null,""]
[null,""]
[null,""]
[null,""]
[null,""]
[null,""]
[null,""]
[null,""]
[null,""]
[null,""]
[null,""]
[null,""]
[null,""]
[null,""]
[null,""]
[null,""]
[null,""]
[null,""]
[null,""]
[null,""]
[null,""]
[null,""]
[null,""]
[null,""]
[null,""]
[null,""]
[null,""]
[null,""]
[null,""]
[null,""]
[]
[null,""]
[null,""]
[null,""]
[null,""]
[null,""]
[null,""]
[null,""]
[null,""]
[null,""]
[null,""]
[null,""]
[null,""]
[null,""]
[null,""]
[null,""]
[null,""]
[null,""]
[null,""]
[null,""]
[null,""]
[null,""]
[null,""]
[null,""]
[null,""]
[null,""]
[null,""]
[null,""]
[null,""]
[null,""]
[null,""]
[null,""]
[null,""]
[null,""]
[null,""]
[null,""]
[null,""]
[null,""]
[null,""]
[null,""]
[null,""]
[null,""]
[null,""]
[null,""]
[null,""]
[null,""]
[null,""]
[null,""]
[]
[null,""]
[null,""]
[null,""]
[null,""]
[null,""]
[null,""]
[null,""]
[null,""]
[null,""]
[null,""]
[null,""]
[null,""]
[null,""]
[null,""]
[null,""]
[null,""]
[null,""]
[null,""]
[null,""]
[null,""]
[null,""]
[null,""]
[null,""]
[null,""]
[null,""]
[null,""]
[null,""]
[null,""]
[null,""]
[null,""]
[null,""]
[null,""]
[null,""]
[null,""]
[null,""]
[null,""]
[null,""]
[null,""]
[null,""]
[null,""]
[null,""]
[null,""]
[null,""]
[null,""]
[null,""]
[null,""]
[null,""]
[]
[null,""]
[null,""]
[null,""]
[null,""]
[null,""]
[null,""]
[null,""]
[null,""]
[null,""]
[null,""]
[null,""]
[null,""]
[null,""]
[null,""]
[null,""]
[null,""]
[null,""]
[null,""]
[null,""]
[null,""]
[null,""]
[null,""]
[null,""]
[null,""]
[null,""]
[null,""]
[null,""]
[null,""]
[null,""]
[null,""]
[null,""]
[null,""]
[null,""]
[null,""]
[null,""]
[null,""]
[null,""]
[null,""]
[null,""]
[null,""]
[null,""]
[null,""]
[null,""]
[null,""]
[null,""]
[null,""]
[null,""]
[]
[null,""]
[null,""]
[null,""]
[null,""]
[null,""]
[null,""]
[null,""]
[null,""]
[null,""]
[null,""]
[null,""]
[null,""]
[null,""]
[null,""]
[null,""]
[null,""]
[null,""]
[null,""]
[null,""]
[null,""]
[null,""]
[null,""]
[null,""]
[null,""]
[null,""]
[null,""]
[null,""]
[null,""]
[null,""]
[null,""]
[null,""]
[null,""]
[null,""]
[null,""]
[null,""]
[null,""]
[null,""]
[null,""]
[null,""]
[null,""]
[null,""]
[null,""]
[null,""]
[null,""]
[null,""]
[null,""]
[null,""]
[]
[null,""]
[null,""]
[null,""]
[null,""]
[null,""]
[null,""]
[null,""]
[null,""]
[null,""]
[null,""]
[null,""]
[null,""]
[null,""]
[null,""]
[null,""]
[null,""]
[null,""]
[null,""]
[null,""]
[null,""]
[null,""]
[null,""]
[null,""]
[null,""]
[null,""]
[null,""]
[null,""]
[null,""]
[null,""]
[null,""]
[null,""]
[null,""]
[null,""]
[null,""]
[null,""]
[null,""]
[null,""]
[null,""]
[null,""]
[null,""]
[null,""]
[null,""]
[null,""]
[null,""]
[null,""]
[null,""]
[null,""]
[]
[null,""]
[null,""]
[null,""]
[null,""]
[null,""]
[null,""]
[null,""]
[null,""]
[null,""]
[null,""]
[null,""]
[null,""]
[null,""]
[null,""]
[null,""]
[null,""]
[null,""]
[null,""]
[null,""]
[null,""]
[null,""]
[null,""]
[null,""]
[null,""]
[null,""]
[null,""]
[null,""]
[null,""]
[null,""]
[null,""]
[null,""]
[null,""]
[null,""]
[null,""]
[null,""]
[null,""]
[null,""]
[null,""]
[null,""]
[null,""]
[null,""]
[null,""]
[null,""]
[null,""]
[null,""]
[null,""]
[null,""]
[]
[null,""]
[null,""]
[null,""]
[null,""]
[null,""]
[null,""]
[null,""]
[null,""]
[null,""]
[null,""]
[null,""]
[null,""]
[null,""]
[null,""]
[null,""]
[null,""]
[null,""]
[null,""]
[null,""]
[null,""]
[null,""]
[null,""]
[null,""]
[null,""]
[null,""]
[null,""]
[null,""]
[null,""]
[null,""]
[null,""]
[null,""]
[null,""]
[null,""]
[null,""]
[null,""]
[null,""]
[null,""]
[null,""]
[null,""]
[null,""]
[null,""]
[null,""]
[null,""]
[null,""]
[null,""]
[null,""]
[null,""]
[]
[null,""]
[null,""]
[null,""]
[null,""]
[null,""]
[null,""]
[null,""]
[null,""]
[null,""]
[null,""]
[null,""]
[null,""]
[null,""]
[null,""]
[null,""]
[null,""]
[null,""]
[null,""]
[null,""]
[null,""]
[null,""]
[null,""]
[null,""]
[null,""]
[null,""]
[null,""]
[null,""]
[null,""]
[null,""]
[null,""]
[null,""]
[null,""]
[null,""]
[null,""]
[null,""]
[null,""]
[null,""]
[null,""]
[null,""]
[null,""]
[null,""]
[null,""]
[null,""]
[null,""]
[null,""]
[null,""]
[null,""]
[]
[null,""]
[null,""]
[null,""]
[null,""]
[null,""]
[null,""]
[null,""]
[null,""]
[null,""]
[null,""]
[null,""]
[null,""]
[null,""]
[null,""]
[null,""]
[null,""]
[null,""]
[null,""]
[null,""]
[null,""]
[null,""]
[null,""]
[null,""]
[null,""]
[null,""]
[null,""]
[null,""]
[null,""]
[null,""]
[null,""]
[null,""]
[null,""]
[null,""]
[null,""]
[null,""]
[null,""]
[null,""]
[null,""]
[null,""]
[null,""]
[null,""]
[null,""]
[null,""]
[null,""]
[null,""]
[null,""]
[null,""]
[]
[null,""]
[null,""]
[null,""]
[null,""]
[null,""]
[null,""]
[null,""]
[null,""]
[null,""]
[null,""]
[null,""]
[null,""]
[null,""]
[null,""]
[null,""]
[null,""]
[null,""]
[null,""]
[null,""]
[null,""]
[null,""]
[null,""]
[null,""]
[null,""]
[null,""]
[null,""]
[null,""]
[null,""]
[null,""]
[null,""]
[null,""]
[null,""]
[null,""]
[null,""]
[null,""]
[null,""]
[null,""]
[null,""]
[null,""]
[null,""]
[null,""]
[null,""]
[null,""]
[null,""]
[null,""]
[null,""]
[null,""]
[]
[null,""]
[null,""]
[null,""]
[null,""]
[null,""]
[null,""]
[null,""]
[null,""]
[null,""]
[null,""]
[null,""]
[null,""]
[null,""]
[null,""]
[null,""]
[null,""]
[null,""]
[null,""]
[null,""]
[null,""]
[null,""]
[null,""]
[null,""]
[null,""]
[null,""]
[null,""]
[null,""]
[null,""]
[null,""]
[null,""]
[null,""]
[null,""]
[null,""]
[null,""]
[null,""]
[null,""]
[null,""]
[null,""]
[null,""]
[null,""]
[null,""]
[null,""]
[null,""]
[null,""]
[null,""]
[null,""]
[null,""]
[]
[null,""]
[null,""]
[null,""]
[null,""]
[null,""]
[null,""]
[null,""]
[null,""]
[null,""]
[null,""]
[null,""]
[null,""]
[null,""]
[null,""]
[null,""]
[null,""]
[null,""]
[null,""]
[null,""]
[null,""]
[null,""]
[null,""]
[null,""]
[null,""]
[null,""]
[null,""]
[null,""]
[null,""]
[null,""]
[null,""]
[null,""]
[null,""]
[null,""]
[null,""]
[null,""]
[null,""]
[null,""]
[null,""]
[null,""]
[null,""]
[null,""]
[null,""]
[null,""]
[null,""]
[null,""]
[null,""]
[null,""]
[]
[null,""]
[null,""]
[null,""]
[null,""]
[null,""]
[null,""]
[null,""]
[null,""]
[null,""]
[null,""]
[null,""]
[null,""]
[null,""]
[null,""]
[null,""]
[null,""]
[null,""]
[null,""]
[null,""]
[null,""]
[null,""]
[null,""]
[null,""]
[null,""]
[null,""]
[null,""]
[null,""]
[null,""]
[null,""]
[null,""]
[null,""]
[null,""]
[null,""]
[null,""]
[null,""]
[null,""]
[null,""]
[null,""]
[null,""]
[null,""]
[null,""]
[null,""]
[null,""]
[null,""]
[null,""]
[null,""]
[null,""]
[]
[null,""]
[null,""]
[null,""]
[null,""]
[null,""]
[null,""]
[null,""]
[null,""]
[null,""]
[null,""]
[null,""]
[null,""]
[null,""]
[null,""]
[null,""]
[null,""]
[null,""]
[null,""]
[null,""]
[null,""]
[null,""]
[null,""]
[null,""]
[null,""]
[null,""]
[null,""]
[null,""]
[null,""]
[null,""]
[null,""]
[null,""]
[null,""]
[null,""]
[null,""]
[null,""]
[null,""]
[null,""]
[null,""]
[null,""]
[null,""]
[null,""]
[null,""]
[null,""]
[null,""]
[null,""]
[null,""]
[null,""]
[]
[null,""]
[null,""]
[null,""]
[null,""]
[null,""]
[null,""]
[null,""]
[null,""]
[null,""]
[null,""]
[null,""]
[null,""]
[null,""]
[null,""]
[null,""]
[null,""]
[null,""]
[null,""]
[null,""]
[null,""]
[null,""]
[null,""]
[null,""]
[null,""]
[null,""]
[null,""]
[null,""]
[null,""]
[null,""]
[null,""]
[null,""]
[null,""]
[null,""]
[null,""]
[null,""]
[null,""]
[null,""]
[null,""]
[null,""]
[null,""]
[null,""]
[null,""]
[null,""]
[null,""]
[null,""]
[null,""]
[null,""]
[]
[null,""]
[null,""]
[null,""]
[null,""]
[null,""]
[null,""]
[null,""]
[null,""]
[null,""]
[null,""]
[null,""]
[null,""]
[null,""]
[null,""]
[null,""]
[null,""]
[null,""]
[null,""]
[null,""]
[null,""]
[null,""]
[null,""]
[null,""]
[null,""]
[null,""]
[null,""]
[null,""]
[null,""]
[null,""]
[null,""]
[null,""]
[null,""]
[null,""]
[null,""]
[null,""]
[null,""]
[null,""]
[null,""]
[null,""]
[null,""]
[null,""]
[null,""]
[null,""]
[null,""]
[null,""]
[null,""]
[null,""]
[]
[null,""]
[null,""]
[null,""]
[null,""]
[null,""]
[null,""]
[null,""]
[null,""]
[null,""]
[null,""]
[null,""]
[null,""]
[null,""]
[null,""]
[null,""]
[null,""]
[null,""]
[null,""]
[null,""]
[null,""]
[null,""]
[null,""]
[null,""]
[null,""]
[null,""]
[null,""]
[null,""]
[null,""]
[null,""]
[null,""]
[null,""]
[null,""]
[null,""]
[null,""]
[null,""]
[null,""]
[null,""]
[null,""]
[null,""]
[null,""]
[null,""]
[null,""]
[null,""]
[null,""]
[null,""]
[null,""]
[null,""]
[]
[null,""]
[null,""]
[null,""]
[null,""]
[null,""]
[null,""]
[null,""]
[null,""]
[null,""]
[null,""]
[null,""]
[null,""]
[null,""]
[null,""]
[null,""]
[null,""]
[null,""]
[null,""]
[null,""]
[null,""]
[null,""]
[null,""]
[null,""]
[null,""]
[null,""]
[null,""]
[null,""]
[null,""]
[null,""]
[null,""]
[null,""]
[null,""]
[null,""]
[null,""]
[null,""]
[null,""]
[null,""]
[null,""]
[null,""]
[null,""]
[null,""]
[null,""]
[null,""]
[null,""]
[null,""]
[null,""]
[null,""]
[]
[null,""]
[null,""]
[null,""]
[null,""]
[null,""]
[null,""]
[null,""]
[null,""]
[null,""]
[null,""]
[null,""]
[null,""]
[null,""]
[null,""]
[null,""]
[null,""]
[null,""]
[null,""]
[null,""]
[null,""]
[null,""]
[null,""]
[null,""]
[null,""]
[null,""]
[null,""]
[null,""]
[null,""]
[null,""]
[null,""]
[null,""]
[null,""]
[null,""]
[null,""]
[null,""]
[null,""]
[null,""]
[null,""]
[null,""]
[null,""]
[null,""]
[null,""]
[null,""]
[null,""]
[null,""]
[null,""]
[null,""]
[]
[null,""]
[null,""]
[null,""]
[null,""]
[null,""]
[null,""]
[null,""]
[null,""]
[null,""]
[null,""]
[null,""]
[null,""]
[null,""]
[null,""]
[null,""]
[null,""]
[null,""]
[null,""]
[null,""]
[null,""]
[null,""]
[null,""]
[null,""]
[null,""]
[null,""]
[null,""]
[null,""]
[null,""]
[null,""]
[null,""]
[null,""]
[null,""]
[null,""]
[null,""]
[null,""]
[null,""]
[null,""]
[null,""]
[null,""]
[null,""]
[null,""]
[null,""]
[null,""]
[null,""]
[null,""]
[null,""]
[null,""]
[]
[null,""]
[null,""]
[null,""]
[null,""]
[null,""]
[null,""]
[null,""]
[null,""]
[null,""]
[null,""]
[null,""]
[null,""]
[null,""]
[null,""]
[null,""]
[null,""]
[null,""]
[null,""]
[null,""]
[null,""]
[null,""]
[null,""]
[null,""]
[null,""]
[null,""]
[null,""]
[null,""]
[null,""]
[null,""]
[null,""]
[null,""]
[null,""]
[null,""]
[null,""]
[null,""]
[null,""]
[null,""]
[null,""]
[null,""]
[null,""]
[null,""]
[null,""]
[null,""]
[null,""]
[null,""]
[null,""]
[null,""]
[]
[null,""]
[null,""]
[null,""]
[null,""]
[null,""]
[null,""]
[null,""]
[null,""]
[null,""]
[null,""]
[null,""]
[null,""]
[null,""]
[null,""]
[null,""]
[null,""]
[null,""]
[null,""]
[null,""]
[null,""]
[null,""]
[null,""]
[null,""]
[null,""]
[null,""]
[null,""]
[null,""]
[null,""]
[null,""]
[null,""]
[null,""]
[null,""]
[null,""]
[null,""]
[null,""]
[null,""]
[null,""]
[null,""]
[null,""]
[null,""]
[null,""]
[null,""]
[null,""]
[null,""]
[null,""]
[null,""]
[null,""]
[]
[null,""]
[null,""]
[null,""]
[null,""]
[null,""]
[null,""]
[null,""]
[null,""]
[null,""]
[null,""]
[null,""]
[null,""]
[null,""]
[null,""]
[null,""]
[null,""]
[null,""]
[null,""]
[null,""]
[null,""]
[null,""]
[null,""]
[null,""]
[null,""]
[null,""]
[null,""]
[null,""]
[null,""]
[null,""]
[null,""]
[null,""]
[null,""]
[null,""]
[null,""]
[null,""]
[null,""]
[null,""]
[null,""]
[null,""]
[null,""]
[null,""]
[null,""]
[null,""]
[null,""]
[null,""]
[null,""]
[null,""]
[]
[null,""]
[null,""]
[null,""]
[null,""]
[null,""]
[null,""]
[null,""]
[null,""]
[null,""]
[null,""]
[null,""]
[null,""]
[null,""]
[null,""]
[null,""]
[null,""]
[null,""]
[null,""]
[null,""]
[null,""]
[null,""]
[null,""]
[null,""]
[null,""]
[null,""]
[null,""]
[null,""]
[null,""]
[null,""]
[null,""]
[null,""]
[null,""]
[null,""]
[null,""]
[null,""]
[null,""]
[null,""]
[null,""]
[null,""]
[null,""]
[null,""]
[null,""]
[null,""]
[null,""]
[null,""]
[null,""]
[null,""]
[]
[null,""]
[null,""]
[null,""]
[null,""]
[null,""]
[null,""]
[null,""]
[null,""]
[null,""]
[null,""]
[null,""]
[null,""]
[null,""]
[null,""]
[null,""]
[null,""]
[null,""]
[null,""]
[null,""]
[null,""]
[null,""]
[null,""]
[null,""]
[null,""]
[null,""]
[null,""]
[null,""]
[null,""]
[null,""]
[null,""]
[null,""]
[null,""]
[null,""]
[null,""]
[null,""]
[null,""]
[null,""]
[null,""]
[null,""]
[null,""]
[null,""]
[null,""]
[null,""]
[null,""]
[null,""]
[null,""]
[null,""]
[]
[null,""]
[null,""]
[null,""]
[null,""]
[null,""]
[null,""]
[null,""]
[null,""]
[null,""]
[null,""]
[null,""]
[null,""]
[null,""]
[null,""]
[null,""]
[null,""]
[null,""]
[null,""]
[null,""]
[null,""]
[null,""]
[null,""]
[null,""]
[null,""]
[null,""]
[null,""]
[null,""]
[null,""]
[null,""]
[null,""]
[null,""]
[null,""]
[null,""]
[null,""]
[null,""]
[null,""]
[null,""]
[null,""]
[null,""]
[null,""]
[null,""]
[null,""]
[null,""]
[null,""]
[null,""]
[null,""]
[null,""]
[]
[null,""]
[null,""]
[null,""]
[null,""]
[null,""]
[null,""]
[null,""]
[null,""]
[null,""]
[null,""]
[null,""]
[null,""]
[null,""]
[null,""]
[null,""]
[null,""]
[null,""]
[null,""]
[null,""]
[null,""]
[null,""]
[null,""]
[null,""]
[null,""]
[null,""]
[null,""]
[null,""]
[null,""]
[null,""]
[null,""]
[null,""]
[null,""]
[null,""]
[null,""]
[null,""]
[null,""]
[null,""]
[null,""]
[null,""]
[null,""]
[null,""]
[null,""]
[null,""]
[null,""]
[null,""]
[null,""]
[null,""]
[]
[null,""]
[null,""]
[null,""]
[null,""]
[null,""]
[null,""]
[null,""]
[null,""]
[null,""]
[null,""]
[null,""]
[null,""]
[null,""]
[null,""]
[null,""]
[null,""]
[null,""]
[null,""]
[null,""]
[null,""]
[null,""]
[null,""]
[null,""]
[null,""]
[null,""]
[null,""]
[null,""]
[null,""]
[null,""]
[null,""]
[null,""]
[null,""]
[null,""]
[null,""]
[null,""]
[null,""]
[null,""]
[null,""]
[null,""]
[null,""]
[null,""]
[null,""]
[null,""]
[null,""]
[null,""]
[null,""]
[null,""]
[]
[null,""]
[null,""]
[null,""]
[null,""]
[null,""]
[null,""]
[null,""]
[null,""]
[null,""]
[null,""]
[null,""]
[null,""]
[null,""]
[null,""]
[null,""]
[null,""]
[null,""]
[null,""]
[null,""]
[null,""]
[null,""]
[null,""]
[null,""]
[null,""]
[null,""]
[null,""]
[null,""]
[null,""]
[null,""]
[null,""]
[null,""]
[null,""]
[null,""]
[null,""]
[null,""]
[null,""]
[null,""]
[null,""]
[null,""]
[null,""]
[null,""]
[null,""]
[null,""]
[null,""]
[null,""]
[null,""]
[null,""]
[]
[null,""]
[null,""]
[null,""]
[null,""]
[null,""]
[null,""]
[null,""]
[null,""]
[null,""]
[null,""]
[null,""]
[null,""]
[null,""]
[null,""]
[null,""]
[null,""]
[null,""]
[null,""]
[null,""]
[null,""]
[null,""]
[null,""]
[null,""]
[null,""]
[null,""]
[null,""]
[null,""]
[null,""]
[null,""]
[null,""]
[null,""]
[null,""]
[null,""]
[null,""]
[null,""]
[null,""]
[null,""]
[null,""]
[null,""]
[null,""]
[null,""]
[null,""]
[null,""]
[null,""]
[null,""]
[null,""]
[null,""]
[]
[null,""]
[null,""]
[null,""]
[null,""]
[null,""]
[null,""]
[null,""]
[null,""]
[null,""]
[null,""]
[null,""]
[null,""]
[null,""]
[null,""]
[null,""]
[null,""]
[null,""]
[null,""]
[null,""]
[null,""]
[null,""]
[null,""]
[null,""]
[null,""]
[null,""]
[null,""]
[null,""]
[null,""]
[null,""]
[null,""]
[null,""]
[null,""]
[null,""]
[null,""]
[null,""]
[null,""]
[null,""]
[null,""]
[null,""]
[null,""]
[null,""]
[null,""]
[null,""]
[null,""]
[null,""]
[null,""]
[null,""]
[]
[null,""]
[null,""]
[null,""]
[null,""]
[null,""]
[null,""]
[null,""]
[null,""]
[null,""]
[null,""]
[null,""]
[null,""]
[null,""]
[null,""]
[null,""]
[null,""]
[null,""]
[null,""]
[null,""]
[null,""]
[null,""]
[null,""]
[null,""]
[null,""]
[null,""]
[null,""]
[null,""]
[null,""]
[null,""]
[null,""]
[null,""]
[null,""]
[null,""]
[null,""]
[null,""]
[null,""]
[null,""]
[null,""]
[null,""]
[null,""]
[null,""]
[null,""]
[null,""]
[null,""]
[null,""]
[null,""]
[null,""]
[]
[null,""]
[null,""]
[null,""]
[null,""]
[null,""]
[null,""]
[null,""]
[null,""]
[null,""]
[null,""]
[null,""]
[null,""]
[null,""]
[null,""]
[null,""]
[null,""]
[null,""]
[null,""]
[null,""]
[null,""]
[null,""]
[null,""]
[null,""]
[null,""]
[null,""]
[null,""]
[null,""]
[null,""]
[null,""]
[null,""]
[null,""]
[null,""]
[null,""]
[null,""]
[null,""]
[null,""]
[null,""]
[null,""]
[null,""]
[null,""]
[null,""]
[null,""]
[null,""]
[null,""]
[null,""]
[null,""]
[null,""]
[]
[null,""]
[null,""]
[null,""]
[null,""]
[null,""]
[null,""]
[null,""]
[null,""]
[null,""]
[null,""]
[null,""]
[null,""]
[null,""]
[null,""]
[null,""]
[null,""]
[null,""]
[null,""]
[null,""]
[null,""]
[null,""]
[null,""]
[null,""]
[null,""]
[null,""]
[null,""]
[null,""]
[null,""]
[null,""]
[null,""]
[null,""]
[null,""]
[null,""]
[null,""]
[null,""]
[null,""]
[null,""]
[null,""]
[null,""]
[null,""]
[null,""]
[null,""]
[null,""]
[null,""]
[null,""]
[null,""]
[null,""]
[]
[null,""]
[null,""]
[null,""]
[null,""]
[null,""]
[null,""]
[null,""]
[null,""]
[null,""]
[null,""]
[null,""]
[null,""]
[null,""]
[null,""]
[null,""]
[null,""]
[null,""]
[null,""]
[null,""]
[null,""]
[null,""]
[null,""]
[null,""]
[null,""]
[null,""]
[null,""]
[null,""]
[null,""]
[null,""]
[null,""]
[null,""]
[null,""]
[null,""]
[null,""]
[null,""]
[null,""]
[null,""]
[null,""]
[null,""]
[null,""]
[null,""]
[null,""]
[null,""]
[null,""]
[null,""]
[null,""]
[null,""]
[]
[null,""]
[null,""]
[null,""]
[null,""]
[null,""]
[null,""]
[null,""]
[null,""]
[null,""]
[null,""]
[null,""]
[null,""]
[null,""]
[null,""]
[null,""]
[null,""]
[null,""]
[null,""]
[null,""]
[null,""]
[null,""]
[null,""]
[null,""]
[null,""]
[null,""]
[null,""]
[null,""]
[null,""]
[null,""]
[null,""]
[null,""]
[null,""]
[null,""]
[null,""]
[null,""]
[null,""]
[null,""]
[null,""]
[null,""]
[null,""]
[null,""]
[null,""]
[null,""]
[null,""]
[null,""]
[null,""]
[null,""]
[]
[null,""]
[null,""]
[null,""]
[null,""]
[null,""]
[null,""]
[null,""]
[null,""]
[null,""]
[null,""]
[null,""]
[null,""]
[null,""]
[null,""]
[null,""]
[null,""]
[null,""]
[null,""]
[null,""]
[null,""]
[null,""]
[null,""]
[null,""]
[null,""]
[null,""]
[null,""]
[null,""]
[null,""]
[null,""]
[null,""]
[null,""]
[null,""]
[null,""]
[null,""]
[null,""]
[null,""]
[null,""]
[null,""]
[null,""]
[null,""]
[null,""]
[null,""]
[null,""]
[null,""]
[null,""]
[null,""]
[null,""]
[]
[null,""]
[null,""]
[null,""]
[null,""]
[null,""]
[null,""]
[null,""]
[null,""]
[null,""]
[null,""]
[null,""]
[null,""]
[null,""]
[null,""]
[null,""]
[null,""]
[null,""]
[null,""]
[null,""]
[null,""]
[null,""]
[null,""]
[null,""]
[null,""]
[null,""]
[null,""]
[null,""]
[null,""]
[null,""]
[null,""]
[null,""]
[null,""]
[null,""]
[null,""]
[null,""]
[null,""]
[null,""]
[null,""]
[null,""]
[null,""]
[null,""]
[null,""]
[null,""]
[null,""]
[null,""]
[null,""]
[null,""]
[]
[null,""]
[null,""]
[null,""]
[null,""]
[null,""]
[null,""]
[null,""]
[null,""]
[null,""]
[null,""]
[null,""]
[null,""]
[null,""]
[null,""]
[null,""]
[null,""]
[null,""]
[null,""]
[null,""]
[null,""]
[null,""]
[null,""]
[null,""]
[null,""]
[null,""]
[null,""]
[null,""]
[null,""]
[null,""]
[null,""]
[null,""]
[null,""]
[null,""]
[null,""]
[null,""]
[null,""]
[null,""]
[null,""]
[null,""]
[null,""]
[null,""]
[null,""]
[null,""]
[null,""]
[null,""]
[null,""]
[null,""]
[]
[null,""]
[null,""]
[null,""]
[null,""]
[null,""]
[null,""]
[null,""]
[null,""]
[null,""]
[null,""]
[null,""]
[null,""]
[null,""]
[null,""]
[null,""]
[null,""]
[null,""]
[null,""]
[null,""]
[null,""]
[null,""]
[null,""]
[null,""]
[null,""]
[null,""]
[null,""]
[null,""]
[null,""]
[null,""]
[null,""]
[null,""]
[null,""]
[null,""]
[null,""]
[null,""]
[null,""]
[null,""]
[null,""]
[null,""]
[null,""]
[null,""]
[null,""]
[null,""]
[null,""]
[null,""]
[null,""]
[null,""]
[]
[null,""]
[null,""]
[null,""]
[null,""]
[null,""]
[null,""]
[null,""]
[null,""]
[null,""]
[null,""]
[null,""]
[null,""]
[null,""]
[null,""]
[null,""]
[null,""]
[null,""]
[null,""]
[null,""]
[null,""]
[null,""]
[null,""]
[null,""]
[null,""]
[null,""]
[null,""]
[null,""]
[null,""]
[null,""]
[null,""]
[null,""]
[null,""]
[null,""]
[null,""]
[null,""]
[null,""]
[null,""]
[null,""]
[null,""]
[null,""]
[null,""]
[null,""]
[null,""]
[null,""]
[null,""]
[null,""]
[null,""]
[]
[null,""]
[null,""]
[null,""]
[null,""]
[null,""]
[null,""]
[null,""]
[null,""]
[null,""]
[null,""]
[null,""]
[null,""]
[null,""]
[null,""]
[null,""]
[null,""]
[null,""]
[null,""]
[null,""]
[null,""]
[null,""]
[null,""]
[null,""]
[null,""]
[null,""]
[null,""]
[null,""]
[null,""]
[null,""]
[null,""]
[null,""]
[null,""]
[null,""]
[null,""]
[null,""]
[null,""]
[null,""]
[null,""]
[null,""]
[null,""]
[null,""]
[null,""]
[null,""]
[null,""]
[null,""]
[null,""]
[null,""]
[]
[null,""]
[null,""]
[null,""]
[null,""]
[null,""]
[null,""]
[null,""]
[null,""]
[null,""]
[null,""]
[null,""]
[null,""]
[null,""]
[null,""]
[null,""]
[null,""]
[null,""]
[null,""]
[null,""]
[null,""]
[null,""]
[null,""]
[null,""]
[null,""]
[null,""]
[null,""]
[null,""]
[null,""]
[null,""]
[null,""]
[null,""]
[null,""]
[null,""]
[null,""]
[null,""]
[null,""]
[null,""]
[null,""]
[null,""]
[null,""]
[null,""]
[null,""]
[null,""]
[null,""]
[null,""]
[null,""]
[null,""]
[]
[null,""]
[null,""]
[null,""]
[null,""]
[null,""]
[null,""]
[null,""]
[null,""]
[null,""]
[null,""]
[null,""]
[null,""]
[null,""]
[null,""]
[null,""]
[null,""]
[null,""]
[null,""]
[null,""]
[null,""]
[null,""]
[null,""]
[null,""]
[null,""]
[null,""]
[null,""]
[null,""]
[null,""]
[null,""]
[null,""]
[null,""]
[null,""]
[null,""]
[null,""]
[null,""]
[null,""]
[null,""]
[null,""]
[null,""]
[null,""]
[null,""]
[null,""]
[null,""]
[null,""]
[null,""]
[null,""]
[null,""]
[]
[null,""]
[null,""]
[null,""]
[null,""]
[null,""]
[null,""]
[null,""]
[null,""]
[null,""]
[null,""]
[null,""]
[null,""]
[null,""]
[null,""]
[null,""]
[null,""]
[null,""]
[null,""]
[null,""]
[null,""]
[null,""]
[null,""]
[null,""]
[null,""]
[null,""]
[null,""]
[null,""]
[null,""]
[null,""]
[null,""]
[null,""]
[null,""]
[null,""]
[null,""]
[null,""]
[null,""]
[null,""]
[null,""]
[null,""]
[null,""]
[null,""]
[null,""]
[null,""]
[null,""]
[null,""]
[null,""]
[null,""]
[]
[null,""]
[null,""]
[null,""]
[null,""]
[null,""]
[null,""]
[null,""]
[null,""]
[null,""]
[null,""]
[null,""]
[null,""]
[null,""]
[null,""]
[null,""]
[null,""]
[null,""]
[null,""]
[null,""]
[null,""]
[null,""]
[null,""]
[null,""]
[null,""]
[null,""]
[null,""]
[null,""]
[null,""]
[null,""]
[null,""]
[null,""]
[null,""]
[null,""]
[null,""]
[null,""]
[null,""]
[null,""]
[null,""]
[null,""]
[null,""]
[null,""]
[null,""]
[null,""]
[null,""]
[null,""]
[null,""]
[null,""]
[]
[null,""]
[null,""]
[null,""]
[null,""]
[null,""]
[null,""]
[null,""]
[null,""]
[null,""]
[null,""]
[null,""]
[null,""]
[null,""]
[null,""]
[null,""]
[null,""]
[null,""]
[null,""]
[null,""]
[null,""]
[null,""]
[null,""]
[null,""]
[null,""]
[null,""]
[null,""]
[null,""]
[null,""]
[null,""]
[null,""]
[null,""]
[null,""]
[null,""]
[null,""]
[null,""]
[null,""]
[null,""]
[null,""]
[null,""]
[null,""]
[null,""]
[null,""]
[null,""]
[null,""]
[null,""]
[null,""]
[null,""]
[]
[null,""]
[null,""]
[null,""]
[null,""]
[null,""]
[null,""]
[null,""]
[null,""]
[null,""]
[null,""]
[null,""]
[null,""]
[null,""]
[null,""]
[null,""]
[null,""]
[null,""]
[null,""]
[null,""]
[null,""]
[null,""]
[null,""]
[null,""]
[null,""]
[null,""]
[null,""]
[null,""]
[null,""]
[null,""]
[null,""]
[null,""]
[null,""]
[null,""]
[null,""]
[null,""]
[null,""]
[null,""]
[null,""]
[null,""]
[null,""]
[null,""]
[null,""]
[null,""]
[null,""]
[null,""]
[null,""]
[null,""]
[]
[null,""]
[null,""]
[null,""]
[null,""]
[null,""]
[null,""]
[null,""]
[null,""]
[null,""]
[null,""]
[null,""]
[null,""]
[null,""]
[null,""]
[null,""]
[null,""]
[null,""]
[null,""]
[null,""]
[null,""]
[null,""]
[null,""]
[null,""]
[null,""]
[null,""]
[null,""]
[null,""]
[null,""]
[null,""]
[null,""]
[null,""]
[null,""]
[null,""]
[null,""]
[null,""]
[null,""]
[null,""]
[null,""]
[null,""]
[null,""]
[null,""]
[null,""]
[null,""]
[null,""]
[null,""]
[null,""]
[null,""]
[]
[null,""]
[null,""]
[null,""]
[null,""]
[null,""]
[null,""]
[null,""]
[null,""]
[null,""]
[null,""]
[null,""]
[null,""]
[null,""]
[null,""]
[null,""]
[null,""]
[null,""]
[null,""]
[null,""]
[null,""]
[null,""]
[null,""]
[null,""]
[null,""]
[null,""]
[null,""]
[null,""]
[null,""]
[null,""]
[null,""]
[null,""]
[null,""]
[null,""]
[null,""]
[null,""]
[null,""]
[null,""]
[null,""]
[null,""]
[null,""]
[null,""]
[null,""]
[null,""]
[null,""]
[null,""]
[null,""]
[null,""]
[]
[null,""]
[null,""]
[null,""]
[null,""]
[null,""]
[null,""]
[null,""]
[null,""]
[null,""]
[null,""]
[null,""]
[null,""]
[null,""]
[null,""]
[null,""]
[null,""]
[null,""]
[null,""]
[null,""]
[null,""]
[null,""]
[null,""]
[null,""]
[null,""]
[null,""]
[null,""]
[null,""]
[null,""]
[null,""]
[null,""]
[null,""]
[null,""]
[null,""]
[null,""]
[null,""]
[null,""]
[null,""]
[null,""]
[null,""]
[null,""]
[null,""]
[null,""]
[null,""]
[null,""]
[null,""]
[null,""]
[null,""]
[]
[null,""]
[null,""]
[null,""]
[null,""]
[null,""]
[null,""]
[null,""]
[null,""]
[null,""]
[null,""]
[null,""]
[null,""]
[null,""]
[null,""]
[null,""]
[null,""]
[null,""]
[null,""]
[null,""]
[null,""]
[null,""]
[null,""]
[null,""]
[null,""]
[null,""]
[null,""]
[null,""]
[null,""]
[null,""]
[null,""]
[null,""]
[null,""]
[null,""]
[null,""]
[null,""]
[null,""]
[null,""]
[null,""]
[null,""]
[null,""]
[null,""]
[null,""]
[null,""]
[null,""]
[null,""]
[null,""]
[null,""]
[]
[null,""]
[null,""]
[null,""]
[null,""]
[null,""]
[null,""]
[null,""]
[null,""]
[null,""]
[null,""]
[null,""]
[null,""]
[null,""]
[null,""]
[null,""]
[null,""]
[null,""]
[null,""]
[null,""]
[null,""]
[null,""]
[null,""]
[null,""]
[null,""]
[null,""]
[null,""]
[null,""]
[null,""]
[null,""]
[null,""]
[null,""]
[null,""]
[null,""]
[null,""]
[null,""]
[null,""]
[null,""]
[null,""]
[null,""]
[null,""]
[null,""]
[null,""]
[null,""]
[null,""]
[null,""]
[null,""]
[null,""]
[]
[null,""]
[null,""]
[null,""]
[null,""]
[null,""]
[null,""]
[null,""]
[null,""]
[null,""]
[null,""]
[null,""]
[null,""]
[null,""]
[null,""]
[null,""]
[null,""]
[null,""]
[null,""]
[null,""]
[null,""]
[null,""]
[null,""]
[null,""]
[null,""]
[null,""]
[null,""]
[null,""]
[null,""]
[null,""]
[null,""]
[null,""]
[null,""]
[null,""]
[null,""]
[null,""]
[null,""]
[null,""]
[null,""]
[null,""]
[null,""]
[null,""]
[null,""]
[null,""]
[null,""]
[null,""]
[null,""]
[null,""]
[]
[null,""]
[null,""]
[null,""]
[null,""]
[null,""]
[null,""]
[null,""]
[null,""]
[null,""]
[null,""]
[null,""]
[null,""]
[null,""]
[null,""]
[null,""]
[null,""]
[null,""]
[null,""]
[null,""]
[null,""]
[null,""]
[null,""]
[null,""]
[null,""]
[null,""]
[null,""]
[null,""]
[null,""]
[null,""]
[null,""]
[null,""]
[null,""]
[null,""]
[null,""]
[null,""]
[null,""]
[null,""]
[null,""]
[null,""]
[null,""]
[null,""]
[null,""]
[null,""]
[null,""]
[null,""]
[null,""]
[null,""]
[]
[null,""]
[null,""]
[null,""]
[null,""]
[null,""]
[null,""]
[null,""]
[null,""]
[null,""]
[null,""]
[null,""]
[null,""]
[null,""]
[null,""]
[null,""]
[null,""]
[null,""]
[null,""]
[null,""]
[null,""]
[null,""]
[null,""]
[null,""]
[null,""]
[null,""]
[null,""]
[null,""]
[null,""]
[null,""]
[null,""]
[null,""]
[null,""]
[null,""]
[null,""]
[null,""]
[null,""]
[null,""]
[null,""]
[null,""]
[null,""]
[null,""]
[null,""]
[null,""]
[null,""]
[null,""]
[null,""]
[null,""]
[]
[null,""]
[null,""]
[null,""]
[null,""]
[null,""]
[null,""]
[null,""]
[null,""]
[null,""]
[null,""]
[null,""]
[null,""]
[null,""]
[null,""]
[null,""]
[null,""]
[null,""]
[null,""]
[null,""]
[null,""]
[null,""]
[null,""]
[null,""]
[null,""]
[null,""]
[null,""]
[null,""]
[null,""]
[null,""]
[null,""]
[null,""]
[null,""]
[null,""]
[null,""]
[null,""]
[null,""]
[null,""]
[null,""]
[null,""]
[null,""]
[null,""]
[null,""]
[null,""]
[null,""]
[null,""]
[null,""]
[null,""]
[]
[null,""]
[null,""]
[null,""]
[null,""]
[null,""]
[null,""]
[null,""]
[null,""]
[null,""]
[null,""]
[null,""]
[null,""]
[null,""]
[null,""]
[null,""]
[null,""]
[null,""]
[null,""]
[null,""]
[null,""]
[null,""]
[null,""]
[null,""]
[null,""]
[null,""]
[null,""]
[null,""]
[null,""]
[null,""]
[null,""]
[null,""]
[null,""]
[null,""]
[null,""]
[null,""]
[null,""]
[null,""]
[null,""]
[null,""]
[null,""]
[null,""]
[null,""]
[null,""]
[null,""]
[null,""]
[null,""]
[null,""]
[]
[null,""]
[null,""]
[null,""]
[null,""]
[null,""]
[null,""]
[null,""]
[null,""]
[null,""]
[null,""]
[null,""]
[null,""]
[null,""]
[null,""]
[null,""]
[null,""]
[null,""]
[null,""]
[null,""]
[null,""]
[null,""]
[null,""]
[null,""]
[null,""]
[null,""]
[null,""]
[null,""]
[null,""]
[null,""]
[null,""]
[null,""]
[null,""]
[null,""]
[null,""]
[null,""]
[null,""]
[null,""]
[null,""]
[null,""]
[null,""]
[null,""]
[null,""]
[null,""]
[null,""]
[null,""]
[null,""]
[null,""]
[]
[null,""]
[null,""]
[null,""]
[null,""]
[null,""]
[null,""]
[null,""]
[null,""]
[null,""]
[null,""]
[null,""]
[null,""]
[null,""]
[null,""]
[null,""]
[null,""]
[null,""]
[null,""]
[null,""]
[null,""]
[null,""]
[null,""]
[null,""]
[null,""]
[null,""]
[null,""]
[null,""]
[null,""]
[null,""]
[null,""]
[null,""]
[null,""]
[null,""]
[null,""]
[null,""]
[null,""]
[null,""]
[null,""]
[null,""]
[null,""]
[null,""]
[null,""]
[null,""]
[null,""]
[null,""]
[null,""]
[null,""]
[]
[null,""]
[null,""]
[null,""]
[null,""]
[null,""]
[null,""]
[null,""]
[null,""]
[null,""]
[null,""]
[null,""]
[null,""]
[null,""]
[null,""]
[null,""]
[null,""]
[null,""]
[null,""]
[null,""]
[null,""]
[null,""]
[null,""]
[null,""]
[null,""]
[null,""]
[null,""]
[null,""]
[null,""]
[null,""]
[null,""]
[null,""]
[null,""]
[null,""]
[null,""]
[null,""]
[null,""]
[null,""]
[null,""]
[null,""]
[null,""]
[null,""]
[null,""]
[null,""]
[null,""]
[null,""]
[null,""]
[null,""]
[]
[null,""]
[null,""]
[null,""]
[null,""]
[null,""]
[null,""]
[null,""]
[null,""]
[null,""]
[null,""]
[null,""]
[null,""]
[null,""]
[null,""]
[null,""]
[null,""]
[null,""]
[null,""]
[null,""]
[null,""]
[null,""]
[null,""]
[null,""]
[null,""]
[null,""]
[null,""]
[null,""]
[null,""]
[null,""]
[null,""]
[null,""]
[null,""]
[null,""]
[null,""]
[null,""]
[null,""]
[null,""]
[null,""]
[null,""]
[null,""]
[null,""]
[null,""]
[null,""]
[null,""]
[null,""]
[null,""]
[null,""]
[]
[null,""]
[null,""]
[null,""]
[null,""]
[null,""]
[null,""]
[null,""]
[null,""]
[null,""]
[null,""]
[null,""]
[null,""]
[null,""]
[null,""]
[null,""]
[null,""]
[null,""]
[null,""]
[null,""]
[null,""]
[null,""]
[null,""]
[null,""]
[null,""]
[null,""]
[null,""]
[null,""]
[null,""]
[null,""]
[null,""]
[null,""]
[null,""]
[null,""]
[null,""]
[null,""]
[null,""]
[null,""]
[null,""]
[null,""]
[null,""]
[null,""]
[null,""]
[null,""]
[null,""]
[null,""]
[null,""]
[null,""]
[]
[null,""]
[null,""]
[null,""]
[null,""]
[null,""]
[null,""]
[null,""]
[null,""]
[null,""]
[null,""]
[null,""]
[null,""]
[null,""]
[null,""]
[null,""]
[null,""]
[null,""]
[null,""]
[null,""]
[null,""]
[null,""]
[null,""]
[null,""]
[null,""]
[null,""]
[null,""]
[null,""]
[null,""]
[null,""]
[null,""]
[null,""]
[null,""]
[null,""]
[null,""]
[null,""]
[null,""]
[null,""]
[null,""]
[null,""]
[null,""]
[null,""]
[null,""]
[null,""]
[null,""]
[null,""]
[null,""]
[null,""]
[]
[null,""]
[null,""]
[null,""]
[null,""]
[null,""]
[null,""]
[null,""]
[null,""]
[null,""]
[null,""]
[null,""]
[null,""]
[null,""]
[null,""]
[null,""]
[null,""]
[null,""]
[null,""]
[null,""]
[null,""]
[null,""]
[null,""]
[null,""]
[null,""]
[null,""]
[null,""]
[null,""]
[null,""]
[null,""]
[null,""]
[null,""]
[null,""]
[null,""]
[null,""]
[null,""]
[null,""]
[null,""]
[null,""]
[null,""]
[null,""]
[null,""]
[null,""]
[null,""]
[null,""]
[null,""]
[null,""]
[null,""]
[]
[null,""]
[null,""]
[null,""]
[null,""]
[null,""]
[null,""]
[null,""]
[null,""]
[null,""]
[null,""]
[null,""]
[null,""]
[null,""]
[null,""]
[null,""]
[null,""]
[null,""]
[null,""]
[null,""]
[null,""]
[null,""]
[null,""]
[null,""]
[null,""]
[null,""]
[null,""]
[null,""]
[null,""]
[null,""]
[null,""]
[null,""]
[null,""]
[null,""]
[null,""]
[null,""]
[null,""]
[null,""]
[null,""]
[null,""]
[null,""]
[null,""]
[null,""]
[null,""]
[null,""]
[null,""]
[null,""]
[null,""]
[]
[null,""]
[null,""]
[null,""]
[null,""]
[null,""]
[null,""]
[null,""]
[null,""]
[null,""]
[null,""]
[null,""]
[null,""]
[null,""]
[null,""]
[null,""]
[null,""]
[null,""]
[null,""]
[null,""]
[null,""]
[null,""]
[null,""]
[null,""]
[null,""]
[null,""]
[null,""]
[null,""]
[null,""]
[null,""]
[null,""]
[null,""]
[null,""]
[null,""]
[null,""]
[null,""]
[null,""]
[null,""]
[null,""]
[null,""]
[null,""]
[null,""]
[null,""]
[null,""]
[null,""]
[null,""]
[null,""]
[null,""]
[]
[null,""]
[null,""]
[null,""]
[null,""]
[null,""]
[null,""]
[null,""]
[null,""]
[null,""]
[null,""]
[null,""]
[null,""]
[null,""]
[null,""]
[null,""]
[null,""]
[null,""]
[null,""]
[null,""]
[null,""]
[null,""]
[null,""]
[null,""]
[null,""]
[null,""]
[null,""]
[null,""]
[null,""]
[null,""]
[null,""]
[null,""]
[null,""]
[null,""]
[null,""]
[null,""]
[null,""]
[null,""]
[null,""]
[null,""]
[null,""]
[null,""]
[null,""]
[null,""]
[null,""]
[null,""]
[null,""]
[null,""]
[]
[null,""]
[null,""]
[null,""]
[null,""]
[null,""]
[null,""]
[null,""]
[null,""]
[null,""]
[null,""]
[null,""]
[null,""]
[null,""]
[null,""]
[null,""]
[null,""]
[null,""]
[null,""]
[null,""]
[null,""]
[null,""]
[null,""]
[null,""]
[null,""]
[null,""]
[null,""]
[null,""]
[null,""]
[null,""]
[null,""]
[null,""]
[null,""]
[null,""]
[null,""]
[null,""]
[null,""]
[null,""]
[null,""]
[null,""]
[null,""]
[null,""]
[null,""]
[null,""]
[null,""]
[null,""]
[null,""]
[null,""]
[]
[null,""]
[null,""]
[null,""]
[null,""]
[null,""]
[null,""]
[null,""]
[null,""]
[null,""]
[null,""]
[null,""]
[null,""]
[null,""]
[null,""]
[null,""]
[null,""]
[null,""]
[null,""]
[null,""]
[null,""]
[null,""]
[null,""]
[null,""]
[null,""]
[null,""]
[null,""]
[null,""]
[null,""]
[null,""]
[null,""]
[null,""]
[null,""]
[null,""]
[null,""]
[null,""]
[null,""]
[null,""]
[null,""]
[null,""]
[null,""]
[null,""]
[null,""]
[null,""]
[null,""]
[null,""]
[null,""]
[null,""]
[]
[null,""]
[null,""]
[null,""]
[null,""]
[null,""]
[null,""]
[null,""]
[null,""]
[null,""]
[null,""]
[null,""]
[null,""]
[null,""]
[null,""]
[null,""]
[null,""]
[null,""]
[null,""]
[null,""]
[null,""]
[null,""]
[null,""]
[null,""]
[null,""]
[null,""]
[null,""]
[null,""]
[null,""]
[null,""]
[null,""]
[null,""]
[null,""]
[null,""]
[null,""]
[null,""]
[null,""]
[null,""]
[null,""]
[null,""]
[null,""]
[null,""]
[null,""]
[null,""]
[null,""]
[null,""]
[null,""]
[null,""]
[]
[null,""]
[null,""]
[null,""]
[null,""]
[null,""]
[null,""]
[null,""]
[null,""]
[null,""]
[null,""]
[null,""]
[null,""]
[null,""]
[null,""]
[null,""]
[null,""]
[null,""]
[null,""]
[null,""]
[null,""]
[null,""]
[null,""]
[null,""]
[null,""]
[null,""]
[null,""]
[null,""]
[null,""]
[null,""]
[null,""]
[null,""]
[null,""]
[null,""]
[null,""]
[null,""]
[null,""]
[null,""]
[null,""]
[null,""]
[null,""]
[null,""]
[null,""]
[null,""]
[null,""]
[null,""]
[null,""]
[null,""]
[]
[null,""]
[null,""]
[null,""]
[null,""]
[null,""]
[null,""]
[null,""]
[null,""]
[null,""]
[null,""]
[null,""]
[null,""]
[null,""]
[null,""]
[null,""]
[null,""]
[null,""]
[null,""]
[null,""]
[null,""]
[null,""]
[null,""]
[null,""]
[null,""]
[null,""]
[null,""]
[null,""]
[null,""]
[null,""]
[null,""]
[null,""]
[null,""]
[null,""]
[null,""]
[null,""]
[null,""]
[null,""]
[null,""]
[null,""]
[null,""]
[null,""]
[null,""]
[null,""]
[null,""]
[null,""]
[null,""]
[null,""]
[]
[null,""]
[null,""]
[null,""]
[null,""]
[null,""]
[null,""]
[null,""]
[null,""]
[null,""]
[null,""]
[null,""]
[null,""]
[null,""]
[null,""]
[null,""]
[null,""]
[null,""]
[null,""]
[null,""]
[null,""]
[null,""]
[null,""]
[null,""]
[null,""]
[null,""]
[null,""]
[null,""]
[null,""]
[null,""]
[null,""]
[null,""]
[null,""]
[null,""]
[null,""]
[null,""]
[null,""]
[null,""]
[null,""]
[null,""]
[null,""]
[null,""]
[null,""]
[null,""]
[null,""]
[null,""]
[null,""]
[null,""]
[]
[null,""]
[null,""]
[null,""]
[null,""]
[null,""]
[null,""]
[null,""]
[null,""]
[null,""]
[null,""]
[null,""]
[null,""]
[null,""]
[null,""]
[null,""]
[null,""]
[null,""]
[null,""]
[null,""]
[null,""]
[null,""]
[null,""]
[null,""]
[null,""]
[null,""]
[null,""]
[null,""]
[null,""]
[null,""]
[null,""]
[null,""]
[null,""]
[null,""]
[null,""]
[null,""]
[null,""]
[null,""]
[null,""]
[null,""]
[null,""]
[null,""]
[null,""]
[null,""]
[null,""]
[null,""]
[null,""]
[null,""]
[]
[null,""]
[null,""]
[null,""]
[null,""]
[null,""]
[null,""]
[null,""]
[null,""]
[null,""]
[null,""]
[null,""]
[null,""]
[null,""]
[null,""]
[null,""]
[null,""]
[null,""]
[null,""]
[null,""]
[null,""]
[null,""]
[null,""]
[null,""]
[null,""]
[null,""]
[null,""]
[null,""]
[null,""]
[null,""]
[null,""]
[null,""]
[null,""]
[null,""]
[null,""]
[null,""]
[null,""]
[null,""]
[null,""]
[null,""]
[null,""]
[null,""]
[null,""]
[null,""]
[null,""]
[null,""]
[null,""]
[null,""]
[]
[null,""]
[null,""]
[null,""]
[null,""]
[null,""]
[null,""]
[null,""]
[null,""]
[null,""]
[null,""]
[null,""]
[null,""]
[null,""]
[null,""]
[null,""]
[null,""]
[null,""]
[null,""]
[null,""]
[null,""]
[null,""]
[null,""]
[null,""]
[null,""]
[null,""]
[null,""]
[null,""]
[null,""]
[null,""]
[null,""]
[null,""]
[null,""]
[null,""]
[null,""]
[null,""]
[null,""]
[null,""]
[null,""]
[null,""]
[null,""]
[null,""]
[null,""]
[null,""]
[null,""]
[null,""]
[null,""]
[null,""]
[]
[null,""]
[null,""]
[null,""]
[null,""]
[null,""]
[null,""]
[null,""]
[null,""]
[null,""]
[null,""]
[null,""]
[null,""]
[null,""]
[null,""]
[null,""]
[null,""]
[null,""]
[null,""]
[null,""]
[null,""]
[null,""]
[null,""]
[null,""]
[null,""]
[null,""]
[null,""]
[null,""]
[null,""]
[null,""]
[null,""]
[null,""]
[null,""]
[null,""]
[null,""]
[null,""]
[null,""]
[null,""]
[null,""]
[null,""]
[null,""]
[null,""]
[null,""]
[null,""]
[null,""]
[null,""]
[null,""]
[null,""]
[]
[null,""]
[null,""]
[null,""]
[null,""]
[null,""]
[null,""]
[null,""]
[null,""]
[null,""]
[null,""]
[null,""]
[null,""]
[null,""]
[null,""]
[null,""]
[null,""]
[null,""]
[null,""]
[null,""]
[null,""]
[null,""]
[null,""]
[null,""]
[null,""]
[null,""]
[null,""]
[null,""]
[null,""]
[null,""]
[null,""]
[null,""]
[null,""]
[null,""]
[null,""]
[null,""]
[null,""]
[null,""]
[null,""]
[null,""]
[null,""]
[null,""]
[null,""]
[null,""]
[null,""]
[null,""]
[null,""]
[null,""]
[]
[null,""]
[null,""]
[null,""]
[null,""]
[null,""]
[null,""]
[null,""]
[null,""]
[null,""]
[null,""]
[null,""]
[null,""]
[null,""]
[null,""]
[null,""]
[null,""]
[null,""]
[null,""]
[null,""]
[null,""]
[null,""]
[null,""]
[null,""]
[null,""]
[null,""]
[null,""]
[null,""]
[null,""]
[null,""]
[null,""]
[null,""]
[null,""]
[null,""]
[null,""]
[null,""]
[null,""]
[null,""]
[null,""]
[null,""]
[null,""]
[null,""]
[null,""]
[null,""]
[null,""]
[null,""]
[null,""]
[null,""]
[]
[null,""]
[null,""]
[null,""]
[null,""]
[null,""]
[null,""]
[null,""]
[null,""]
[null,""]
[null,""]
[null,""]
[null,""]
[null,""]
[null,""]
[null,""]
[null,""]
[null,""]
[null,""]
[null,""]
[null,""]
[null,""]
[null,""]
[null,""]
[null,""]
[null,""]
[null,""]
[null,""]
[null,""]
[null,""]
[null,""]
[null,""]
[null,""]
[null,""]
[null,""]
[null,""]
[null,""]
[null,""]
[null,""]
[null,""]
[null,""]
[null,""]
[null,""]
[null,""]
[null,""]
[null,""]
[null,""]
[null,""]
[]
[null,""]
[null,""]
[null,""]
[null,""]
[null,""]
[null,""]
[null,""]
[null,""]
[null,""]
[null,""]
[null,""]
[null,""]
[null,""]
[null,""]
[null,""]
[null,""]
[null,""]
[null,""]
[null,""]
[null,""]
[null,""]
[null,""]
[null,""]
[null,""]
[null,""]
[null,""]
[null,""]
[null,""]
[null,""]
[null,""]
[null,""]
[null,""]
[null,""]
[null,""]
[null,""]
[null,""]
[null,""]
[null,""]
[null,""]
[null,""]
[null,""]
[null,""]
[null,""]
[null,""]
[null,""]
[null,""]
[null,""]
[]
[null,""]
[null,""]
[null,""]
[null,""]
[null,""]
[null,""]
[null,""]
[null,""]
[null,""]
[null,""]
[null,""]
[null,""]
[null,""]
[null,""]
[null,""]
[null,""]
[null,""]
[null,""]
[null,""]
[null,""]
[null,""]
[null,""]
[null,""]
[null,""]
[null,""]
[null,""]
[null,""]
[null,""]
[null,""]
[null,""]
[null,""]
[null,""]
[null,""]
[null,""]
[null,""]
[null,""]
[null,""]
[null,""]
[null,""]
[null,""]
[null,""]
[null,""]
[null,""]
[null,""]
[null,""]
[null,""]
[null,""]
[]
[null,""]
[null,""]
[null,""]
[null,""]
[null,""]
[null,""]
[null,""]
[null,""]
[null,""]
[null,""]
[null,""]
[null,""]
[null,""]
[null,""]
[null,""]
[null,""]
[null,""]
[null,""]
[null,""]
[null,""]
[null,""]
[null,""]
[null,""]
[null,""]
[null,""]
[null,""]
[null,""]
[null,""]
[null,""]
[null,""]
[null,""]
[null,""]
[null,""]
[null,""]
[null,""]
[null,""]
[null,""]
[null,""]
[null,""]
[null,""]
[null,""]
[null,""]
[null,""]
[null,""]
[null,""]
[null,""]
[null,""]
[]
[null,""]
[null,""]
[null,""]
[null,""]
[null,""]
[null,""]
[null,""]
[null,""]
[null,""]
[null,""]
[null,""]
[null,""]
[null,""]
[null,""]
[null,""]
[null,""]
[null,""]
[null,""]
[null,""]
[null,""]
[null,""]
[null,""]
[null,""]
[null,""]
[null,""]
[null,""]
[null,""]
[null,""]
[null,""]
[null,""]
[null,""]
[null,""]
[null,""]
[null,""]
[null,""]
[null,""]
[null,""]
[null,""]
[null,""]
[null,""]
[null,""]
[null,""]
[null,""]
[null,""]
[null,""]
[null,""]
[null,""]
[]
[null,""]
[null,""]
[null,""]
[null,""]
[null,""]
[null,""]
[null,""]
[null,""]
[null,""]
[null,""]
[null,""]
[null,""]
[null,""]
[null,""]
[null,""]
[null,""]
[null,""]
[null,""]
[null,""]
[null,""]
[null,""]
[null,""]
[null,""]
[null,""]
[null,""]
[null,""]
[null,""]
[null,""]
[null,""]
[null,""]
[null,""]
[null,""]
[null,""]
[null,""]
[null,""]
[null,""]
[null,""]
[null,""]
[null,""]
[null,""]
[null,""]
[null,""]
[null,""]
[null,""]
[null,""]
[null,""]
[null,""]
[]
[null,""]
[null,""]
[null,""]
[null,""]
[null,""]
[null,""]
[null,""]
[null,""]
[null,""]
[null,""]
[null,""]
[null,""]
[null,""]
[null,""]
[null,""]
[null,""]
[null,""]
[null,""]
[null,""]
[null,""]
[null,""]
[null,""]
[null,""]
[null,""]
[null,""]
[null,""]
[null,""]
[null,""]
[null,""]
[null,""]
[null,""]
[null,""]
[null,""]
[null,""]
[null,""]
[null,""]
[null,""]
[null,""]
[null,""]
[null,""]
[null,""]
[null,""]
[null,""]
[null,""]
[null,""]
[null,""]
[null,""]
[]
[null,""]
[null,""]
[null,""]
[null,""]
[null,""]
[null,""]
[null,""]
[null,""]
[null,""]
[null,""]
[null,""]
[null,""]
[null,""]
[null,""]
[null,""]
[null,""]
[null,""]
[null,""]
[null,""]
[null,""]
[null,""]
[null,""]
[null,""]
[null,""]
[null,""]
[null,""]
[null,""]
[null,""]
[null,""]
[null,""]
[null,""]
[null,""]
[null,""]
[null,""]
[null,""]
[null,""]
[null,""]
[null,""]
[null,""]
[null,""]
[null,""]
[null,""]
[null,""]
[null,""]
[null,""]
[null,""]
[null,""]
[]
[null,""]
[null,""]
[null,""]
[null,""]
[null,""]
[null,""]
[null,""]
[null,""]
[null,""]
[null,""]
[null,""]
[null,""]
[null,""]
[null,""]
[null,""]
[null,""]
[null,""]
[null,""]
[null,""]
[null,""]
[null,""]
[null,""]
[null,""]
[null,""]
[null,""]
[null,""]
[null,""]
[null,""]
[null,""]
[null,""]
[null,""]
[null,""]
[null,""]
[null,""]
[null,""]
[null,""]
[null,""]
[null,""]
[null,""]
[null,""]
[null,""]
[null,""]
[null,""]
[null,""]
[null,""]
[null,""]
[null,""]
[]
[null,""]
[null,""]
[null,""]
[null,""]
[null,""]
[null,""]
[null,""]
[null,""]
[null,""]
[null,""]
[null,""]
[null,""]
[null,""]
[null,""]
[null,""]
[null,""]
[null,""]
[null,""]
[null,""]
[null,""]
[null,""]
[null,""]
[null,""]
[null,""]
[null,""]
[null,""]
[null,""]
[null,""]
[null,""]
[null,""]
[null,""]
[null,""]
[null,""]
[null,""]
[null,""]
[null,""]
[null,""]
[null,""]
[null,""]
[null,""]
[null,""]
[null,""]
[null,""]
[null,""]
[null,""]
[null,""]
[null,""]
[]
[null,""]
[null,""]
[null,""]
[null,""]
[null,""]
[null,""]
[null,""]
[null,""]
[null,""]
[null,""]
[null,""]
[null,""]
[null,""]
[null,""]
[null,""]
[null,""]
[null,""]
[null,""]
[null,""]
[null,""]
[null,""]
[null,""]
[null,""]
[null,""]
[null,""]
[null,""]
[null,""]
[null,""]
[null,""]
[null,""]
[null,""]
[null,""]
[null,""]
[null,""]
[null,""]
[null,""]
[null,""]
[null,""]
[null,""]
[null,""]
[null,""]
[null,""]
[null,""]
[null,""]
[null,""]
[null,""]
[null,""]
[]
[null,""]
[null,""]
[null,""]
[null,""]
[null,""]
[null,""]
[null,""]
[null,""]
[null,""]
[null,""]
[null,""]
[null,""]
[null,""]
[null,""]
[null,""]
[null,""]
[null,""]
[null,""]
[null,""]
[null,""]
[null,""]
[null,""]
[null,""]
[null,""]
[null,""]
[null,""]
[null,""]
[null,""]
[null,""]
[null,""]
[null,""]
[null,""]
[null,""]
[null,""]
[null,""]
[null,""]
[null,""]
[null,""]
[null,""]
[null,""]
[null,""]
[null,""]
[null,""]
[null,""]
[null,""]
[null,""]
[null,""]
[]
[null,""]
[null,""]
[null,""]
[null,""]
[null,""]
[null,""]
[null,""]
[null,""]
[null,""]
[null,""]
[null,""]
[null,""]
[null,""]
[null,""]
[null,""]
[null,""]
[null,""]
[null,""]
[null,""]
[null,""]
[null,""]
[null,""]
[null,""]
[null,""]
[null,""]
[null,""]
[null,""]
[null,""]
[null,""]
[null,""]
[null,""]
[null,""]
[null,""]
[null,""]
[null,""]
[null,""]
[null,""]
[null,""]
[null,""]
[null,""]
[null,""]
[null,""]
[null,""]
[null,""]
[null,""]
[null,""]
[null,""]
[]
[null,""]
[null,""]
[null,""]
[null,""]
[null,""]
[null,""]
[null,""]
[null,""]
[null,""]
[null,""]
[null,""]
[null,""]
[null,""]
[null,""]
[null,""]
[null,""]
[null,""]
[null,""]
[null,""]
[null,""]
[null,""]
[null,""]
[null,""]
[null,""]
[null,""]
[null,""]
[null,""]
[null,""]
[null,""]
[null,""]
[null,""]
[null,""]
[null,""]
[null,""]
[null,""]
[null,""]
[null,""]
[null,""]
[null,""]
[null,""]
[null,""]
[null,""]
[null,""]
[null,""]
[null,""]
[null,""]
[null,""]
[]
[null,""]
[null,""]
[null,""]
[null,""]
[null,""]
[null,""]
[null,""]
[null,""]
[null,""]
[null,""]
[null,""]
[null,""]
[null,""]
[null,""]
[null,""]
[null,""]
[null,""]
[null,""]
[null,""]
[null,""]
[null,""]
[null,""]
[null,""]
[null,""]
[null,""]
[null,""]
[null,""]
[null,""]
[null,""]
[null,""]
[null,""]
[null,""]
[null,""]
[null,""]
[null,""]
[null,""]
[null,""]
[null,""]
[null,""]
[null,""]
[null,""]
[null,""]
[null,""]
[null,""]
[null,""]
[null,""]
[null,""]
[]
[null,""]
[null,""]
[null,""]
[null,""]
[null,""]
[null,""]
[null,""]
[null,""]
[null,""]
[null,""]
[null,""]
[null,""]
[null,""]
[null,""]
[null,""]
[null,""]
[null,""]
[null,""]
[null,""]
[null,""]
[null,""]
[null,""]
[null,""]
[null,""]
[null,""]
[null,""]
[null,""]
[null,""]
[null,""]
[null,""]
[null,""]
[null,""]
[null,""]
[null,""]
[null,""]
[null,""]
[null,""]
[null,""]
[null,""]
[null,""]
[null,""]
[null,""]
[null,""]
[null,""]
[null,""]
[null,""]
[null,""]
[]
[null,""]
[null,""]
[null,""]
[null,""]
[null,""]
[null,""]
[null,""]
[null,""]
[null,""]
[null,""]
[null,""]
[null,""]
[null,""]
[null,""]
[null,""]
[null,""]
[null,""]
[null,""]
[null,""]
[null,""]
[null,""]
[null,""]
[null,""]
[null,""]
[null,""]
[null,""]
[null,""]
[null,""]
[null,""]
[null,""]
[null,""]
[null,""]
[null,""]
[null,""]
[null,""]
[null,""]
[null,""]
[null,""]
[null,""]
[null,""]
[null,""]
[null,""]
[null,""]
[null,""]
[null,""]
[null,""]
[null,""]
[]
[null,""]
[null,""]
[null,""]
[null,""]
[null,""]
[null,""]
[null,""]
[null,""]
[null,""]
[null,""]
[null,""]
[null,""]
[null,""]
[null,""]
[null,""]
[null,""]
[null,""]
[null,""]
[null,""]
[null,""]
[null,""]
[null,""]
[null,""]
[null,""]
[null,""]
[null,""]
[null,""]
[null,""]
[null,""]
[null,""]
[null,""]
[null,""]
[null,""]
[null,""]
[null,""]
[null,""]
[null,""]
[null,""]
[null,""]
[null,""]
[null,""]
[null,""]
[null,""]
[null,""]
[null,""]
[null,""]
[null,""]
[]
[null,""]
[null,""]
[null,""]
[null,""]
[null,""]
[null,""]
[null,""]
[null,""]
[null,""]
[null,""]
[null,""]
[null,""]
[null,""]
[null,""]
[null,""]
[null,""]
[null,""]
[null,""]
[null,""]
[null,""]
[null,""]
[null,""]
[null,""]
[null,""]
[null,""]
[null,""]
[null,""]
[null,""]
[null,""]
[null,""]
[null,""]
[null,""]
[null,""]
[null,""]
[null,""]
[null,""]
[null,""]
[null,""]
[null,""]
[null,""]
[null,""]
[null,""]
[null,""]
[null,""]
[null,""]
[null,""]
[null,""]
[]
[null,""]
[null,""]
[null,""]
[null,""]
[null,""]
[null,""]
[null,""]
[null,""]
[null,""]
[null,""]
[null,""]
[null,""]
[null,""]
[null,""]
[null,""]
[null,""]
[null,""]
[null,""]
[null,""]
[null,""]
[null,""]
[null,""]
[null,""]
[null,""]
[null,""]
[null,""]
[null,""]
[null,""]
[null,""]
[null,""]
[null,""]
[null,""]
[null,""]
[null,""]
[null,""]
[null,""]
[null,""]
[null,""]
[null,""]
[null,""]
[null,""]
[null,""]
[null,""]
[null,""]
[null,""]
[null,""]
[null,""]
[]
[null,""]
[null,""]
[null,""]
[null,""]
[null,""]
[null,""]
[null,""]
[null,""]
[null,""]
[null,""]
[null,""]
[null,""]
[null,""]
[null,""]
[null,""]
[null,""]
[null,""]
[null,""]
[null,""]
[null,""]
[null,""]
[null,""]
[null,""]
[null,""]
[null,""]
[null,""]
[null,""]
[null,""]
[null,""]
[null,""]
[null,""]
[null,""]
[null,""]
[null,""]
[null,""]
[null,""]
[null,""]
[null,""]
[null,""]
[null,""]
[null,""]
[null,""]
[null,""]
[null,""]
[null,""]
[null,""]
[null,""]
[]
[null,""]
[null,""]
[null,""]
[null,""]
[null,""]
[null,""]
[null,""]
[null,""]
[null,""]
[null,""]
[null,""]
[null,""]
[null,""]
[null,""]
[null,""]
[null,""]
[null,""]
[null,""]
[null,""]
[null,""]
[null,""]
[null,""]
[null,""]
[null,""]
[null,""]
[null,""]
[null,""]
[null,""]
[null,""]
[null,""]
[null,""]
[null,""]
[null,""]
[null,""]
[null,""]
[null,""]
[null,""]
[null,""]
[null,""]
[null,""]
[null,""]
[null,""]
[null,""]
[null,""]
[null,""]
[null,""]
[null,""]
[]
[null,""]
[null,""]
[null,""]
[null,""]
[null,""]
[null,""]
[null,""]
[null,""]
[null,""]
[null,""]
[null,""]
[null,""]
[null,""]
[null,""]
[null,""]
[null,""]
[null,""]
[null,""]
[null,""]
[null,""]
[null,""]
[null,""]
[null,""]
[null,""]
[null,""]
[null,""]
[null,""]
[null,""]
[null,""]
[null,""]
[null,""]
[null,""]
[null,""]
[null,""]
[null,""]
[null,""]
[null,""]
[null,""]
[null,""]
[null,""]
[null,""]
[null,""]
[null,""]
[null,""]
[null,""]
[null,""]
[null,""]
[]
[null,""]
[null,""]
[null,""]
[null,""]
[null,""]
[null,""]
[null,""]
[null,""]
[null,""]
[null,""]
[null,""]
[null,""]
[null,""]
[null,""]
[null,""]
[null,""]
[null,""]
[null,""]
[null,""]
[null,""]
[null,""]
[null,""]
[null,""]
[null,""]
[null,""]
[null,""]
[null,""]
[null,""]
[null,""]
[null,""]
[null,""]
[null,""]
[null,""]
[null,""]
[null,""]
[null,""]
[null,""]
[null,""]
[null,""]
[null,""]
[null,""]
[null,""]
[null,""]
[null,""]
[null,""]
[null,""]
[null,""]
[]
[null,""]
[null,""]
[null,""]
[null,""]
[null,""]
[null,""]
[null,""]
[null,""]
[null,""]
[null,""]
[null,""]
[null,""]
[null,""]
[null,""]
[null,""]
[null,""]
[null,""]
[null,""]
[null,""]
[null,""]
[null,""]
[null,""]
[null,""]
[null,""]
[null,""]
[null,""]
[null,""]
[null,""]
[null,""]
[null,""]
[null,""]
[null,""]
[null,""]
[null,""]
[null,""]
[null,""]
[null,""]
[null,""]
[null,""]
[null,""]
[null,""]
[null,""]
[null,""]
[null,""]
[null,""]
[null,""]
[null,""]
[]
[null,""]
[null,""]
[null,""]
[null,""]
[null,""]
[null,""]
[null,""]
[null,""]
[null,""]
[null,""]
[null,""]
[null,""]
[null,""]
[null,""]
[null,""]
[null,""]
[null,""]
[null,""]
[null,""]
[null,""]
[null,""]
[null,""]
[null,""]
[null,""]
[null,""]
[null,""]
[null,""]
[null,""]
[null,""]
[null,""]
[null,""]
[null,""]
[null,""]
[null,""]
[null,""]
[null,""]
[null,""]
[null,""]
[null,""]
[null,""]
[null,""]
[null,""]
[null,""]
[null,""]
[null,""]
[null,""]
[null,""]
[]
[null,""]
[null,""]
[null,""]
[null,""]
[null,""]
[null,""]
[null,""]
[null,""]
[null,""]
[null,""]
[null,""]
[null,""]
[null,""]
[null,""]
[null,""]
[null,""]
[null,""]
[null,""]
[null,""]
[null,""]
[null,""]
[null,""]
[null,""]
[null,""]
[null,""]
[null,""]
[null,""]
[null,""]
[null,""]
[null,""]
[null,""]
[null,""]
[null,""]
[null,""]
[null,""]
[null,""]
[null,""]
[null,""]
[null,""]
[null,""]
[null,""]
[null,""]
[null,""]
[null,""]
[null,""]
[null,""]
[null,""]
[]
[null,""]
[null,""]
[null,""]
[null,""]
[null,""]
[null,""]
[null,""]
[null,""]
[null,""]
[null,""]
[null,""]
[null,""]
[null,""]
[null,""]
[null,""]
[null,""]
[null,""]
[null,""]
[null,""]
[null,""]
[null,""]
[null,""]
[null,""]
[null,""]
[null,""]
[null,""]
[null,""]
[null,""]
[null,""]
[null,""]
[null,""]
[null,""]
[null,""]
[null,""]
[null,""]
[null,""]
[null,""]
[null,""]
[null,""]
[null,""]
[null,""]
[null,""]
[null,""]
[null,""]
[null,""]
[null,""]
[null,""]
[]
[null,""]
[null,""]
[null,""]
[null,""]
[null,""]
[null,""]
[null,""]
[null,""]
[null,""]
[null,""]
[null,""]
[null,""]
[null,""]
[null,""]
[null,""]
[null,""]
[null,""]
[null,""]
[null,""]
[null,""]
[null,""]
[null,""]
[null,""]
[null,""]
[null,""]
[null,""]
[null,""]
[null,""]
[null,""]
[null,""]
[null,""]
[null,""]
[null,""]
[null,""]
[null,""]
[null,""]
[null,""]
[null,""]
[null,""]
[null,""]
[null,""]
[null,""]
[null,""]
[null,""]
[null,""]
[null,""]
[null,""]
[]
[null,""]
[null,""]
[null,""]
[null,""]
[null,""]
[null,""]
[null,""]
[null,""]
[null,""]
[null,""]
[null,""]
[null,""]
[null,""]
[null,""]
[null,""]
[null,""]
[null,""]
[null,""]
[null,""]
[null,""]
[null,""]
[null,""]
[null,""]
[null,""]
[null,""]
[null,""]
[null,""]
[null,""]
[null,""]
[null,""]
[null,""]
[null,""]
[null,""]
[null,""]
[null,""]
[null,""]
[null,""]
[null,""]
[null,""]
[null,""]
[null,""]
[null,""]
[null,""]
[null,""]
[null,""]
[null,""]
[null,""]
[]
[null,""]
[null,""]
[null,""]
[null,""]
[null,""]
[null,""]
[null,""]
[null,""]
[null,""]
[null,""]
[null,""]
[null,""]
[null,""]
[null,""]
[null,""]
[null,""]
[null,""]
[null,""]
[null,""]
[null,""]
[null,""]
[null,""]
[null,""]
[null,""]
[null,""]
[null,""]
[null,""]
[null,""]
[null,""]
[null,""]
[null,""]
[null,""]
[null,""]
[null,""]
[null,""]
[null,""]
[null,""]
[null,""]
[null,""]
[null,""]
[null,""]
[null,""]
[null,""]
[null,""]
[null,""]
[null,""]
[null,""]
[]
[null,""]
[null,""]
[null,""]
[null,""]
[null,""]
[null,""]
[null,""]
[null,""]
[null,""]
[null,""]
[null,""]
[null,""]
[null,""]
[null,""]
[null,""]
[null,""]
[null,""]
[null,""]
[null,""]
[null,""]
[null,""]
[null,""]
[null,""]
[null,""]
[null,""]
[null,""]
[null,""]
[null,""]
[null,""]
[null,""]
[null,""]
[null,""]
[null,""]
[null,""]
[null,""]
[null,""]
[null,""]
[null,""]
[null,""]
[null,""]
[null,""]
[null,""]
[null,""]
[null,""]
[null,""]
[null,""]
[null,""]
[]
[null,""]
[null,""]
[null,""]
[null,""]
[null,""]
[null,""]
[null,""]
[null,""]
[null,""]
[null,""]
[null,""]
[null,""]
[null,""]
[null,""]
[null,""]
[null,""]
[null,""]
[null,""]
[null,""]
[null,""]
[null,""]
[null,""]
[null,""]
[null,""]
[null,""]
[null,""]
[null,""]
[null,""]
[null,""]
[null,""]
[null,""]
[null,""]
[null,""]
[null,""]
[null,""]
[null,""]
[null,""]
[null,""]
[null,""]
[null,""]
[null,""]
[null,""]
[null,""]
[null,""]
[null,""]
[null,""]
[null,""]
[]
[null,""]
[null,""]
[null,""]
[null,""]
[null,""]
[null,""]
[null,""]
[null,""]
[null,""]
[null,""]
[null,""]
[null,""]
[null,""]
[null,""]
[null,""]
[null,""]
[null,""]
[null,""]
[null,""]
[null,""]
[null,""]
[null,""]
[null,""]
[null,""]
[null,""]
[null,""]
[null,""]
[null,""]
[null,""]
[null,""]
[null,""]
[null,""]
[null,""]
[null,""]
[null,""]
[null,""]
[null,""]
[null,""]
[null,""]
[null,""]
[null,""]
[null,""]
[null,""]
[null,""]
[null,""]
[null,""]
[null,""]
[]
[null,""]
[null,""]
[null,""]
[null,""]
[null,""]
[null,""]
[null,""]
[null,""]
[null,""]
[null,""]
[null,""]
[null,""]
[null,""]
[null,""]
[null,""]
[null,""]
[null,""]
[null,""]
[null,""]
[null,""]
[null,""]
[null,""]
[null,""]
[null,""]
[null,""]
[null,""]
[null,""]
[null,""]
[null,""]
[null,""]
[null,""]
[null,""]
[null,""]
[null,""]
[null,""]
[null,""]
[null,""]
[null,""]
[null,""]
[null,""]
[null,""]
[null,""]
[null,""]
[null,""]
[null,""]
[null,""]
[null,""]
[]
[null,""]
[null,""]
[null,""]
[null,""]
[null,""]
[null,""]
[null,""]
[null,""]
[null,""]
[null,""]
[null,""]
[null,""]
[null,""]
[null,""]
[null,""]
[null,""]
[null,""]
[null,""]
[null,""]
[null,""]
[null,""]
[null,""]
[null,""]
[null,""]
[null,""]
[null,""]
[null,""]
[null,""]
[null,""]
[null,""]
[null,""]
[null,""]
[null,""]
[null,""]
[null,""]
[null,""]
[null,""]
[null,""]
[null,""]
[null,""]
[null,""]
[null,""]
[null,""]
[null,""]
[null,""]
[null,""]
[null,""]
[]
[null,""]
[null,""]
[null,""]
[null,""]
[null,""]
[null,""]
[null,""]
[null,""]
[null,""]
[null,""]
[null,""]
[null,""]
[null,""]
[null,""]
[null,""]
[null,""]
[null,""]
[null,""]
[null,""]
[null,""]
[null,""]
[null,""]
[null,""]
[null,""]
[null,""]
[null,""]
[null,""]
[null,""]
[null,""]
[null,""]
[null,""]
[null,""]
[null,""]
[null,""]
[null,""]
[null,""]
[null,""]
[null,""]
[null,""]
[null,""]
[null,""]
[null,""]
[null,""]
[null,""]
[null,""]
[null,""]
[null,""]
[]
[null,""]
[null,""]
[null,""]
[null,""]
[null,""]
[null,""]
[null,""]
[null,""]
[null,""]
[null,""]
[null,""]
[null,""]
[null,""]
[null,""]
[null,""]
[null,""]
[null,""]
[null,""]
[null,""]
[null,""]
[null,""]
[null,""]
[null,""]
[null,""]
[null,""]
[null,""]
[null,""]
[null,""]
[null,""]
[null,""]
[null,""]
[null,""]
[null,""]
[null,""]
[null,""]
[null,""]
[null,""]
[null,""]
[null,""]
[null,""]
[null,""]
[null,""]
[null,""]
[null,""]
[null,""]
[null,""]
[null,""]
[]
[null,""]
[null,""]
[null,""]
[null,""]
[null,""]
[null,""]
[null,""]
[null,""]
[null,""]
[null,""]
[null,""]
[null,""]
[null,""]
[null,""]
[null,""]
[null,""]
[null,""]
[null,""]
[null,""]
[null,""]
[null,""]
[null,""]
[null,""]
[null,""]
[null,""]
[null,""]
[null,""]
[null,""]
[null,""]
[null,""]
[null,""]
[null,""]
[null,""]
[null,""]
[null,""]
[null,""]
[null,""]
[null,""]
[null,""]
[null,""]
[null,""]
[null,""]
[null,""]
[null,""]
[null,""]
[null,""]
[null,""]
[]
[null,""]
[null,""]
[null,""]
[null,""]
[null,""]
[null,""]
[null,""]
[null,""]
[null,""]
[null,""]
[null,""]
[null,""]
[null,""]
[null,""]
[null,""]
[null,""]
[null,""]
[null,""]
[null,""]
[null,""]
[null,""]
[null,""]
[null,""]
[null,""]
[null,""]
[null,""]
[null,""]
[null,""]
[null,""]
[null,""]
[null,""]
[null,""]
[null,""]
[null,""]
[null,""]
[null,""]
[null,""]
[null,""]
[null,""]
[null,""]
[null,""]
[null,""]
[null,""]
[null,""]
[null,""]
[null,""]
[null,""]
[]
[null,""]
[null,""]
[null,""]
[null,""]
[null,""]
[null,""]
[null,""]
[null,""]
[null,""]
[null,""]
[null,""]
[null,""]
[null,""]
[null,""]
[null,""]
[null,""]
[null,""]
[null,""]
[null,""]
[null,""]
[null,""]
[null,""]
[null,""]
[null,""]
[null,""]
[null,""]
[null,""]
[null,""]
[null,""]
[null,""]
[null,""]
[null,""]
[null,""]
[null,""]
[null,""]
[null,""]
[null,""]
[null,""]
[null,""]
[null,""]
[null,""]
[null,""]
[null,""]
[null,""]
[null,""]
[null,""]
[null,""]
[]
[null,""]
[null,""]
[null,""]
[null,""]
[null,""]
[null,""]
[null,""]
[null,""]
[null,""]
[null,""]
[null,""]
[null,""]
[null,""]
[null,""]
[null,""]
[null,""]
[null,""]
[null,""]
[null,""]
[null,""]
[null,""]
[null,""]
[null,""]
[null,""]
[null,""]
[null,""]
[null,""]
[null,""]
[null,""]
[null,""]
[null,""]
[null,""]
[null,""]
[null,""]
[null,""]
[null,""]
[null,""]
[null,""]
[null,""]
[null,""]
[null,""]
[null,""]
[null,""]
[null,""]
[null,""]
[null,""]
[null,""]
[]
[null,""]
[null,""]
[null,""]
[null,""]
[null,""]
[null,""]
[null,""]
[null,""]
[null,""]
[null,""]
[null,""]
[null,""]
[null,""]
[null,""]
[null,""]
[null,""]
[null,""]
[null,""]
[null,""]
[null,""]
[null,""]
[null,""]
[null,""]
[null,""]
[null,""]
[null,""]
[null,""]
[null,""]
[null,""]
[null,""]
[null,""]
[null,""]
[null,""]
[null,""]
[null,""]
[null,""]
[null,""]
[null,""]
[null,""]
[null,""]
[null,""]
[null,""]
[null,""]
[null,""]
[null,""]
[null,""]
[null,""]
[]
[null,""]
[null,""]
[null,""]
[null,""]
[null,""]
[null,""]
[null,""]
[null,""]
[null,""]
[null,""]
[null,""]
[null,""]
[null,""]
[null,""]
[null,""]
[null,""]
[null,""]
[null,""]
[null,""]
[null,""]
[null,""]
[null,""]
[null,""]
[null,""]
[null,""]
[null,""]
[null,""]
[null,""]
[null,""]
[null,""]
[null,""]
[null,""]
[null,""]
[null,""]
[null,""]
[null,""]
[null,""]
[null,""]
[null,""]
[null,""]
[null,""]
[null,""]
[null,""]
[null,""]
[null,""]
[null,""]
[null,""]
[]
[null,""]
[null,""]
[null,""]
[null,""]
[null,""]
[null,""]
[null,""]
[null,""]
[null,""]
[null,""]
[null,""]
[null,""]
[null,""]
[null,""]
[null,""]
[null,""]
[null,""]
[null,""]
[null,""]
[null,""]
[null,""]
[null,""]
[null,""]
[null,""]
[null,""]
[null,""]
[null,""]
[null,""]
[null,""]
[null,""]
[null,""]
[null,""]
[null,""]
[null,""]
[null,""]
[null,""]
[null,""]
[null,""]
[null,""]
[null,""]
[null,""]
[null,""]
[null,""]
[null,""]
[null,""]
[null,""]
[null,""]
[]
[null,""]
[null,""]
[null,""]
[null,""]
[null,""]
[null,""]
[null,""]
[null,""]
[null,""]
[null,""]
[null,""]
[null,""]
[null,""]
[null,""]
[null,""]
[null,""]
[null,""]
[null,""]
[null,""]
[null,""]
[null,""]
[null,""]
[null,""]
[null,""]
[null,""]
[null,""]
[null,""]
[null,""]
[null,""]
[null,""]
[null,""]
[null,""]
[null,""]
[null,""]
[null,""]
[null,""]
[null,""]
[null,""]
[null,""]
[null,""]
[null,""]
[null,""]
[null,""]
[null,""]
[null,""]
[null,""]
[null,""]
[]
[null,""]
[null,""]
[null,""]
[null,""]
[null,""]
[null,""]
[null,""]
[null,""]
[null,""]
[null,""]
[null,""]
[null,""]
[null,""]
[null,""]
[null,""]
[null,""]
[null,""]
[null,""]
[null,""]
[null,""]
[null,""]
[null,""]
[null,""]
[null,""]
[null,""]
[null,""]
[null,""]
[null,""]
[null,""]
[null,""]
[null,""]
[null,""]
[null,""]
[null,""]
[null,""]
[null,""]
[null,""]
[null,""]
[null,""]
[null,""]
[null,""]
[null,""]
[null,""]
[null,""]
[null,""]
[null,""]
[null,""]
[]
[null,""]
[null,""]
[null,""]
[null,""]
[null,""]
[null,""]
[null,""]
[null,""]
[null,""]
[null,""]
[null,""]
[null,""]
[null,""]
[null,""]
[null,""]
[null,""]
[null,""]
[null,""]
[null,""]
[null,""]
[null,""]
[null,""]
[null,""]
[null,""]
[null,""]
[null,""]
[null,""]
[null,""]
[null,""]
[null,""]
[null,""]
[null,""]
[null,""]
[null,""]
[null,""]
[null,""]
[null,""]
[null,""]
[null,""]
[null,""]
[null,""]
[null,""]
[null,""]
[null,""]
[null,""]
[null,""]
[null,""]
[]
[null,""]
[null,""]
[null,""]
[null,""]
[null,""]
[null,""]
[null,""]
[null,""]
[null,""]
[null,""]
[null,""]
[null,""]
[null,""]
[null,""]
[null,""]
[null,""]
[null,""]
[null,""]
[null,""]
[null,""]
[null,""]
[null,""]
[null,""]
[null,""]
[null,""]
[null,""]
[null,""]
[null,""]
[null,""]
[null,""]
[null,""]
[null,""]
[null,""]
[null,""]
[null,""]
[null,""]
[null,""]
[null,""]
[null,""]
[null,""]
[null,""]
[null,""]
[null,""]
[null,""]
[null,""]
[null,""]
[null,""]
[]
[null,""]
[null,""]
[null,""]
[null,""]
[null,""]
[null,""]
[null,""]
[null,""]
[null,""]
[null,""]
[null,""]
[null,""]
[null,""]
[null,""]
[null,""]
[null,""]
[null,""]
[null,""]
[null,""]
[null,""]
[null,""]
[null,""]
[null,""]
[null,""]
[null,""]
[null,""]
[null,""]
[null,""]
[null,""]
[null,""]
[null,""]
[null,""]
[null,""]
[null,""]
[null,""]
[null,""]
[null,""]
[null,""]
[null,""]
[null,""]
[null,""]
[null,""]
[null,""]
[null,""]
[null,""]
[null,""]
[null,""]
[]
[null,""]
[null,""]
[null,""]
[null,""]
[null,""]
[null,""]
[null,""]
[null,""]
[null,""]
[null,""]
[null,""]
[null,""]
[null,""]
[null,""]
[null,""]
[null,""]
[null,""]
[null,""]
[null,""]
[null,""]
[null,""]
[null,""]
[null,""]
[null,""]
[null,""]
[null,""]
[null,""]
[null,""]
[null,""]
[null,""]
[null,""]
[null,""]
[null,""]
[null,""]
[null,""]
[null,""]
[null,""]
[null,""]
[null,""]
[null,""]
[null,""]
[null,""]
[null,""]
[null,""]
[null,""]
[null,""]
[null,""]
[]
[null,""]
[null,""]
[null,""]
[null,""]
[null,""]
[null,""]
[null,""]
[null,""]
[null,""]
[null,""]
[null,""]
[null,""]
[null,""]
[null,""]
[null,""]
[null,""]
[null,""]
[null,""]
[null,""]
[null,""]
[null,""]
[null,""]
[null,""]
[null,""]
[null,""]
[null,""]
[null,""]
[null,""]
[null,""]
[null,""]
[null,""]
[null,""]
[null,""]
[null,""]
[null,""]
[null,""]
[null,""]
[null,""]
[null,""]
[null,""]
[null,""]
[null,""]
[null,""]
[null,""]
[null,""]
[null,""]
[null,""]
[]
[null,""]
[null,""]
[null,""]
[null,""]
[null,""]
[null,""]
[null,""]
[null,""]
[null,""]
[null,""]
[null,""]
[null,""]
[null,""]
[null,""]
[null,""]
[null,""]
[null,""]
[null,""]
[null,""]
[null,""]
[null,""]
[null,""]
[null,""]
[null,""]
[null,""]
[null,""]
[null,""]
[null,""]
[null,""]
[null,""]
[null,""]
[null,""]
[null,""]
[null,""]
[null,""]
[null,""]
[null,""]
[null,""]
[null,""]
[null,""]
[null,""]
[null,""]
[null,""]
[null,""]
[null,""]
[null,""]
[null,""]
[]
[null,""]
[null,""]
[null,""]
[null,""]
[null,""]
[null,""]
[null,""]
[null,""]
[null,""]
[null,""]
[null,""]
[null,""]
[null,""]
[null,""]
[null,""]
[null,""]
[null,""]
[null,""]
[null,""]
[null,""]
[null,""]
[null,""]
[null,""]
[null,""]
[null,""]
[null,""]
[null,""]
[null,""]
[null,""]
[null,""]
[null,""]
[null,""]
[null,""]
[null,""]
[null,""]
[null,""]
[null,""]
[null,""]
[null,""]
[null,""]
[null,""]
[null,""]
[null,""]
[null,""]
[null,""]
[null,""]
[null,""]
[]
[null,""]
[null,""]
[null,""]
[null,""]
[null,""]
[null,""]
[null,""]
[null,""]
[null,""]
[null,""]
[null,""]
[null,""]
[null,""]
[null,""]
[null,""]
[null,""]
[null,""]
[null,""]
[null,""]
[null,""]
[null,""]
[null,""]
[null,""]
[null,""]
[null,""]
[null,""]
[null,""]
[null,""]
[null,""]
[null,""]
[null,""]
[null,""]
[null,""]
[null,""]
[null,""]
[null,""]
[null,""]
[null,""]
[null,""]
[null,""]
[null,""]
[null,""]
[null,""]
[null,""]
[null,""]
[null,""]
[null,""]
[]
[null,""]
[null,""]
[null,""]
[null,""]
[null,""]
[null,""]
[null,""]
[null,""]
[null,""]
[null,""]
[null,""]
[null,""]
[null,""]
[null,""]
[null,""]
[null,""]
[null,""]
[null,""]
[null,""]
[null,""]
[null,""]
[null,""]
[null,""]
[null,""]
[null,""]
[null,""]
[null,""]
[null,""]
[null,""]
[null,""]
[null,""]
[null,""]
[null,""]
[null,""]
[null,""]
[null,""]
[null,""]
[null,""]
[null,""]
[null,""]
[null,""]
[null,""]
[null,""]
[null,""]
[null,""]
[null,""]
[null,""]
[]
[null,""]
[null,""]
[null,""]
[null,""]
[null,""]
[null,""]
[null,""]
[null,""]
[null,""]
[null,""]
[null,""]
[null,""]
[null,""]
[null,""]
[null,""]
[null,""]
[null,""]
[null,""]
[null,""]
[null,""]
[null,""]
[null,""]
[null,""]
[null,""]
[null,""]
[null,""]
[null,""]
[null,""]
[null,""]
[null,""]
[null,""]
[null,""]
[null,""]
[null,""]
[null,""]
[null,""]
[null,""]
[null,""]
[null,""]
[null,""]
[null,""]
[null,""]
[null,""]
[null,""]
[null,""]
[null,""]
[null,""]
[]
[null,""]
[null,""]
[null,""]
[null,""]
[null,""]
[null,""]
[null,""]
[null,""]
[null,""]
[null,""]
[null,""]
[null,""]
[null,""]
[null,""]
[null,""]
[null,""]
[null,""]
[null,""]
[null,""]
[null,""]
[null,""]
[null,""]
[null,""]
[null,""]
[null,""]
[null,""]
[null,""]
[null,""]
[null,""]
[null,""]
[null,""]
[null,""]
[null,""]
[null,""]
[null,""]
[null,""]
[null,""]
[null,""]
[null,""]
[null,""]
[null,""]
[null,""]
[null,""]
[null,""]
[null,""]
[null,""]
[null,""]
[]
[null,""]
[null,""]
[null,""]
[null,""]
[null,""]
[null,""]
[null,""]
[null,""]
[null,""]
[null,""]
[null,""]
[null,""]
[null,""]
[null,""]
[null,""]
[null,""]
[null,""]
[null,""]
[null,""]
[null,""]
[null,""]
[null,""]
[null,""]
[null,""]
[null,""]
[null,""]
[null,""]
[null,""]
[null,""]
[null,""]
[null,""]
[null,""]
[null,""]
[null,""]
[null,""]
[null,""]
[null,""]
[null,""]
[null,""]
[null,""]
[null,""]
[null,""]
[null,""]
[null,""]
[null,""]
[null,""]
[null,""]
[]
[null,""]
[null,""]
[null,""]
[null,""]
[null,""]
[null,""]
[null,""]
[null,""]
[null,""]
[null,""]
[null,""]
[null,""]
[null,""]
[null,""]
[null,""]
[null,""]
[null,""]
[null,""]
[null,""]
[null,""]
[null,""]
[null,""]
[null,""]
[null,""]
[null,""]
[null,""]
[null,""]
[null,""]
[null,""]
[null,""]
[null,""]
[null,""]
[null,""]
[null,""]
[null,""]
[null,""]
[null,""]
[null,""]
[null,""]
[null,""]
[null,""]
[null,""]
[null,""]
[null,""]
[null,""]
[null,""]
[null,""]
[]
[null,""]
[null,""]
[null,""]
[null,""]
[null,""]
[null,""]
[null,""]
[null,""]
[null,""]
[null,""]
[null,""]
[null,""]
[null,""]
[null,""]
[null,""]
[null,""]
[null,""]
[null,""]
[null,""]
[null,""]
[null,""]
[null,""]
[null,""]
[null,""]
[null,""]
[null,""]
[null,""]
[null,""]
[null,""]
[null,""]
[null,""]
[null,""]
[null,""]
[null,""]
[null,""]
[null,""]
[null,""]
[null,""]
[null,""]
[null,""]
[null,""]
[null,""]
[null,""]
[null,""]
[null,""]
[null,""]
[null,""]
[]
[null,""]
[null,""]
[null,""]
[null,""]
[null,""]
[null,""]
[null,""]
[null,""]
[null,""]
[null,""]
[null,""]
[null,""]
[null,""]
[null,""]
[null,""]
[null,""]
[null,""]
[null,""]
[null,""]
[null,""]
[null,""]
[null,""]
[null,""]
[null,""]
[null,""]
[null,""]
[null,""]
[null,""]
[null,""]
[null,""]
[null,""]
[null,""]
[null,""]
[null,""]
[null,""]
[null,""]
[null,""]
[null,""]
[null,""]
[null,""]
[null,""]
[null,""]
[null,""]
[null,""]
[null,""]
[null,""]
[null,""]
[]
[null,""]
[null,""]
[null,""]
[null,""]
[null,""]
[null,""]
[null,""]
[null,""]
[null,""]
[null,""]
[null,""]
[null,""]
[null,""]
[null,""]
[null,""]
[null,""]
[null,""]
[null,""]
[null,""]
[null,""]
[null,""]
[null,""]
[null,""]
[null,""]
[null,""]
[null,""]
[null,""]
[null,""]
[null,""]
[null,""]
[null,""]
[null,""]
[null,""]
[null,""]
[null,""]
[null,""]
[null,""]
[null,""]
[null,""]
[null,""]
[null,""]
[null,""]
[null,""]
[null,""]
[null,""]
[null,""]
[null,""]
[]
[null,""]
[null,""]
[null,""]
[null,""]
[null,""]
[null,""]
[null,""]
[null,""]
[null,""]
[null,""]
[null,""]
[null,""]
[null,""]
[null,""]
[null,""]
[null,""]
[null,""]
[null,""]
[null,""]
[null,""]
[null,""]
[null,""]
[null,""]
[null,""]
[null,""]
[null,""]
[null,""]
[null,""]
[null,""]
[null,""]
[null,""]
[null,""]
[null,""]
[null,""]
[null,""]
[null,""]
[null,""]
[null,""]
[null,""]
[null,""]
[null,""]
[null,""]
[null,""]
[null,""]
[null,""]
[null,""]
[null,""]
[]
[null,""]
[null,""]
[null,""]
[null,""]
[null,""]
[null,""]
[null,""]
[null,""]
[null,""]
[null,""]
[null,""]
[null,""]
[null,""]
[null,""]
[null,""]
[null,""]
[null,""]
[null,""]
[null,""]
[null,""]
[null,""]
[null,""]
[null,""]
[null,""]
[null,""]
[null,""]
[null,""]
[null,""]
[null,""]
[null,""]
[null,""]
[null,""]
[null,""]
[null,""]
[null,""]
[null,""]
[null,""]
[null,""]
[null,""]
[null,""]
[null,""]
[null,""]
[null,""]
[null,""]
[null,""]
[null,""]
[null,""]
[]
[null,""]
[null,""]
[null,""]
[null,""]
[null,""]
[null,""]
[null,""]
[null,""]
[null,""]
[null,""]
[null,""]
[null,""]
[null,""]
[null,""]
[null,""]
[null,""]
[null,""]
[null,""]
[null,""]
[null,""]
[null,""]
[null,""]
[null,""]
[null,""]
[null,""]
[null,""]
[null,""]
[null,""]
[null,""]